BEGIN:VCALENDAR
VERSION:2.0
PRODID:-//Exposition Park - ECPv6.15.20//NONSGML v1.0//EN
CALSCALE:GREGORIAN
METHOD:PUBLISH
X-ORIGINAL-URL:https://expositionpark.ca.gov
X-WR-CALDESC:Events for Exposition Park
REFRESH-INTERVAL;VALUE=DURATION:PT1H
X-Robots-Tag:noindex
X-PUBLISHED-TTL:PT1H
BEGIN:VTIMEZONE
TZID:America/Los_Angeles
BEGIN:DAYLIGHT
TZOFFSETFROM:-0800
TZOFFSETTO:-0700
TZNAME:PDT
DTSTART:20150308T100000
END:DAYLIGHT
BEGIN:STANDARD
TZOFFSETFROM:-0700
TZOFFSETTO:-0800
TZNAME:PST
DTSTART:20151101T090000
END:STANDARD
BEGIN:DAYLIGHT
TZOFFSETFROM:-0800
TZOFFSETTO:-0700
TZNAME:PDT
DTSTART:20160313T100000
END:DAYLIGHT
BEGIN:STANDARD
TZOFFSETFROM:-0700
TZOFFSETTO:-0800
TZNAME:PST
DTSTART:20161106T090000
END:STANDARD
BEGIN:DAYLIGHT
TZOFFSETFROM:-0800
TZOFFSETTO:-0700
TZNAME:PDT
DTSTART:20170312T100000
END:DAYLIGHT
BEGIN:STANDARD
TZOFFSETFROM:-0700
TZOFFSETTO:-0800
TZNAME:PST
DTSTART:20171105T090000
END:STANDARD
END:VTIMEZONE
BEGIN:VEVENT
DTSTART;TZID=America/Los_Angeles:20160213T180000
DTEND;TZID=America/Los_Angeles:20160214T020000
DTSTAMP:20260421T091530
CREATED:20160120T000818Z
LAST-MODIFIED:20160120T000818Z
UID:10043556-1455386400-1455415200@expositionpark.ca.gov
SUMMARY:Baile de San Valentin ? Valentine?s Day Dance
DESCRIPTION:Parking: TBD  Attendees: 7\,500
URL:https://expositionpark.ca.gov/event/baile-de-san-valentin-valentines-day-dance/
LOCATION:Coliseum\, 3911 South Figueroa Street\, Los Angeles\, CA\, 90037\, United States
ORGANIZER;CN="Kevin Daly":MAILTO:kevind@usc.edu
GEO:34.0128523;-118.2845395
X-APPLE-STRUCTURED-LOCATION;VALUE=URI;X-ADDRESS=Coliseum 3911 South Figueroa Street Los Angeles CA 90037 United States;X-APPLE-RADIUS=500;X-TITLE=3911 South Figueroa Street:geo:-118.2845395,34.0128523
END:VEVENT
BEGIN:VEVENT
DTSTART;TZID=America/Los_Angeles:20160214T183000
DTEND;TZID=America/Los_Angeles:20160214T213000
DTSTAMP:20260421T091530
CREATED:20160209T173123Z
LAST-MODIFIED:20160209T173123Z
UID:10043697-1455474600-1455485400@expositionpark.ca.gov
SUMMARY:EXo’luXion
DESCRIPTION:Exo Planet ＃2 – The Exo’luxion\nIn Concert At The\nLos Angeles Memorial Sports Arena\nSunday\, February 14th – 6:30pm\nParking Opens at 12:00pm\n$25 Cash Only\nDoors Open at 4:30pm\nCheck out TICKETMASTER.COM for Tickets\nExplore Exo’luxion on Facebook for Fan Info!\nAttendees: 12\,000 \nParking: $25 – Lot 4\, Lot 6\, VPS
URL:https://expositionpark.ca.gov/event/exoluxion/
LOCATION:Sports Arena\, 3939 South Figueroa St.\, Los Angeles\, 90037
GEO:34.0125891;-118.2847481
X-APPLE-STRUCTURED-LOCATION;VALUE=URI;X-ADDRESS=Sports Arena 3939 South Figueroa St. Los Angeles 90037;X-APPLE-RADIUS=500;X-TITLE=3939 South Figueroa St.:geo:-118.2847481,34.0125891
END:VEVENT
END:VCALENDAR