BEGIN:VCALENDAR
VERSION:2.0
PRODID:-//Exposition Park - ECPv6.15.20//NONSGML v1.0//EN
CALSCALE:GREGORIAN
METHOD:PUBLISH
X-ORIGINAL-URL:https://expositionpark.ca.gov
X-WR-CALDESC:Events for Exposition Park
REFRESH-INTERVAL;VALUE=DURATION:PT1H
X-Robots-Tag:noindex
X-PUBLISHED-TTL:PT1H
BEGIN:VTIMEZONE
TZID:America/Los_Angeles
BEGIN:DAYLIGHT
TZOFFSETFROM:-0800
TZOFFSETTO:-0700
TZNAME:PDT
DTSTART:20150308T100000
END:DAYLIGHT
BEGIN:STANDARD
TZOFFSETFROM:-0700
TZOFFSETTO:-0800
TZNAME:PST
DTSTART:20151101T090000
END:STANDARD
BEGIN:DAYLIGHT
TZOFFSETFROM:-0800
TZOFFSETTO:-0700
TZNAME:PDT
DTSTART:20160313T100000
END:DAYLIGHT
BEGIN:STANDARD
TZOFFSETFROM:-0700
TZOFFSETTO:-0800
TZNAME:PST
DTSTART:20161106T090000
END:STANDARD
BEGIN:DAYLIGHT
TZOFFSETFROM:-0800
TZOFFSETTO:-0700
TZNAME:PDT
DTSTART:20170312T100000
END:DAYLIGHT
BEGIN:STANDARD
TZOFFSETFROM:-0700
TZOFFSETTO:-0800
TZNAME:PST
DTSTART:20171105T090000
END:STANDARD
END:VTIMEZONE
BEGIN:VEVENT
DTSTART;TZID=America/Los_Angeles:20160305T093000
DTEND;TZID=America/Los_Angeles:20160305T170000
DTSTAMP:20260421T121102
CREATED:20160218T171600Z
LAST-MODIFIED:20160218T171600Z
UID:10043752-1457170200-1457197200@expositionpark.ca.gov
SUMMARY:Birthday
DESCRIPTION:Celebrate Your Birthday at the Museum!\nWhether you or your child dreams of someday becoming a world-renowned paleontologist or has a love affair with butterflies\, celebrating your birthday at the Museum is an experience of a lifetime! \nParties are at 10 am\, 12:30 pm\, and 3 pm. To celebrate a birthday on weekdays at the La Brea Tar Pits and Museum\, please call 213.763.3536.
URL:https://expositionpark.ca.gov/event/birthday-3/
LOCATION:Natural History Museum\, 900 Exposition Blvd\, Los Angeles\, CA\, 90037\, United States
GEO:34.0170769;-118.2886818
X-APPLE-STRUCTURED-LOCATION;VALUE=URI;X-ADDRESS=Natural History Museum 900 Exposition Blvd Los Angeles CA 90037 United States;X-APPLE-RADIUS=500;X-TITLE=900 Exposition Blvd:geo:-118.2886818,34.0170769
END:VEVENT
BEGIN:VEVENT
DTSTART;TZID=America/Los_Angeles:20160305T103000
DTEND;TZID=America/Los_Angeles:20160305T133000
DTSTAMP:20260421T121102
CREATED:20160205T163409Z
LAST-MODIFIED:20160205T163409Z
UID:10043642-1457173800-1457184600@expositionpark.ca.gov
SUMMARY:Scavenger's Safari
DESCRIPTION:Only available to Patron Family level members and higher.
URL:https://expositionpark.ca.gov/event/scavengers-safari/
LOCATION:Natural History Museum\, 900 Exposition Blvd\, Los Angeles\, CA\, 90037\, United States
GEO:34.0170769;-118.2886818
X-APPLE-STRUCTURED-LOCATION;VALUE=URI;X-ADDRESS=Natural History Museum 900 Exposition Blvd Los Angeles CA 90037 United States;X-APPLE-RADIUS=500;X-TITLE=900 Exposition Blvd:geo:-118.2886818,34.0170769
END:VEVENT
BEGIN:VEVENT
DTSTART;TZID=America/Los_Angeles:20160305T160000
DTEND;TZID=America/Los_Angeles:20160306T000000
DTSTAMP:20260421T121102
CREATED:20160120T000819Z
LAST-MODIFIED:20160212T000336Z
UID:10043565-1457193600-1457222400@expositionpark.ca.gov
SUMMARY:Wedding
DESCRIPTION:Parking: Car Park\nAttendees: 250
URL:https://expositionpark.ca.gov/event/wedding-4/
LOCATION:Natural History Museum\, 900 Exposition Blvd\, Los Angeles\, CA\, 90037\, United States
ORGANIZER;CN="Desiree Ocampo":MAILTO:cmancini@nhm.org
GEO:34.0170769;-118.2886818
X-APPLE-STRUCTURED-LOCATION;VALUE=URI;X-ADDRESS=Natural History Museum 900 Exposition Blvd Los Angeles CA 90037 United States;X-APPLE-RADIUS=500;X-TITLE=900 Exposition Blvd:geo:-118.2886818,34.0170769
END:VEVENT
BEGIN:VEVENT
DTSTART;TZID=America/Los_Angeles:20160305T190000
DTEND;TZID=America/Los_Angeles:20160305T223000
DTSTAMP:20260421T121102
CREATED:20160208T200928Z
LAST-MODIFIED:20160208T200928Z
UID:10043651-1457204400-1457217000@expositionpark.ca.gov
SUMMARY:Corporate Event
DESCRIPTION:
URL:https://expositionpark.ca.gov/event/corporate-event-19/
LOCATION:California Science Center\, 700 Exposition Park Drive\, Los Angeles\, CA\, 90037\, United States
ORGANIZER;CN="Kari Mendez":MAILTO:kmendez@cscmail.org
GEO:34.0157877;-118.2862095
X-APPLE-STRUCTURED-LOCATION;VALUE=URI;X-ADDRESS=California Science Center 700 Exposition Park Drive Los Angeles CA 90037 United States;X-APPLE-RADIUS=500;X-TITLE=700 Exposition Park Drive:geo:-118.2862095,34.0157877
END:VEVENT
END:VCALENDAR