BEGIN:VCALENDAR
VERSION:2.0
PRODID:-//Exposition Park - ECPv6.15.20//NONSGML v1.0//EN
CALSCALE:GREGORIAN
METHOD:PUBLISH
X-WR-CALNAME:Exposition Park
X-ORIGINAL-URL:https://expositionpark.ca.gov
X-WR-CALDESC:Events for Exposition Park
REFRESH-INTERVAL;VALUE=DURATION:PT1H
X-Robots-Tag:noindex
X-PUBLISHED-TTL:PT1H
BEGIN:VTIMEZONE
TZID:America/Los_Angeles
BEGIN:DAYLIGHT
TZOFFSETFROM:-0800
TZOFFSETTO:-0700
TZNAME:PDT
DTSTART:20150308T100000
END:DAYLIGHT
BEGIN:STANDARD
TZOFFSETFROM:-0700
TZOFFSETTO:-0800
TZNAME:PST
DTSTART:20151101T090000
END:STANDARD
BEGIN:DAYLIGHT
TZOFFSETFROM:-0800
TZOFFSETTO:-0700
TZNAME:PDT
DTSTART:20160313T100000
END:DAYLIGHT
BEGIN:STANDARD
TZOFFSETFROM:-0700
TZOFFSETTO:-0800
TZNAME:PST
DTSTART:20161106T090000
END:STANDARD
BEGIN:DAYLIGHT
TZOFFSETFROM:-0800
TZOFFSETTO:-0700
TZNAME:PDT
DTSTART:20170312T100000
END:DAYLIGHT
BEGIN:STANDARD
TZOFFSETFROM:-0700
TZOFFSETTO:-0800
TZNAME:PST
DTSTART:20171105T090000
END:STANDARD
END:VTIMEZONE
BEGIN:VEVENT
DTSTART;TZID=America/Los_Angeles:20160401T170000
DTEND;TZID=America/Los_Angeles:20160401T220000
DTSTAMP:20260421T044218
CREATED:20160304T184732Z
LAST-MODIFIED:20160304T184732Z
UID:10043792-1459530000-1459548000@expositionpark.ca.gov
SUMMARY:First Fridays
DESCRIPTION:When: Friday\, April 1st 2016\nTime: 5pm – 10pm\nWhere: The Natural History Museum\, 900 Exposition Boulevard\, Los Angeles\, CA 90007 \nApril Line-up \nTours: “Stranger than Fiction!” with Alyssa Morgan\, Collections Manager of Gems & Minerals \nDiscussion: “In Space\, No One Can Hear You Emote” with Dr. Sean Carroll and\nProfessor Clifford V. Johnson\, moderated by Los Angeles Times journalist Patt Morrison \nDJ Lounge: KCRW DJ Aaron Byrd and special guest Mo:Rockin \nMusic: Car Seat Headrest / Night Beats
URL:https://expositionpark.ca.gov/event/first-fridays-17/
LOCATION:Natural History Museum\, 900 Exposition Blvd\, Los Angeles\, CA\, 90037\, United States
GEO:34.0170769;-118.2886818
X-APPLE-STRUCTURED-LOCATION;VALUE=URI;X-ADDRESS=Natural History Museum 900 Exposition Blvd Los Angeles CA 90037 United States;X-APPLE-RADIUS=500;X-TITLE=900 Exposition Blvd:geo:-118.2886818,34.0170769
END:VEVENT
END:VCALENDAR