BEGIN:VCALENDAR
VERSION:2.0
PRODID:-//Exposition Park - ECPv6.15.20//NONSGML v1.0//EN
CALSCALE:GREGORIAN
METHOD:PUBLISH
X-ORIGINAL-URL:https://expositionpark.ca.gov
X-WR-CALDESC:Events for Exposition Park
REFRESH-INTERVAL;VALUE=DURATION:PT1H
X-Robots-Tag:noindex
X-PUBLISHED-TTL:PT1H
BEGIN:VTIMEZONE
TZID:America/Los_Angeles
BEGIN:DAYLIGHT
TZOFFSETFROM:-0800
TZOFFSETTO:-0700
TZNAME:PDT
DTSTART:20150308T100000
END:DAYLIGHT
BEGIN:STANDARD
TZOFFSETFROM:-0700
TZOFFSETTO:-0800
TZNAME:PST
DTSTART:20151101T090000
END:STANDARD
BEGIN:DAYLIGHT
TZOFFSETFROM:-0800
TZOFFSETTO:-0700
TZNAME:PDT
DTSTART:20160313T100000
END:DAYLIGHT
BEGIN:STANDARD
TZOFFSETFROM:-0700
TZOFFSETTO:-0800
TZNAME:PST
DTSTART:20161106T090000
END:STANDARD
BEGIN:DAYLIGHT
TZOFFSETFROM:-0800
TZOFFSETTO:-0700
TZNAME:PDT
DTSTART:20170312T100000
END:DAYLIGHT
BEGIN:STANDARD
TZOFFSETFROM:-0700
TZOFFSETTO:-0800
TZNAME:PST
DTSTART:20171105T090000
END:STANDARD
END:VTIMEZONE
BEGIN:VEVENT
DTSTART;TZID=America/Los_Angeles:20160505T050000
DTEND;TZID=America/Los_Angeles:20160512T220000
DTSTAMP:20260421T091535
CREATED:20160419T193618Z
LAST-MODIFIED:20160419T193618Z
UID:10043907-1462424400-1463090400@expositionpark.ca.gov
SUMMARY:9/20/73 Films
DESCRIPTION:Crewparking \nNot on Saturday 0r Sunday
URL:https://expositionpark.ca.gov/event/92073-films/
LOCATION:Exposition Park\, 700 Exposition Park Drive\, Los Angeles\, CA\, 90037\, United States
GEO:34.0157877;-118.2862095
X-APPLE-STRUCTURED-LOCATION;VALUE=URI;X-ADDRESS=Exposition Park 700 Exposition Park Drive Los Angeles CA 90037 United States;X-APPLE-RADIUS=500;X-TITLE=700 Exposition Park Drive:geo:-118.2862095,34.0157877
END:VEVENT
BEGIN:VEVENT
DTSTART;TZID=America/Los_Angeles:20160508T070000
DTEND;TZID=America/Los_Angeles:20160508T180000
DTSTAMP:20260421T091535
CREATED:20160209T232703Z
LAST-MODIFIED:20160209T232703Z
UID:10043717-1462690800-1462730400@expositionpark.ca.gov
SUMMARY:Lifeguard Academy
DESCRIPTION:The Citywide Aquatics Lifeguard Academy will be taking place in the North and South Competition Pools\, and MPR 1-3. \nAttendees: 200
URL:https://expositionpark.ca.gov/event/lifeguard-academy-8/
LOCATION:EXPO Center/ John C Argue Swim Stadium\, 3980 Bill Robertson Lane\, Los Angeles\, CA\, 90037\, United States
GEO:34.0121136;-118.2900829
X-APPLE-STRUCTURED-LOCATION;VALUE=URI;X-ADDRESS=EXPO Center/ John C Argue Swim Stadium 3980 Bill Robertson Lane Los Angeles CA 90037 United States;X-APPLE-RADIUS=500;X-TITLE=3980 Bill Robertson Lane:geo:-118.2900829,34.0121136
END:VEVENT
BEGIN:VEVENT
DTSTART;TZID=America/Los_Angeles:20160508T073000
DTEND;TZID=America/Los_Angeles:20160508T100000
DTSTAMP:20260421T091535
CREATED:20160411T214648Z
LAST-MODIFIED:20160411T214648Z
UID:10043895-1462692600-1462701600@expositionpark.ca.gov
SUMMARY:Moms and Masterpieces
DESCRIPTION:Sunday\, May 8\n7:30–9:30 am\nPaint and celebrate Mother’s Day at the Museum by creating your own one-of-a-kind masterpiece while sipping on complimentary mimosas and pastries. Designed for the whole family\, all ages\, and all levels.
URL:https://expositionpark.ca.gov/event/moms-and-masterpieces/
LOCATION:Natural History Museum\, 900 Exposition Blvd\, Los Angeles\, CA\, 90037\, United States
GEO:34.0170769;-118.2886818
X-APPLE-STRUCTURED-LOCATION;VALUE=URI;X-ADDRESS=Natural History Museum 900 Exposition Blvd Los Angeles CA 90037 United States;X-APPLE-RADIUS=500;X-TITLE=900 Exposition Blvd:geo:-118.2886818,34.0170769
END:VEVENT
BEGIN:VEVENT
DTSTART;TZID=America/Los_Angeles:20160508T093000
DTEND;TZID=America/Los_Angeles:20160508T170000
DTSTAMP:20260421T091535
CREATED:20160225T174331Z
LAST-MODIFIED:20160225T174331Z
UID:10043763-1462699800-1462726800@expositionpark.ca.gov
SUMMARY:Birthday
DESCRIPTION:Whether you or your child dreams of someday becoming a world-renowned paleontologist or has a love affair with butterflies\, celebrating your birthday at the Museum is an experience of a lifetime! \nParties are at 10 am\, 12:30 pm\, and 3 pm. To celebrate a birthday on weekdays at the La Brea Tar Pits and Museum\, please call 213.763.3536.
URL:https://expositionpark.ca.gov/event/birthday-9/
LOCATION:Natural History Museum\, 900 Exposition Blvd\, Los Angeles\, CA\, 90037\, United States
GEO:34.0170769;-118.2886818
X-APPLE-STRUCTURED-LOCATION;VALUE=URI;X-ADDRESS=Natural History Museum 900 Exposition Blvd Los Angeles CA 90037 United States;X-APPLE-RADIUS=500;X-TITLE=900 Exposition Blvd:geo:-118.2886818,34.0170769
END:VEVENT
END:VCALENDAR