BEGIN:VCALENDAR
VERSION:2.0
PRODID:-//Exposition Park - ECPv6.15.20//NONSGML v1.0//EN
CALSCALE:GREGORIAN
METHOD:PUBLISH
X-WR-CALNAME:Exposition Park
X-ORIGINAL-URL:https://expositionpark.ca.gov
X-WR-CALDESC:Events for Exposition Park
REFRESH-INTERVAL;VALUE=DURATION:PT1H
X-Robots-Tag:noindex
X-PUBLISHED-TTL:PT1H
BEGIN:VTIMEZONE
TZID:America/Los_Angeles
BEGIN:DAYLIGHT
TZOFFSETFROM:-0800
TZOFFSETTO:-0700
TZNAME:PDT
DTSTART:20150308T100000
END:DAYLIGHT
BEGIN:STANDARD
TZOFFSETFROM:-0700
TZOFFSETTO:-0800
TZNAME:PST
DTSTART:20151101T090000
END:STANDARD
BEGIN:DAYLIGHT
TZOFFSETFROM:-0800
TZOFFSETTO:-0700
TZNAME:PDT
DTSTART:20160313T100000
END:DAYLIGHT
BEGIN:STANDARD
TZOFFSETFROM:-0700
TZOFFSETTO:-0800
TZNAME:PST
DTSTART:20161106T090000
END:STANDARD
BEGIN:DAYLIGHT
TZOFFSETFROM:-0800
TZOFFSETTO:-0700
TZNAME:PDT
DTSTART:20170312T100000
END:DAYLIGHT
BEGIN:STANDARD
TZOFFSETFROM:-0700
TZOFFSETTO:-0800
TZNAME:PST
DTSTART:20171105T090000
END:STANDARD
END:VTIMEZONE
BEGIN:VEVENT
DTSTART;TZID=America/Los_Angeles:20160603T050000
DTEND;TZID=America/Los_Angeles:20160621T180000
DTSTAMP:20260420T182320
CREATED:20160220T005848Z
LAST-MODIFIED:20160220T005848Z
UID:10043759-1464930000-1466532000@expositionpark.ca.gov
SUMMARY:GES Truck Marshaling
DESCRIPTION:
URL:https://expositionpark.ca.gov/event/ges-truck-marshaling/
LOCATION:Lot 6
END:VEVENT
BEGIN:VEVENT
DTSTART;TZID=America/Los_Angeles:20160607T090000
DTEND;TZID=America/Los_Angeles:20160607T120000
DTSTAMP:20260420T182320
CREATED:20160606T161547Z
LAST-MODIFIED:20160606T161547Z
UID:10043980-1465290000-1465300800@expositionpark.ca.gov
SUMMARY:Violence Prevention Press Conference
DESCRIPTION:
URL:https://expositionpark.ca.gov/event/violence-prevention-press-conference/
LOCATION:EXPO Center\, 3980 Bill Robertson Lane\, Los Angeles\, CA\, 90037\, United States
GEO:34.0121136;-118.2900829
X-APPLE-STRUCTURED-LOCATION;VALUE=URI;X-ADDRESS=EXPO Center 3980 Bill Robertson Lane Los Angeles CA 90037 United States;X-APPLE-RADIUS=500;X-TITLE=3980 Bill Robertson Lane:geo:-118.2900829,34.0121136
END:VEVENT
BEGIN:VEVENT
DTSTART;TZID=America/Los_Angeles:20160607T090000
DTEND;TZID=America/Los_Angeles:20160608T170000
DTSTAMP:20260420T182320
CREATED:20160329T215319Z
LAST-MODIFIED:20160329T215319Z
UID:10043853-1465290000-1465405200@expositionpark.ca.gov
SUMMARY:Corporate Event
DESCRIPTION:Venue: Loker Conference Center \nAttendees: 75
URL:https://expositionpark.ca.gov/event/corporate-event-67/
LOCATION:California Science Center\, 700 Exposition Park Drive\, Los Angeles\, CA\, 90037\, United States
GEO:34.0157877;-118.2862095
X-APPLE-STRUCTURED-LOCATION;VALUE=URI;X-ADDRESS=California Science Center 700 Exposition Park Drive Los Angeles CA 90037 United States;X-APPLE-RADIUS=500;X-TITLE=700 Exposition Park Drive:geo:-118.2862095,34.0157877
END:VEVENT
END:VCALENDAR