BEGIN:VCALENDAR
VERSION:2.0
PRODID:-//Exposition Park - ECPv6.15.20//NONSGML v1.0//EN
CALSCALE:GREGORIAN
METHOD:PUBLISH
X-WR-CALNAME:Exposition Park
X-ORIGINAL-URL:https://expositionpark.ca.gov
X-WR-CALDESC:Events for Exposition Park
REFRESH-INTERVAL;VALUE=DURATION:PT1H
X-Robots-Tag:noindex
X-PUBLISHED-TTL:PT1H
BEGIN:VTIMEZONE
TZID:America/Los_Angeles
BEGIN:DAYLIGHT
TZOFFSETFROM:-0800
TZOFFSETTO:-0700
TZNAME:PDT
DTSTART:20150308T100000
END:DAYLIGHT
BEGIN:STANDARD
TZOFFSETFROM:-0700
TZOFFSETTO:-0800
TZNAME:PST
DTSTART:20151101T090000
END:STANDARD
BEGIN:DAYLIGHT
TZOFFSETFROM:-0800
TZOFFSETTO:-0700
TZNAME:PDT
DTSTART:20160313T100000
END:DAYLIGHT
BEGIN:STANDARD
TZOFFSETFROM:-0700
TZOFFSETTO:-0800
TZNAME:PST
DTSTART:20161106T090000
END:STANDARD
BEGIN:DAYLIGHT
TZOFFSETFROM:-0800
TZOFFSETTO:-0700
TZNAME:PDT
DTSTART:20170312T100000
END:DAYLIGHT
BEGIN:STANDARD
TZOFFSETFROM:-0700
TZOFFSETTO:-0800
TZNAME:PST
DTSTART:20171105T090000
END:STANDARD
END:VTIMEZONE
BEGIN:VEVENT
DTSTART;TZID=America/Los_Angeles:20160820T090000
DTEND;TZID=America/Los_Angeles:20160820T170000
DTSTAMP:20260422T234122
CREATED:20160714T235020Z
LAST-MODIFIED:20161117T040250Z
UID:10044106-1471683600-1471712400@expositionpark.ca.gov
SUMMARY:Birthday
DESCRIPTION:Celebrate Your Birthday at the Museum!\nWhether you or your child dreams of someday becoming a world-renowned paleontologist\, has a love affair with butterflies\, or is intrigued by gems celebrating your birthday at the Museum is an experience of a lifetime! \nParties are at 10 am\, 12:30 pm\, and 3 pm. \nBirthday parties must be booked at least two weeks in advance. Booking two months ahead is highly recommended! \nNHM.org/birthdays
URL:https://expositionpark.ca.gov/event/birthday-29/2016-08-20/
LOCATION:Natural History Museum\, 900 Exposition Blvd\, Los Angeles\, CA\, 90037\, United States
GEO:34.0170769;-118.2886818
X-APPLE-STRUCTURED-LOCATION;VALUE=URI;X-ADDRESS=Natural History Museum 900 Exposition Blvd Los Angeles CA 90037 United States;X-APPLE-RADIUS=500;X-TITLE=900 Exposition Blvd:geo:-118.2886818,34.0170769
END:VEVENT
BEGIN:VEVENT
DTSTART;TZID=America/Los_Angeles:20160820T093000
DTEND;TZID=America/Los_Angeles:20160820T170000
DTSTAMP:20260422T234122
CREATED:20160329T170455Z
LAST-MODIFIED:20160329T170455Z
UID:10043842-1471685400-1471712400@expositionpark.ca.gov
SUMMARY:Birthday
DESCRIPTION:
URL:https://expositionpark.ca.gov/event/birthday-34/
LOCATION:Natural History Museum\, 900 Exposition Blvd\, Los Angeles\, CA\, 90037\, United States
GEO:34.0170769;-118.2886818
X-APPLE-STRUCTURED-LOCATION;VALUE=URI;X-ADDRESS=Natural History Museum 900 Exposition Blvd Los Angeles CA 90037 United States;X-APPLE-RADIUS=500;X-TITLE=900 Exposition Blvd:geo:-118.2886818,34.0170769
END:VEVENT
BEGIN:VEVENT
DTSTART;TZID=America/Los_Angeles:20160820T120000
DTEND;TZID=America/Los_Angeles:20160820T150000
DTSTAMP:20260422T234122
CREATED:20160509T171740Z
LAST-MODIFIED:20160509T171740Z
UID:10043937-1471694400-1471705200@expositionpark.ca.gov
SUMMARY:Wedding
DESCRIPTION:
URL:https://expositionpark.ca.gov/event/wedding-29/
LOCATION:Rose Garden\, 701 State Drive\, Los Angeles\, CA\, 90037\, United States
ORGANIZER;CN="Special Events":MAILTO:specialevents@nhm.org
GEO:34.0165246;-118.2843696
X-APPLE-STRUCTURED-LOCATION;VALUE=URI;X-ADDRESS=Rose Garden 701 State Drive Los Angeles CA 90037 United States;X-APPLE-RADIUS=500;X-TITLE=701 State Drive:geo:-118.2843696,34.0165246
END:VEVENT
BEGIN:VEVENT
DTSTART;TZID=America/Los_Angeles:20160820T150000
DTEND;TZID=America/Los_Angeles:20160820T180000
DTSTAMP:20260422T234122
CREATED:20160712T210251Z
LAST-MODIFIED:20160712T210251Z
UID:10044008-1471705200-1471716000@expositionpark.ca.gov
SUMMARY:Social Event
DESCRIPTION:Venue: Wallis Annenberg Building
URL:https://expositionpark.ca.gov/event/social-event-30/
LOCATION:California Science Center\, 700 Exposition Park Drive\, Los Angeles\, CA\, 90037\, United States
ORGANIZER;CN="Kari Mendez":MAILTO:kmendez@cscmail.org
GEO:34.0157877;-118.2862095
X-APPLE-STRUCTURED-LOCATION;VALUE=URI;X-ADDRESS=California Science Center 700 Exposition Park Drive Los Angeles CA 90037 United States;X-APPLE-RADIUS=500;X-TITLE=700 Exposition Park Drive:geo:-118.2862095,34.0157877
END:VEVENT
BEGIN:VEVENT
DTSTART;TZID=America/Los_Angeles:20160820T190000
DTEND;TZID=America/Los_Angeles:20160820T220000
DTSTAMP:20260422T234122
CREATED:20160229T194555Z
LAST-MODIFIED:20160229T194555Z
UID:10043780-1471719600-1471730400@expositionpark.ca.gov
SUMMARY:Corporate Event
DESCRIPTION:Guest Count: 400 \nLocation: Samuel Oschin Pavilion \nParking: TBD
URL:https://expositionpark.ca.gov/event/corporate-event-55/
LOCATION:California Science Center\, 700 Exposition Park Drive\, Los Angeles\, CA\, 90037\, United States
GEO:34.0157877;-118.2862095
X-APPLE-STRUCTURED-LOCATION;VALUE=URI;X-ADDRESS=California Science Center 700 Exposition Park Drive Los Angeles CA 90037 United States;X-APPLE-RADIUS=500;X-TITLE=700 Exposition Park Drive:geo:-118.2862095,34.0157877
END:VEVENT
BEGIN:VEVENT
DTSTART;TZID=America/Los_Angeles:20160820T190000
DTEND;TZID=America/Los_Angeles:20160820T230000
DTSTAMP:20260422T234122
CREATED:20160420T212456Z
LAST-MODIFIED:20160420T212456Z
UID:10043910-1471719600-1471734000@expositionpark.ca.gov
SUMMARY:LA Rams vs Kansas City Chiefs
DESCRIPTION:The Rams were L.A.’s first professional sports team and called Los Angeles home from 1946-1994. In 2016\, we are returning home to build on our rich history. Fill out a contact form to receive more information as it becomes available. \nJoin Here
URL:https://expositionpark.ca.gov/event/la-rams-vs-kansas-city-chiefs/
LOCATION:Los Angeles Memorial Coliseum\, 3911 S. Figueroa Street\, Los Angeles\, CA\, 90037\, United States
GEO:34.0128523;-118.2845395
X-APPLE-STRUCTURED-LOCATION;VALUE=URI;X-ADDRESS=Los Angeles Memorial Coliseum 3911 S. Figueroa Street Los Angeles CA 90037 United States;X-APPLE-RADIUS=500;X-TITLE=3911 S. Figueroa Street:geo:-118.2845395,34.0128523
END:VEVENT
END:VCALENDAR