BEGIN:VCALENDAR
VERSION:2.0
PRODID:-//Exposition Park - ECPv6.15.20//NONSGML v1.0//EN
CALSCALE:GREGORIAN
METHOD:PUBLISH
X-WR-CALNAME:Exposition Park
X-ORIGINAL-URL:https://expositionpark.ca.gov
X-WR-CALDESC:Events for Exposition Park
REFRESH-INTERVAL;VALUE=DURATION:PT1H
X-Robots-Tag:noindex
X-PUBLISHED-TTL:PT1H
BEGIN:VTIMEZONE
TZID:America/Los_Angeles
BEGIN:DAYLIGHT
TZOFFSETFROM:-0800
TZOFFSETTO:-0700
TZNAME:PDT
DTSTART:20150308T100000
END:DAYLIGHT
BEGIN:STANDARD
TZOFFSETFROM:-0700
TZOFFSETTO:-0800
TZNAME:PST
DTSTART:20151101T090000
END:STANDARD
BEGIN:DAYLIGHT
TZOFFSETFROM:-0800
TZOFFSETTO:-0700
TZNAME:PDT
DTSTART:20160313T100000
END:DAYLIGHT
BEGIN:STANDARD
TZOFFSETFROM:-0700
TZOFFSETTO:-0800
TZNAME:PST
DTSTART:20161106T090000
END:STANDARD
BEGIN:DAYLIGHT
TZOFFSETFROM:-0800
TZOFFSETTO:-0700
TZNAME:PDT
DTSTART:20170312T100000
END:DAYLIGHT
BEGIN:STANDARD
TZOFFSETFROM:-0700
TZOFFSETTO:-0800
TZNAME:PST
DTSTART:20171105T090000
END:STANDARD
END:VTIMEZONE
BEGIN:VEVENT
DTSTART;VALUE=DATE:20160827
DTEND;VALUE=DATE:20160829
DTSTAMP:20260420T182310
CREATED:20160210T231508Z
LAST-MODIFIED:20160210T231508Z
UID:10043733-1472256000-1472428799@expositionpark.ca.gov
SUMMARY:FYF Fest
DESCRIPTION:Description: Music Festival\nParking: Selfpay\nAttendees: 40\,000
URL:https://expositionpark.ca.gov/event/fyf-fest/
LOCATION:Exposition Park\, 700 Exposition Park Drive\, Los Angeles\, CA\, 90037\, United States
GEO:34.0157877;-118.2862095
X-APPLE-STRUCTURED-LOCATION;VALUE=URI;X-ADDRESS=Exposition Park 700 Exposition Park Drive Los Angeles CA 90037 United States;X-APPLE-RADIUS=500;X-TITLE=700 Exposition Park Drive:geo:-118.2862095,34.0157877
END:VEVENT
BEGIN:VEVENT
DTSTART;TZID=America/Los_Angeles:20160828T173000
DTEND;TZID=America/Los_Angeles:20160828T223000
DTSTAMP:20260420T182310
CREATED:20160822T181547Z
LAST-MODIFIED:20160822T183747Z
UID:10044402-1472405400-1472423400@expositionpark.ca.gov
SUMMARY:San Pedro Soccer League
DESCRIPTION:
URL:https://expositionpark.ca.gov/event/san-pedro-sports-club/2016-08-28/
LOCATION:EXPO Center\, 3980 Bill Robertson Lane\, Los Angeles\, CA\, 90037\, United States
ORGANIZER;CN="Special Events":MAILTO:specialevents@nhm.org
GEO:34.0121136;-118.2900829
X-APPLE-STRUCTURED-LOCATION;VALUE=URI;X-ADDRESS=EXPO Center 3980 Bill Robertson Lane Los Angeles CA 90037 United States;X-APPLE-RADIUS=500;X-TITLE=3980 Bill Robertson Lane:geo:-118.2900829,34.0121136
END:VEVENT
END:VCALENDAR