BEGIN:VCALENDAR
VERSION:2.0
PRODID:-//Exposition Park - ECPv6.15.20//NONSGML v1.0//EN
CALSCALE:GREGORIAN
METHOD:PUBLISH
X-ORIGINAL-URL:https://expositionpark.ca.gov
X-WR-CALDESC:Events for Exposition Park
REFRESH-INTERVAL;VALUE=DURATION:PT1H
X-Robots-Tag:noindex
X-PUBLISHED-TTL:PT1H
BEGIN:VTIMEZONE
TZID:America/Los_Angeles
BEGIN:DAYLIGHT
TZOFFSETFROM:-0800
TZOFFSETTO:-0700
TZNAME:PDT
DTSTART:20150308T100000
END:DAYLIGHT
BEGIN:STANDARD
TZOFFSETFROM:-0700
TZOFFSETTO:-0800
TZNAME:PST
DTSTART:20151101T090000
END:STANDARD
BEGIN:DAYLIGHT
TZOFFSETFROM:-0800
TZOFFSETTO:-0700
TZNAME:PDT
DTSTART:20160313T100000
END:DAYLIGHT
BEGIN:STANDARD
TZOFFSETFROM:-0700
TZOFFSETTO:-0800
TZNAME:PST
DTSTART:20161106T090000
END:STANDARD
BEGIN:DAYLIGHT
TZOFFSETFROM:-0800
TZOFFSETTO:-0700
TZNAME:PDT
DTSTART:20170312T100000
END:DAYLIGHT
BEGIN:STANDARD
TZOFFSETFROM:-0700
TZOFFSETTO:-0800
TZNAME:PST
DTSTART:20171105T090000
END:STANDARD
END:VTIMEZONE
BEGIN:VEVENT
DTSTART;TZID=America/Los_Angeles:20161003T050000
DTEND;TZID=America/Los_Angeles:20161006T220000
DTSTAMP:20260420T094844
CREATED:20161006T175858Z
LAST-MODIFIED:20161006T175926Z
UID:10047564-1475470800-1475791200@expositionpark.ca.gov
SUMMARY:20th Century Fox
DESCRIPTION:Crew Parking & Filming
URL:https://expositionpark.ca.gov/event/20th-century-fox-2/
LOCATION:Lot 4 & 5
END:VEVENT
BEGIN:VEVENT
DTSTART;TZID=America/Los_Angeles:20161003T070000
DTEND;TZID=America/Los_Angeles:20161005T190000
DTSTAMP:20260420T094844
CREATED:20160921T225859Z
LAST-MODIFIED:20160922T214937Z
UID:10047533-1475478000-1475694000@expositionpark.ca.gov
SUMMARY:Private Event
DESCRIPTION:
URL:https://expositionpark.ca.gov/event/private-event-25/
LOCATION:Los Angeles Memorial Coliseum\, 3911 S. Figueroa Street\, Los Angeles\, CA\, 90037\, United States
GEO:34.0128523;-118.2845395
X-APPLE-STRUCTURED-LOCATION;VALUE=URI;X-ADDRESS=Los Angeles Memorial Coliseum 3911 S. Figueroa Street Los Angeles CA 90037 United States;X-APPLE-RADIUS=500;X-TITLE=3911 S. Figueroa Street:geo:-118.2845395,34.0128523
END:VEVENT
BEGIN:VEVENT
DTSTART;TZID=America/Los_Angeles:20161004T180000
DTEND;TZID=America/Los_Angeles:20161004T210000
DTSTAMP:20260420T094844
CREATED:20160822T175333Z
LAST-MODIFIED:20160822T184252Z
UID:10044354-1475604000-1475614800@expositionpark.ca.gov
SUMMARY:Vermont Sports Club
DESCRIPTION:
URL:https://expositionpark.ca.gov/event/vermont-sports-club-2/2016-10-04/
LOCATION:EXPO Center\, 3980 Bill Robertson Lane\, Los Angeles\, CA\, 90037\, United States
ORGANIZER;CN="Special Events":MAILTO:specialevents@nhm.org
GEO:34.0121136;-118.2900829
X-APPLE-STRUCTURED-LOCATION;VALUE=URI;X-ADDRESS=EXPO Center 3980 Bill Robertson Lane Los Angeles CA 90037 United States;X-APPLE-RADIUS=500;X-TITLE=3980 Bill Robertson Lane:geo:-118.2900829,34.0121136
END:VEVENT
BEGIN:VEVENT
DTSTART;TZID=America/Los_Angeles:20161004T190000
DTEND;TZID=America/Los_Angeles:20161004T220000
DTSTAMP:20260420T094844
CREATED:20160329T223323Z
LAST-MODIFIED:20160329T223323Z
UID:10043869-1475607600-1475618400@expositionpark.ca.gov
SUMMARY:Corporate Event
DESCRIPTION:Venue: Samuel Oschin Pavilion \nAttendees: 200
URL:https://expositionpark.ca.gov/event/corporate-event-82/
LOCATION:California Science Center\, 700 Exposition Park Drive\, Los Angeles\, CA\, 90037\, United States
GEO:34.0157877;-118.2862095
X-APPLE-STRUCTURED-LOCATION;VALUE=URI;X-ADDRESS=California Science Center 700 Exposition Park Drive Los Angeles CA 90037 United States;X-APPLE-RADIUS=500;X-TITLE=700 Exposition Park Drive:geo:-118.2862095,34.0157877
END:VEVENT
END:VCALENDAR