BEGIN:VCALENDAR
VERSION:2.0
PRODID:-//Exposition Park - ECPv6.15.20//NONSGML v1.0//EN
CALSCALE:GREGORIAN
METHOD:PUBLISH
X-WR-CALNAME:Exposition Park
X-ORIGINAL-URL:https://expositionpark.ca.gov
X-WR-CALDESC:Events for Exposition Park
REFRESH-INTERVAL;VALUE=DURATION:PT1H
X-Robots-Tag:noindex
X-PUBLISHED-TTL:PT1H
BEGIN:VTIMEZONE
TZID:America/Los_Angeles
BEGIN:DAYLIGHT
TZOFFSETFROM:-0800
TZOFFSETTO:-0700
TZNAME:PDT
DTSTART:20150308T100000
END:DAYLIGHT
BEGIN:STANDARD
TZOFFSETFROM:-0700
TZOFFSETTO:-0800
TZNAME:PST
DTSTART:20151101T090000
END:STANDARD
BEGIN:DAYLIGHT
TZOFFSETFROM:-0800
TZOFFSETTO:-0700
TZNAME:PDT
DTSTART:20160313T100000
END:DAYLIGHT
BEGIN:STANDARD
TZOFFSETFROM:-0700
TZOFFSETTO:-0800
TZNAME:PST
DTSTART:20161106T090000
END:STANDARD
BEGIN:DAYLIGHT
TZOFFSETFROM:-0800
TZOFFSETTO:-0700
TZNAME:PDT
DTSTART:20170312T100000
END:DAYLIGHT
BEGIN:STANDARD
TZOFFSETFROM:-0700
TZOFFSETTO:-0800
TZNAME:PST
DTSTART:20171105T090000
END:STANDARD
END:VTIMEZONE
BEGIN:VEVENT
DTSTART;TZID=America/Los_Angeles:20161003T050000
DTEND;TZID=America/Los_Angeles:20161006T220000
DTSTAMP:20260421T165827
CREATED:20161006T175858Z
LAST-MODIFIED:20161006T175926Z
UID:10047564-1475470800-1475791200@expositionpark.ca.gov
SUMMARY:20th Century Fox
DESCRIPTION:Crew Parking & Filming
URL:https://expositionpark.ca.gov/event/20th-century-fox-2/
LOCATION:Lot 4 & 5
END:VEVENT
BEGIN:VEVENT
DTSTART;TZID=America/Los_Angeles:20161006T000500
DTEND;TZID=America/Los_Angeles:20161007T040000
DTSTAMP:20260421T165827
CREATED:20161003T190205Z
LAST-MODIFIED:20161003T190205Z
UID:10047546-1475712300-1475812800@expositionpark.ca.gov
SUMMARY:ABC Studios
DESCRIPTION:Basecamp Lot 2
URL:https://expositionpark.ca.gov/event/abc-studios-3/
LOCATION:Lot 2
END:VEVENT
BEGIN:VEVENT
DTSTART;TZID=America/Los_Angeles:20161006T070000
DTEND;TZID=America/Los_Angeles:20161007T210000
DTSTAMP:20260421T165827
CREATED:20161004T165123Z
LAST-MODIFIED:20161004T165123Z
UID:10047550-1475737200-1475874000@expositionpark.ca.gov
SUMMARY:Freeman
DESCRIPTION:Truck Marshaling
URL:https://expositionpark.ca.gov/event/freeman-3/
LOCATION:Lot 6
END:VEVENT
BEGIN:VEVENT
DTSTART;TZID=America/Los_Angeles:20161006T180000
DTEND;TZID=America/Los_Angeles:20161006T210000
DTSTAMP:20260421T165827
CREATED:20160822T174752Z
LAST-MODIFIED:20160822T174752Z
UID:10044336-1475776800-1475787600@expositionpark.ca.gov
SUMMARY:Vermont Sports Club
DESCRIPTION:
URL:https://expositionpark.ca.gov/event/vermont-sports-club/2016-10-06/
LOCATION:EXPO Center\, 3980 Bill Robertson Lane\, Los Angeles\, CA\, 90037\, United States
ORGANIZER;CN="Special Events":MAILTO:specialevents@nhm.org
GEO:34.0121136;-118.2900829
X-APPLE-STRUCTURED-LOCATION;VALUE=URI;X-ADDRESS=EXPO Center 3980 Bill Robertson Lane Los Angeles CA 90037 United States;X-APPLE-RADIUS=500;X-TITLE=3980 Bill Robertson Lane:geo:-118.2900829,34.0121136
END:VEVENT
BEGIN:VEVENT
DTSTART;TZID=America/Los_Angeles:20161006T180000
DTEND;TZID=America/Los_Angeles:20161006T220000
DTSTAMP:20260421T165827
CREATED:20160601T173924Z
LAST-MODIFIED:20160601T173924Z
UID:10043971-1475776800-1475791200@expositionpark.ca.gov
SUMMARY:Evening Lecture @ NHM
DESCRIPTION:
URL:https://expositionpark.ca.gov/event/evening-lecture-nhm-2/
LOCATION:Natural History Museum\, 900 Exposition Blvd\, Los Angeles\, CA\, 90037\, United States
ORGANIZER;CN="Vanessa Curwen":MAILTO:vcurwen@nhm.org
GEO:34.0170769;-118.2886818
X-APPLE-STRUCTURED-LOCATION;VALUE=URI;X-ADDRESS=Natural History Museum 900 Exposition Blvd Los Angeles CA 90037 United States;X-APPLE-RADIUS=500;X-TITLE=900 Exposition Blvd:geo:-118.2886818,34.0170769
END:VEVENT
END:VCALENDAR