BEGIN:VCALENDAR
VERSION:2.0
PRODID:-//Exposition Park - ECPv6.15.20//NONSGML v1.0//EN
CALSCALE:GREGORIAN
METHOD:PUBLISH
X-WR-CALNAME:Exposition Park
X-ORIGINAL-URL:https://expositionpark.ca.gov
X-WR-CALDESC:Events for Exposition Park
REFRESH-INTERVAL;VALUE=DURATION:PT1H
X-Robots-Tag:noindex
X-PUBLISHED-TTL:PT1H
BEGIN:VTIMEZONE
TZID:America/Los_Angeles
BEGIN:DAYLIGHT
TZOFFSETFROM:-0800
TZOFFSETTO:-0700
TZNAME:PDT
DTSTART:20150308T100000
END:DAYLIGHT
BEGIN:STANDARD
TZOFFSETFROM:-0700
TZOFFSETTO:-0800
TZNAME:PST
DTSTART:20151101T090000
END:STANDARD
BEGIN:DAYLIGHT
TZOFFSETFROM:-0800
TZOFFSETTO:-0700
TZNAME:PDT
DTSTART:20160313T100000
END:DAYLIGHT
BEGIN:STANDARD
TZOFFSETFROM:-0700
TZOFFSETTO:-0800
TZNAME:PST
DTSTART:20161106T090000
END:STANDARD
BEGIN:DAYLIGHT
TZOFFSETFROM:-0800
TZOFFSETTO:-0700
TZNAME:PDT
DTSTART:20170312T100000
END:DAYLIGHT
BEGIN:STANDARD
TZOFFSETFROM:-0700
TZOFFSETTO:-0800
TZNAME:PST
DTSTART:20171105T090000
END:STANDARD
END:VTIMEZONE
BEGIN:VEVENT
DTSTART;TZID=America/Los_Angeles:20161014T010000
DTEND;TZID=America/Los_Angeles:20161014T160000
DTSTAMP:20260420T145101
CREATED:20161013T193944Z
LAST-MODIFIED:20161013T193944Z
UID:10044093-1476406800-1476460800@expositionpark.ca.gov
SUMMARY:Smuggler
DESCRIPTION:Filming on Exposition Park Drive (from Victory Walk to Bill Robertson Lane) \nCrew Parking and Basecamp in lot 2
URL:https://expositionpark.ca.gov/event/smuggler/
LOCATION:Exposition Park Drive
END:VEVENT
BEGIN:VEVENT
DTSTART;TZID=America/Los_Angeles:20161014T140000
DTEND;TZID=America/Los_Angeles:20161015T000000
DTSTAMP:20260420T145101
CREATED:20160714T235252Z
LAST-MODIFIED:20160714T235252Z
UID:10044129-1476453600-1476489600@expositionpark.ca.gov
SUMMARY:Private Event
DESCRIPTION:
URL:https://expositionpark.ca.gov/event/private-event-13/
LOCATION:Natural History Museum\, 900 Exposition Blvd\, Los Angeles\, CA\, 90037\, United States
GEO:34.0170769;-118.2886818
X-APPLE-STRUCTURED-LOCATION;VALUE=URI;X-ADDRESS=Natural History Museum 900 Exposition Blvd Los Angeles CA 90037 United States;X-APPLE-RADIUS=500;X-TITLE=900 Exposition Blvd:geo:-118.2886818,34.0170769
END:VEVENT
BEGIN:VEVENT
DTSTART;TZID=America/Los_Angeles:20161014T173000
DTEND;TZID=America/Los_Angeles:20161014T220000
DTSTAMP:20260420T145101
CREATED:20161007T221346Z
LAST-MODIFIED:20161007T221346Z
UID:10044087-1476466200-1476482400@expositionpark.ca.gov
SUMMARY:Taste of Soul VIP Reception
DESCRIPTION:Taste of Soul will be honoring their sponsors.  GM cars is a sponsor this  year.. Automobiles will be parked on the plaza outside of CAAM.
URL:https://expositionpark.ca.gov/event/taste-of-soul-vip-reception/
LOCATION:California African American Museum\, 600 State Drive\, Los Angeles\, CA\, 90037\, United States
ORGANIZER;CN="Laura Farmer":MAILTO:lfarmer@caamuseum.org
GEO:34.0159415;-118.2836283
X-APPLE-STRUCTURED-LOCATION;VALUE=URI;X-ADDRESS=California African American Museum 600 State Drive Los Angeles CA 90037 United States;X-APPLE-RADIUS=500;X-TITLE=600 State Drive:geo:-118.2836283,34.0159415
END:VEVENT
BEGIN:VEVENT
DTSTART;TZID=America/Los_Angeles:20161014T210000
DTEND;TZID=America/Los_Angeles:20161014T223000
DTSTAMP:20260420T145101
CREATED:20160822T180507Z
LAST-MODIFIED:20160824T232941Z
UID:10044382-1476478800-1476484200@expositionpark.ca.gov
SUMMARY:San Pedro Soccer League
DESCRIPTION:
URL:https://expositionpark.ca.gov/event/san-pedro-soccer-league/2016-10-14/
LOCATION:EXPO Center\, 3980 Bill Robertson Lane\, Los Angeles\, CA\, 90037\, United States
ORGANIZER;CN="Special Events":MAILTO:specialevents@nhm.org
GEO:34.0121136;-118.2900829
X-APPLE-STRUCTURED-LOCATION;VALUE=URI;X-ADDRESS=EXPO Center 3980 Bill Robertson Lane Los Angeles CA 90037 United States;X-APPLE-RADIUS=500;X-TITLE=3980 Bill Robertson Lane:geo:-118.2900829,34.0121136
END:VEVENT
END:VCALENDAR