BEGIN:VCALENDAR
VERSION:2.0
PRODID:-//Exposition Park - ECPv6.15.20//NONSGML v1.0//EN
CALSCALE:GREGORIAN
METHOD:PUBLISH
X-WR-CALNAME:Exposition Park
X-ORIGINAL-URL:https://expositionpark.ca.gov
X-WR-CALDESC:Events for Exposition Park
REFRESH-INTERVAL;VALUE=DURATION:PT1H
X-Robots-Tag:noindex
X-PUBLISHED-TTL:PT1H
BEGIN:VTIMEZONE
TZID:America/Los_Angeles
BEGIN:DAYLIGHT
TZOFFSETFROM:-0800
TZOFFSETTO:-0700
TZNAME:PDT
DTSTART:20150308T100000
END:DAYLIGHT
BEGIN:STANDARD
TZOFFSETFROM:-0700
TZOFFSETTO:-0800
TZNAME:PST
DTSTART:20151101T090000
END:STANDARD
BEGIN:DAYLIGHT
TZOFFSETFROM:-0800
TZOFFSETTO:-0700
TZNAME:PDT
DTSTART:20160313T100000
END:DAYLIGHT
BEGIN:STANDARD
TZOFFSETFROM:-0700
TZOFFSETTO:-0800
TZNAME:PST
DTSTART:20161106T090000
END:STANDARD
BEGIN:DAYLIGHT
TZOFFSETFROM:-0800
TZOFFSETTO:-0700
TZNAME:PDT
DTSTART:20170312T100000
END:DAYLIGHT
BEGIN:STANDARD
TZOFFSETFROM:-0700
TZOFFSETTO:-0800
TZNAME:PST
DTSTART:20171105T090000
END:STANDARD
END:VTIMEZONE
BEGIN:VEVENT
DTSTART;TZID=America/Los_Angeles:20161028T183000
DTEND;TZID=America/Los_Angeles:20161029T090000
DTSTAMP:20260420T182312
CREATED:20161020T205305Z
LAST-MODIFIED:20161020T205305Z
UID:10044096-1477679400-1477731600@expositionpark.ca.gov
SUMMARY:Halloween Mysteries Sleepover
DESCRIPTION:A ghastly canine has been hounding the Museum – you and your junior forensic society member are invited to help solve a most curious mystery at this Halloween-time sleepover. Can you help find the missing T. rex bone and the spirited hound? Armed with your best forensic science techniques\, explore the Museum and solve the clues. Activities will include: scavenger hunt\, flashlight tour of the spider pavilion\, secrets and legends ghost tour of the Museum\, trick or treat stations and a dance party. Once the dancing is done\, snuggle in for the night next to our world-class dioramas for sweet dreams. Costumes are encouraged.
URL:https://expositionpark.ca.gov/event/halloween-mysteries-sleepover/
LOCATION:Natural History Museum\, 900 Exposition Blvd\, Los Angeles\, CA\, 90037\, United States
GEO:34.0170769;-118.2886818
X-APPLE-STRUCTURED-LOCATION;VALUE=URI;X-ADDRESS=Natural History Museum 900 Exposition Blvd Los Angeles CA 90037 United States;X-APPLE-RADIUS=500;X-TITLE=900 Exposition Blvd:geo:-118.2886818,34.0170769
END:VEVENT
BEGIN:VEVENT
DTSTART;TZID=America/Los_Angeles:20161029T050000
DTEND;TZID=America/Los_Angeles:20161029T230000
DTSTAMP:20260420T182312
CREATED:20161026T190513Z
LAST-MODIFIED:20161026T190513Z
UID:10047609-1477717200-1477782000@expositionpark.ca.gov
SUMMARY:Street Food Cinema- Ghostbusters
DESCRIPTION:
URL:https://expositionpark.ca.gov/event/street-food-cinema-ghostbusters/
LOCATION:CA
END:VEVENT
BEGIN:VEVENT
DTSTART;TZID=America/Los_Angeles:20161029T083000
DTEND;TZID=America/Los_Angeles:20161029T173000
DTSTAMP:20260420T182312
CREATED:20160209T171644Z
LAST-MODIFIED:20160209T171644Z
UID:10043692-1477729800-1477762200@expositionpark.ca.gov
SUMMARY:Corporate Event
DESCRIPTION:Attendees: 500 \nVenue: Loker Conference Center
URL:https://expositionpark.ca.gov/event/corporate-event-44/
LOCATION:California Science Center\, 700 Exposition Park Drive\, Los Angeles\, CA\, 90037\, United States
ORGANIZER;CN="Kari Mendez":MAILTO:kmendez@cscmail.org
GEO:34.0157877;-118.2862095
X-APPLE-STRUCTURED-LOCATION;VALUE=URI;X-ADDRESS=California Science Center 700 Exposition Park Drive Los Angeles CA 90037 United States;X-APPLE-RADIUS=500;X-TITLE=700 Exposition Park Drive:geo:-118.2862095,34.0157877
END:VEVENT
BEGIN:VEVENT
DTSTART;TZID=America/Los_Angeles:20161029T090000
DTEND;TZID=America/Los_Angeles:20161029T170000
DTSTAMP:20260420T182312
CREATED:20160714T235020Z
LAST-MODIFIED:20161117T040250Z
UID:10044116-1477731600-1477760400@expositionpark.ca.gov
SUMMARY:Birthday
DESCRIPTION:Celebrate Your Birthday at the Museum!\nWhether you or your child dreams of someday becoming a world-renowned paleontologist\, has a love affair with butterflies\, or is intrigued by gems celebrating your birthday at the Museum is an experience of a lifetime! \nParties are at 10 am\, 12:30 pm\, and 3 pm. \nBirthday parties must be booked at least two weeks in advance. Booking two months ahead is highly recommended! \nNHM.org/birthdays
URL:https://expositionpark.ca.gov/event/birthday-29/2016-10-29/
LOCATION:Natural History Museum\, 900 Exposition Blvd\, Los Angeles\, CA\, 90037\, United States
GEO:34.0170769;-118.2886818
X-APPLE-STRUCTURED-LOCATION;VALUE=URI;X-ADDRESS=Natural History Museum 900 Exposition Blvd Los Angeles CA 90037 United States;X-APPLE-RADIUS=500;X-TITLE=900 Exposition Blvd:geo:-118.2886818,34.0170769
END:VEVENT
BEGIN:VEVENT
DTSTART;TZID=America/Los_Angeles:20161029T190000
DTEND;TZID=America/Los_Angeles:20161029T220000
DTSTAMP:20260420T182312
CREATED:20160209T171646Z
LAST-MODIFIED:20160209T171646Z
UID:10043693-1477767600-1477778400@expositionpark.ca.gov
SUMMARY:Corporate Event
DESCRIPTION:Attendees: 800 \nVenue: Disney Court and Samuel Oschin Pavilion
URL:https://expositionpark.ca.gov/event/corporate-event-45/
LOCATION:California Science Center\, 700 Exposition Park Drive\, Los Angeles\, CA\, 90037\, United States
ORGANIZER;CN="Kari Mendez":MAILTO:kmendez@cscmail.org
GEO:34.0157877;-118.2862095
X-APPLE-STRUCTURED-LOCATION;VALUE=URI;X-ADDRESS=California Science Center 700 Exposition Park Drive Los Angeles CA 90037 United States;X-APPLE-RADIUS=500;X-TITLE=700 Exposition Park Drive:geo:-118.2862095,34.0157877
END:VEVENT
BEGIN:VEVENT
DTSTART;TZID=America/Los_Angeles:20161029T190000
DTEND;TZID=America/Los_Angeles:20161030T080000
DTSTAMP:20260420T182312
CREATED:20160524T224327Z
LAST-MODIFIED:20160524T224327Z
UID:10043959-1477767600-1477814400@expositionpark.ca.gov
SUMMARY:Adults-only All Nighters
DESCRIPTION:You are NOT the Father \nSaturday\, October 29\, 2016 at 7 pm – Sunday\, October 30\, 2016 at 8 am \nLearn about the often promiscuous mating habits of Cestaceans with Dr. Jim Dines\, Collections Manager of Mammalogy\, and join us for our Halloween All-Nighter. Dress in a costume to enter our costume contest! \nNHM.org/sleepovers
URL:https://expositionpark.ca.gov/event/adults-only-all-nighters-5/
LOCATION:Natural History Museum\, 900 Exposition Blvd\, Los Angeles\, CA\, 90037\, United States
GEO:34.0170769;-118.2886818
X-APPLE-STRUCTURED-LOCATION;VALUE=URI;X-ADDRESS=Natural History Museum 900 Exposition Blvd Los Angeles CA 90037 United States;X-APPLE-RADIUS=500;X-TITLE=900 Exposition Blvd:geo:-118.2886818,34.0170769
END:VEVENT
END:VCALENDAR