BEGIN:VCALENDAR
VERSION:2.0
PRODID:-//Exposition Park - ECPv6.15.20//NONSGML v1.0//EN
CALSCALE:GREGORIAN
METHOD:PUBLISH
X-WR-CALNAME:Exposition Park
X-ORIGINAL-URL:https://expositionpark.ca.gov
X-WR-CALDESC:Events for Exposition Park
REFRESH-INTERVAL;VALUE=DURATION:PT1H
X-Robots-Tag:noindex
X-PUBLISHED-TTL:PT1H
BEGIN:VTIMEZONE
TZID:America/Los_Angeles
BEGIN:DAYLIGHT
TZOFFSETFROM:-0800
TZOFFSETTO:-0700
TZNAME:PDT
DTSTART:20150308T100000
END:DAYLIGHT
BEGIN:STANDARD
TZOFFSETFROM:-0700
TZOFFSETTO:-0800
TZNAME:PST
DTSTART:20151101T090000
END:STANDARD
BEGIN:DAYLIGHT
TZOFFSETFROM:-0800
TZOFFSETTO:-0700
TZNAME:PDT
DTSTART:20160313T100000
END:DAYLIGHT
BEGIN:STANDARD
TZOFFSETFROM:-0700
TZOFFSETTO:-0800
TZNAME:PST
DTSTART:20161106T090000
END:STANDARD
BEGIN:DAYLIGHT
TZOFFSETFROM:-0800
TZOFFSETTO:-0700
TZNAME:PDT
DTSTART:20170312T100000
END:DAYLIGHT
BEGIN:STANDARD
TZOFFSETFROM:-0700
TZOFFSETTO:-0800
TZNAME:PST
DTSTART:20171105T090000
END:STANDARD
END:VTIMEZONE
BEGIN:VEVENT
DTSTART;VALUE=DATE:20161114
DTEND;VALUE=DATE:20161117
DTSTAMP:20260421T165758
CREATED:20161028T002522Z
LAST-MODIFIED:20161028T002522Z
UID:10047616-1479081600-1479340799@expositionpark.ca.gov
SUMMARY:Camp Flog Gnaw
DESCRIPTION:Breakdown
URL:https://expositionpark.ca.gov/event/camp-flog-gnaw-2/
LOCATION:Exposition Park
END:VEVENT
BEGIN:VEVENT
DTSTART;TZID=America/Los_Angeles:20161116T050000
DTEND;TZID=America/Los_Angeles:20161116T200000
DTSTAMP:20260421T165758
CREATED:20161118T234548Z
LAST-MODIFIED:20161118T234548Z
UID:10044172-1479272400-1479326400@expositionpark.ca.gov
SUMMARY:YOLA (Youth Orchestra Los Angeles)
DESCRIPTION:
URL:https://expositionpark.ca.gov/event/yola-youth-orchestra-los-angeles-2/2016-11-16/
LOCATION:EXPO Center\, 3980 Bill Robertson Lane\, Los Angeles\, CA\, 90037\, United States
GEO:34.0121136;-118.2900829
X-APPLE-STRUCTURED-LOCATION;VALUE=URI;X-ADDRESS=EXPO Center 3980 Bill Robertson Lane Los Angeles CA 90037 United States;X-APPLE-RADIUS=500;X-TITLE=3980 Bill Robertson Lane:geo:-118.2900829,34.0121136
END:VEVENT
BEGIN:VEVENT
DTSTART;TZID=America/Los_Angeles:20161116T100000
DTEND;TZID=America/Los_Angeles:20161116T130000
DTSTAMP:20260421T165758
CREATED:20160714T233754Z
LAST-MODIFIED:20160714T233754Z
UID:10044036-1479290400-1479301200@expositionpark.ca.gov
SUMMARY:Corporate Event
DESCRIPTION:Venue: Loker Conference Center
URL:https://expositionpark.ca.gov/event/corporate-event-86/
LOCATION:CA\, United States
ORGANIZER;CN="Kari Mendez":MAILTO:kmendez@cscmail.org
END:VEVENT
BEGIN:VEVENT
DTSTART;TZID=America/Los_Angeles:20161116T173000
DTEND;TZID=America/Los_Angeles:20161116T210000
DTSTAMP:20260421T165758
CREATED:20161118T234025Z
LAST-MODIFIED:20161118T234025Z
UID:10044134-1479317400-1479330000@expositionpark.ca.gov
SUMMARY:Kids In Sports
DESCRIPTION:
URL:https://expositionpark.ca.gov/event/kids-in-sports/2016-11-16/
LOCATION:EXPO Center\, 3980 Bill Robertson Lane\, Los Angeles\, CA\, 90037\, United States
GEO:34.0121136;-118.2900829
X-APPLE-STRUCTURED-LOCATION;VALUE=URI;X-ADDRESS=EXPO Center 3980 Bill Robertson Lane Los Angeles CA 90037 United States;X-APPLE-RADIUS=500;X-TITLE=3980 Bill Robertson Lane:geo:-118.2900829,34.0121136
END:VEVENT
END:VCALENDAR