BEGIN:VCALENDAR
VERSION:2.0
PRODID:-//Exposition Park - ECPv6.15.20//NONSGML v1.0//EN
CALSCALE:GREGORIAN
METHOD:PUBLISH
X-WR-CALNAME:Exposition Park
X-ORIGINAL-URL:https://expositionpark.ca.gov
X-WR-CALDESC:Events for Exposition Park
REFRESH-INTERVAL;VALUE=DURATION:PT1H
X-Robots-Tag:noindex
X-PUBLISHED-TTL:PT1H
BEGIN:VTIMEZONE
TZID:America/Los_Angeles
BEGIN:DAYLIGHT
TZOFFSETFROM:-0800
TZOFFSETTO:-0700
TZNAME:PDT
DTSTART:20150308T100000
END:DAYLIGHT
BEGIN:STANDARD
TZOFFSETFROM:-0700
TZOFFSETTO:-0800
TZNAME:PST
DTSTART:20151101T090000
END:STANDARD
BEGIN:DAYLIGHT
TZOFFSETFROM:-0800
TZOFFSETTO:-0700
TZNAME:PDT
DTSTART:20160313T100000
END:DAYLIGHT
BEGIN:STANDARD
TZOFFSETFROM:-0700
TZOFFSETTO:-0800
TZNAME:PST
DTSTART:20161106T090000
END:STANDARD
BEGIN:DAYLIGHT
TZOFFSETFROM:-0800
TZOFFSETTO:-0700
TZNAME:PDT
DTSTART:20170312T100000
END:DAYLIGHT
BEGIN:STANDARD
TZOFFSETFROM:-0700
TZOFFSETTO:-0800
TZNAME:PST
DTSTART:20171105T090000
END:STANDARD
END:VTIMEZONE
BEGIN:VEVENT
DTSTART;VALUE=DATE:20161126
DTEND;VALUE=DATE:20161127
DTSTAMP:20260423T232958
CREATED:20160209T175449Z
LAST-MODIFIED:20160209T175449Z
UID:10043705-1480118400-1480204799@expositionpark.ca.gov
SUMMARY:USC Football vs Notre Dame
DESCRIPTION:
URL:https://expositionpark.ca.gov/event/usc-football-vs-notre-dame/
LOCATION:CA
END:VEVENT
BEGIN:VEVENT
DTSTART;VALUE=DATE:20161126
DTEND;VALUE=DATE:20161127
DTSTAMP:20260423T232958
CREATED:20160902T180629Z
LAST-MODIFIED:20160902T180629Z
UID:10047486-1480118400-1480204799@expositionpark.ca.gov
SUMMARY:USC FanFest
DESCRIPTION:Tailgate Hours: 4 hours prior to kick-off
URL:https://expositionpark.ca.gov/event/usc-fanfest-4/
LOCATION:CA
END:VEVENT
BEGIN:VEVENT
DTSTART;VALUE=DATE:20161126
DTEND;VALUE=DATE:20161127
DTSTAMP:20260423T232958
CREATED:20161011T182436Z
LAST-MODIFIED:20161011T182436Z
UID:10044090-1480118400-1480204799@expositionpark.ca.gov
SUMMARY:Girardi & Keese Tailgate
DESCRIPTION:
URL:https://expositionpark.ca.gov/event/girardi-keese-tailgate/
LOCATION:Plaza A
END:VEVENT
BEGIN:VEVENT
DTSTART;VALUE=DATE:20161126
DTEND;VALUE=DATE:20161127
DTSTAMP:20260423T232958
CREATED:20161014T183944Z
LAST-MODIFIED:20161014T183944Z
UID:10044094-1480118400-1480204799@expositionpark.ca.gov
SUMMARY:Notre Dame Club of Los Angeles
DESCRIPTION:
URL:https://expositionpark.ca.gov/event/notre-dame-club-of-los-angeles-2/
LOCATION:Jesse Brewer Park
END:VEVENT
BEGIN:VEVENT
DTSTART;TZID=America/Los_Angeles:20161126T040000
DTEND;TZID=America/Los_Angeles:20161126T230000
DTSTAMP:20260423T232958
CREATED:20161119T000604Z
LAST-MODIFIED:20161119T000604Z
UID:10044181-1480132800-1480201200@expositionpark.ca.gov
SUMMARY:USC Marching Band Tailgate
DESCRIPTION:
URL:https://expositionpark.ca.gov/event/usc-marching-band-tailgate/
LOCATION:Expo Grass West
END:VEVENT
BEGIN:VEVENT
DTSTART;TZID=America/Los_Angeles:20161126T060000
DTEND;TZID=America/Los_Angeles:20161126T230000
DTSTAMP:20260423T232958
CREATED:20160902T165535Z
LAST-MODIFIED:20160902T165535Z
UID:10044445-1480140000-1480201200@expositionpark.ca.gov
SUMMARY:USC Athletics Tailgate
DESCRIPTION:Tailgate hours: 3 hours before kick off.
URL:https://expositionpark.ca.gov/event/usc-athletics-tailgate-5/
LOCATION:South Lawn East (east 1/2)
END:VEVENT
BEGIN:VEVENT
DTSTART;TZID=America/Los_Angeles:20161126T060000
DTEND;TZID=America/Los_Angeles:20161126T230000
DTSTAMP:20260423T232958
CREATED:20160902T170503Z
LAST-MODIFIED:20160902T170503Z
UID:10047468-1480140000-1480201200@expositionpark.ca.gov
SUMMARY:Tau Kappa Epsilon Beta Sigma Alumni Association (TKE) Tailgate
DESCRIPTION:Tailgate Hours: 4 hours before kick-off \n 
URL:https://expositionpark.ca.gov/event/tau-kappa-epsilon-beta-sigma-alumni-association-tke-tailgate-6/
LOCATION:Expo Grass East (west 1/2)
END:VEVENT
BEGIN:VEVENT
DTSTART;TZID=America/Los_Angeles:20161126T080000
DTEND;TZID=America/Los_Angeles:20161126T150000
DTSTAMP:20260423T232958
CREATED:20161118T234424Z
LAST-MODIFIED:20161118T234424Z
UID:10044168-1480147200-1480172400@expositionpark.ca.gov
SUMMARY:YOLA (Youth Orchestra Los Angeles)
DESCRIPTION:
URL:https://expositionpark.ca.gov/event/yola-youth-orchestra-los-angeles/2016-11-26/
LOCATION:EXPO Center\, 3980 Bill Robertson Lane\, Los Angeles\, CA\, 90037\, United States
GEO:34.0121136;-118.2900829
X-APPLE-STRUCTURED-LOCATION;VALUE=URI;X-ADDRESS=EXPO Center 3980 Bill Robertson Lane Los Angeles CA 90037 United States;X-APPLE-RADIUS=500;X-TITLE=3980 Bill Robertson Lane:geo:-118.2900829,34.0121136
END:VEVENT
BEGIN:VEVENT
DTSTART;TZID=America/Los_Angeles:20161126T090000
DTEND;TZID=America/Los_Angeles:20161126T170000
DTSTAMP:20260423T232958
CREATED:20160714T235020Z
LAST-MODIFIED:20161117T040250Z
UID:10044120-1480150800-1480179600@expositionpark.ca.gov
SUMMARY:Birthday
DESCRIPTION:Celebrate Your Birthday at the Museum!\nWhether you or your child dreams of someday becoming a world-renowned paleontologist\, has a love affair with butterflies\, or is intrigued by gems celebrating your birthday at the Museum is an experience of a lifetime! \nParties are at 10 am\, 12:30 pm\, and 3 pm. \nBirthday parties must be booked at least two weeks in advance. Booking two months ahead is highly recommended! \nNHM.org/birthdays
URL:https://expositionpark.ca.gov/event/birthday-29/2016-11-26/
LOCATION:Natural History Museum\, 900 Exposition Blvd\, Los Angeles\, CA\, 90037\, United States
GEO:34.0170769;-118.2886818
X-APPLE-STRUCTURED-LOCATION;VALUE=URI;X-ADDRESS=Natural History Museum 900 Exposition Blvd Los Angeles CA 90037 United States;X-APPLE-RADIUS=500;X-TITLE=900 Exposition Blvd:geo:-118.2886818,34.0170769
END:VEVENT
BEGIN:VEVENT
DTSTART;TZID=America/Los_Angeles:20161126T173000
DTEND;TZID=America/Los_Angeles:20161126T210000
DTSTAMP:20260423T232958
CREATED:20250517T004845Z
LAST-MODIFIED:20250517T004845Z
UID:10044146-1480181400-1480194000@expositionpark.ca.gov
SUMMARY:Kids In Sports
DESCRIPTION:
URL:https://expositionpark.ca.gov/event/kids-in-sports/2016-11-26/
LOCATION:EXPO Center\, 3980 Bill Robertson Lane\, Los Angeles\, CA\, 90037\, United States
GEO:34.0121136;-118.2900829
X-APPLE-STRUCTURED-LOCATION;VALUE=URI;X-ADDRESS=EXPO Center 3980 Bill Robertson Lane Los Angeles CA 90037 United States;X-APPLE-RADIUS=500;X-TITLE=3980 Bill Robertson Lane:geo:-118.2900829,34.0121136
END:VEVENT
END:VCALENDAR