BEGIN:VCALENDAR
VERSION:2.0
PRODID:-//Exposition Park - ECPv6.15.20//NONSGML v1.0//EN
CALSCALE:GREGORIAN
METHOD:PUBLISH
X-ORIGINAL-URL:https://expositionpark.ca.gov
X-WR-CALDESC:Events for Exposition Park
REFRESH-INTERVAL;VALUE=DURATION:PT1H
X-Robots-Tag:noindex
X-PUBLISHED-TTL:PT1H
BEGIN:VTIMEZONE
TZID:America/Los_Angeles
BEGIN:DAYLIGHT
TZOFFSETFROM:-0800
TZOFFSETTO:-0700
TZNAME:PDT
DTSTART:20150308T100000
END:DAYLIGHT
BEGIN:STANDARD
TZOFFSETFROM:-0700
TZOFFSETTO:-0800
TZNAME:PST
DTSTART:20151101T090000
END:STANDARD
BEGIN:DAYLIGHT
TZOFFSETFROM:-0800
TZOFFSETTO:-0700
TZNAME:PDT
DTSTART:20160313T100000
END:DAYLIGHT
BEGIN:STANDARD
TZOFFSETFROM:-0700
TZOFFSETTO:-0800
TZNAME:PST
DTSTART:20161106T090000
END:STANDARD
BEGIN:DAYLIGHT
TZOFFSETFROM:-0800
TZOFFSETTO:-0700
TZNAME:PDT
DTSTART:20170312T100000
END:DAYLIGHT
BEGIN:STANDARD
TZOFFSETFROM:-0700
TZOFFSETTO:-0800
TZNAME:PST
DTSTART:20171105T090000
END:STANDARD
END:VTIMEZONE
BEGIN:VEVENT
DTSTART;TZID=America/Los_Angeles:20161208T080000
DTEND;TZID=America/Los_Angeles:20161208T160000
DTSTAMP:20260419T131314
CREATED:20161007T223851Z
LAST-MODIFIED:20161007T223851Z
UID:10047580-1481184000-1481212800@expositionpark.ca.gov
SUMMARY:Holiday Event
DESCRIPTION:Venue: Wallis Anneberg Building – Muses Room \nAttendees: 60
URL:https://expositionpark.ca.gov/event/holiday-event-12/
LOCATION:United States
ORGANIZER;CN="Kari Mendez":MAILTO:kmendez@cscmail.org
END:VEVENT
BEGIN:VEVENT
DTSTART;TZID=America/Los_Angeles:20161208T143000
DTEND;TZID=America/Los_Angeles:20161208T160000
DTSTAMP:20260419T131314
CREATED:20161128T231037Z
LAST-MODIFIED:20161128T231037Z
UID:10047628-1481207400-1481212800@expositionpark.ca.gov
SUMMARY:Board of Directors for the California Science Center and Exposition Park Meeting
DESCRIPTION:
URL:https://expositionpark.ca.gov/event/board-of-directors-for-the-california-science-center-and-exposition-park-meeting/
LOCATION:Los Angeles Memorial Coliseum\, 3911 S. Figueroa Street\, Los Angeles\, CA\, 90037\, United States
GEO:34.0128523;-118.2845395
X-APPLE-STRUCTURED-LOCATION;VALUE=URI;X-ADDRESS=Los Angeles Memorial Coliseum 3911 S. Figueroa Street Los Angeles CA 90037 United States;X-APPLE-RADIUS=500;X-TITLE=3911 S. Figueroa Street:geo:-118.2845395,34.0128523
END:VEVENT
BEGIN:VEVENT
DTSTART;TZID=America/Los_Angeles:20161208T143000
DTEND;TZID=America/Los_Angeles:20161208T160000
DTSTAMP:20260419T131314
CREATED:20161128T231121Z
LAST-MODIFIED:20161128T231121Z
UID:10047630-1481207400-1481212800@expositionpark.ca.gov
SUMMARY:Coliseum Commission Meeting
DESCRIPTION:
URL:https://expositionpark.ca.gov/event/coliseum-commission-meeting/
LOCATION:Los Angeles Memorial Coliseum\, 3911 S. Figueroa Street\, Los Angeles\, CA\, 90037\, United States
GEO:34.0128523;-118.2845395
X-APPLE-STRUCTURED-LOCATION;VALUE=URI;X-ADDRESS=Los Angeles Memorial Coliseum 3911 S. Figueroa Street Los Angeles CA 90037 United States;X-APPLE-RADIUS=500;X-TITLE=3911 S. Figueroa Street:geo:-118.2845395,34.0128523
END:VEVENT
BEGIN:VEVENT
DTSTART;TZID=America/Los_Angeles:20161208T173000
DTEND;TZID=America/Los_Angeles:20161208T210000
DTSTAMP:20260419T131314
CREATED:20250517T004845Z
LAST-MODIFIED:20250517T004845Z
UID:10044153-1481218200-1481230800@expositionpark.ca.gov
SUMMARY:Kids In Sports
DESCRIPTION:
URL:https://expositionpark.ca.gov/event/kids-in-sports/2016-12-08/
LOCATION:EXPO Center\, 3980 Bill Robertson Lane\, Los Angeles\, CA\, 90037\, United States
GEO:34.0121136;-118.2900829
X-APPLE-STRUCTURED-LOCATION;VALUE=URI;X-ADDRESS=EXPO Center 3980 Bill Robertson Lane Los Angeles CA 90037 United States;X-APPLE-RADIUS=500;X-TITLE=3980 Bill Robertson Lane:geo:-118.2900829,34.0121136
END:VEVENT
BEGIN:VEVENT
DTSTART;TZID=America/Los_Angeles:20161208T180000
DTEND;TZID=America/Los_Angeles:20161208T210000
DTSTAMP:20260419T131314
CREATED:20160822T174752Z
LAST-MODIFIED:20160822T174752Z
UID:10044345-1481220000-1481230800@expositionpark.ca.gov
SUMMARY:Vermont Sports Club
DESCRIPTION:
URL:https://expositionpark.ca.gov/event/vermont-sports-club/2016-12-08/
LOCATION:EXPO Center\, 3980 Bill Robertson Lane\, Los Angeles\, CA\, 90037\, United States
ORGANIZER;CN="Special Events":MAILTO:specialevents@nhm.org
GEO:34.0121136;-118.2900829
X-APPLE-STRUCTURED-LOCATION;VALUE=URI;X-ADDRESS=EXPO Center 3980 Bill Robertson Lane Los Angeles CA 90037 United States;X-APPLE-RADIUS=500;X-TITLE=3980 Bill Robertson Lane:geo:-118.2900829,34.0121136
END:VEVENT
BEGIN:VEVENT
DTSTART;TZID=America/Los_Angeles:20161208T190000
DTEND;TZID=America/Los_Angeles:20161208T220000
DTSTAMP:20260419T131314
CREATED:20160714T233826Z
LAST-MODIFIED:20160714T233826Z
UID:10044043-1481223600-1481234400@expositionpark.ca.gov
SUMMARY:Holiday Event
DESCRIPTION:Venue: Samuel Oschin Pavilion
URL:https://expositionpark.ca.gov/event/holiday-event-9/
LOCATION:United States
ORGANIZER;CN="Kari Mendez":MAILTO:kmendez@cscmail.org
END:VEVENT
END:VCALENDAR