BEGIN:VCALENDAR
VERSION:2.0
PRODID:-//Exposition Park - ECPv6.15.20//NONSGML v1.0//EN
CALSCALE:GREGORIAN
METHOD:PUBLISH
X-ORIGINAL-URL:https://expositionpark.ca.gov
X-WR-CALDESC:Events for Exposition Park
REFRESH-INTERVAL;VALUE=DURATION:PT1H
X-Robots-Tag:noindex
X-PUBLISHED-TTL:PT1H
BEGIN:VTIMEZONE
TZID:America/Los_Angeles
BEGIN:DAYLIGHT
TZOFFSETFROM:-0800
TZOFFSETTO:-0700
TZNAME:PDT
DTSTART:20160313T100000
END:DAYLIGHT
BEGIN:STANDARD
TZOFFSETFROM:-0700
TZOFFSETTO:-0800
TZNAME:PST
DTSTART:20161106T090000
END:STANDARD
BEGIN:DAYLIGHT
TZOFFSETFROM:-0800
TZOFFSETTO:-0700
TZNAME:PDT
DTSTART:20170312T100000
END:DAYLIGHT
BEGIN:STANDARD
TZOFFSETFROM:-0700
TZOFFSETTO:-0800
TZNAME:PST
DTSTART:20171105T090000
END:STANDARD
BEGIN:DAYLIGHT
TZOFFSETFROM:-0800
TZOFFSETTO:-0700
TZNAME:PDT
DTSTART:20180311T100000
END:DAYLIGHT
BEGIN:STANDARD
TZOFFSETFROM:-0700
TZOFFSETTO:-0800
TZNAME:PST
DTSTART:20181104T090000
END:STANDARD
END:VTIMEZONE
BEGIN:VEVENT
DTSTART;TZID=America/Los_Angeles:20170106T183000
DTEND;TZID=America/Los_Angeles:20170107T080000
DTSTAMP:20260420T201900
CREATED:20161229T201254Z
LAST-MODIFIED:20161229T201254Z
UID:10044192-1483727400-1483776000@expositionpark.ca.gov
SUMMARY:Sleepover at the Museum!
DESCRIPTION:Ever wonder what it’s like to spend the night at a Museum?  Grab your family and friends and find out while experiencing a night to remember. Discover if you’re a nighttime paleontologist\, a mysteries-of-the-Museum-solver\, or responsible for the next Ice Age find while sleeping among the collections at the Natural History Museum or the La Brea Tar Pits and Museum.  Your ticket also provides vital support to the Museum’s scientific and educational programs\, helping fund everything from researchers in the field to 200\,000 school children’s visits annually.
URL:https://expositionpark.ca.gov/event/sleepover-at-the-museum/
LOCATION:Natural History Museum of Los Angeles County\, 900 Exposition Blvd.\, Los Angeles\, CA\, 90007\, United States
GEO:34.0170769;-118.2886818
X-APPLE-STRUCTURED-LOCATION;VALUE=URI;X-ADDRESS=Natural History Museum of Los Angeles County 900 Exposition Blvd. Los Angeles CA 90007 United States;X-APPLE-RADIUS=500;X-TITLE=900 Exposition Blvd.:geo:-118.2886818,34.0170769
END:VEVENT
BEGIN:VEVENT
DTSTART;VALUE=DATE:20170107
DTEND;VALUE=DATE:20170108
DTSTAMP:20260420T201900
CREATED:20160428T221208Z
LAST-MODIFIED:20160428T221208Z
UID:10043918-1483747200-1483833599@expositionpark.ca.gov
SUMMARY:Tentative Event
DESCRIPTION:
URL:https://expositionpark.ca.gov/event/tentative-event-6/
LOCATION:Los Angeles Memorial Coliseum\, 3911 S. Figueroa Street\, Los Angeles\, CA\, 90037\, United States
GEO:34.0128523;-118.2845395
X-APPLE-STRUCTURED-LOCATION;VALUE=URI;X-ADDRESS=Los Angeles Memorial Coliseum 3911 S. Figueroa Street Los Angeles CA 90037 United States;X-APPLE-RADIUS=500;X-TITLE=3911 S. Figueroa Street:geo:-118.2845395,34.0128523
END:VEVENT
BEGIN:VEVENT
DTSTART;TZID=America/Los_Angeles:20170107T100000
DTEND;TZID=America/Los_Angeles:20170107T150000
DTSTAMP:20260420T201900
CREATED:20161213T173718Z
LAST-MODIFIED:20161213T173718Z
UID:10047650-1483783200-1483801200@expositionpark.ca.gov
SUMMARY:All that Glitters\, Winter Festivities at NHM
DESCRIPTION:This holiday season we’re shining light on\, Diamonds: Rare Brilliance\, a temporary exhibit featuring rare colored diamonds. Spend the day admiring rare diamonds in NHM’s Gem and Mineral Hall\, and watch the transformation from rock to smooth gemstone in live cabbing demonstrations. Take part in a special guided tour of the Gem Vault\, and design your own bling with hands-on activities for the whole family with artists from Barnsdall Arts. Free with paid Museum Admission and free for Museum Members. Activities available on a first-come\, first-served basis\, while supplies last.
URL:https://expositionpark.ca.gov/event/all-that-glitters-winter-festivities-at-nhm-3/
LOCATION:Natural History Museum of Los Angeles County\, 900 Exposition Blvd.\, Los Angeles\, CA\, 90007\, United States
GEO:34.0170769;-118.2886818
X-APPLE-STRUCTURED-LOCATION;VALUE=URI;X-ADDRESS=Natural History Museum of Los Angeles County 900 Exposition Blvd. Los Angeles CA 90007 United States;X-APPLE-RADIUS=500;X-TITLE=900 Exposition Blvd.:geo:-118.2886818,34.0170769
END:VEVENT
BEGIN:VEVENT
DTSTART;TZID=America/Los_Angeles:20170107T160000
DTEND;TZID=America/Los_Angeles:20170107T160000
DTSTAMP:20260420T201900
CREATED:20170105T182137Z
LAST-MODIFIED:20170105T182137Z
UID:10044198-1483804800-1483804800@expositionpark.ca.gov
SUMMARY:Private Event
DESCRIPTION:
URL:https://expositionpark.ca.gov/event/private-event-29/
LOCATION:Natural History Museum of Los Angeles County\, 900 Exposition Blvd.\, Los Angeles\, CA\, 90007\, United States
GEO:34.0170769;-118.2886818
X-APPLE-STRUCTURED-LOCATION;VALUE=URI;X-ADDRESS=Natural History Museum of Los Angeles County 900 Exposition Blvd. Los Angeles CA 90007 United States;X-APPLE-RADIUS=500;X-TITLE=900 Exposition Blvd.:geo:-118.2886818,34.0170769
END:VEVENT
END:VCALENDAR