BEGIN:VCALENDAR
VERSION:2.0
PRODID:-//Exposition Park - ECPv6.15.20//NONSGML v1.0//EN
CALSCALE:GREGORIAN
METHOD:PUBLISH
X-ORIGINAL-URL:https://expositionpark.ca.gov
X-WR-CALDESC:Events for Exposition Park
REFRESH-INTERVAL;VALUE=DURATION:PT1H
X-Robots-Tag:noindex
X-PUBLISHED-TTL:PT1H
BEGIN:VTIMEZONE
TZID:America/Los_Angeles
BEGIN:DAYLIGHT
TZOFFSETFROM:-0800
TZOFFSETTO:-0700
TZNAME:PDT
DTSTART:20160313T100000
END:DAYLIGHT
BEGIN:STANDARD
TZOFFSETFROM:-0700
TZOFFSETTO:-0800
TZNAME:PST
DTSTART:20161106T090000
END:STANDARD
BEGIN:DAYLIGHT
TZOFFSETFROM:-0800
TZOFFSETTO:-0700
TZNAME:PDT
DTSTART:20170312T100000
END:DAYLIGHT
BEGIN:STANDARD
TZOFFSETFROM:-0700
TZOFFSETTO:-0800
TZNAME:PST
DTSTART:20171105T090000
END:STANDARD
BEGIN:DAYLIGHT
TZOFFSETFROM:-0800
TZOFFSETTO:-0700
TZNAME:PDT
DTSTART:20180311T100000
END:DAYLIGHT
BEGIN:STANDARD
TZOFFSETFROM:-0700
TZOFFSETTO:-0800
TZNAME:PST
DTSTART:20181104T090000
END:STANDARD
END:VTIMEZONE
BEGIN:VEVENT
DTSTART;VALUE=DATE:20170108
DTEND;VALUE=DATE:20170109
DTSTAMP:20260420T201907
CREATED:20160428T221230Z
LAST-MODIFIED:20160428T221230Z
UID:10043919-1483833600-1483919999@expositionpark.ca.gov
SUMMARY:Tentative Event
DESCRIPTION:
URL:https://expositionpark.ca.gov/event/tentative-event-7/
LOCATION:Los Angeles Memorial Coliseum\, 3911 S. Figueroa Street\, Los Angeles\, CA\, 90037\, United States
GEO:34.0128523;-118.2845395
X-APPLE-STRUCTURED-LOCATION;VALUE=URI;X-ADDRESS=Los Angeles Memorial Coliseum 3911 S. Figueroa Street Los Angeles CA 90037 United States;X-APPLE-RADIUS=500;X-TITLE=3911 S. Figueroa Street:geo:-118.2845395,34.0128523
END:VEVENT
BEGIN:VEVENT
DTSTART;TZID=America/Los_Angeles:20170108T080000
DTEND;TZID=America/Los_Angeles:20170108T170000
DTSTAMP:20260420T201907
CREATED:20170112T215350Z
LAST-MODIFIED:20170112T215350Z
UID:10044269-1483862400-1483894800@expositionpark.ca.gov
SUMMARY:Vermont Sports Club
DESCRIPTION:
URL:https://expositionpark.ca.gov/event/vermont-sports-club-6/2017-01-08/
LOCATION:EXPO Center\, 3980 Bill Robertson Lane\, Los Angeles\, CA\, 90037\, United States
GEO:34.0121136;-118.2900829
X-APPLE-STRUCTURED-LOCATION;VALUE=URI;X-ADDRESS=EXPO Center 3980 Bill Robertson Lane Los Angeles CA 90037 United States;X-APPLE-RADIUS=500;X-TITLE=3980 Bill Robertson Lane:geo:-118.2900829,34.0121136
END:VEVENT
BEGIN:VEVENT
DTSTART;TZID=America/Los_Angeles:20170108T100000
DTEND;TZID=America/Los_Angeles:20170108T170000
DTSTAMP:20260420T201907
CREATED:20161229T200845Z
LAST-MODIFIED:20161229T200845Z
UID:10047661-1483869600-1483894800@expositionpark.ca.gov
SUMMARY:Birthday Parties!
DESCRIPTION:Celebrate Your Birthday at the Museum!\nWhether your child dreams of someday becoming a world-renowned paleontologist\, has a love affair with butterflies\, or is intrigued by gems\, celebrating your birthday at the Museum is an experience of a lifetime! \nFrom planning to execution\, let our birthday party team bring your child’s dream party to reality for an experience that ROARS above all others.
URL:https://expositionpark.ca.gov/event/birthday-parties-2/
LOCATION:Natural History Museum of Los Angeles County\, 900 Exposition Blvd.\, Los Angeles\, CA\, 90007\, United States
GEO:34.0170769;-118.2886818
X-APPLE-STRUCTURED-LOCATION;VALUE=URI;X-ADDRESS=Natural History Museum of Los Angeles County 900 Exposition Blvd. Los Angeles CA 90007 United States;X-APPLE-RADIUS=500;X-TITLE=900 Exposition Blvd.:geo:-118.2886818,34.0170769
END:VEVENT
BEGIN:VEVENT
DTSTART;TZID=America/Los_Angeles:20170108T173000
DTEND;TZID=America/Los_Angeles:20170108T223000
DTSTAMP:20260420T201907
CREATED:20170112T215510Z
LAST-MODIFIED:20170112T215510Z
UID:10044277-1483896600-1483914600@expositionpark.ca.gov
SUMMARY:San Pedro Soccer League
DESCRIPTION:
URL:https://expositionpark.ca.gov/event/san-pedro-soccer-league-2/2017-01-08/
LOCATION:EXPO Center\, 3980 Bill Robertson Lane\, Los Angeles\, CA\, 90037\, United States
GEO:34.0121136;-118.2900829
X-APPLE-STRUCTURED-LOCATION;VALUE=URI;X-ADDRESS=EXPO Center 3980 Bill Robertson Lane Los Angeles CA 90037 United States;X-APPLE-RADIUS=500;X-TITLE=3980 Bill Robertson Lane:geo:-118.2900829,34.0121136
END:VEVENT
END:VCALENDAR