BEGIN:VCALENDAR
VERSION:2.0
PRODID:-//Exposition Park - ECPv6.15.20//NONSGML v1.0//EN
CALSCALE:GREGORIAN
METHOD:PUBLISH
X-ORIGINAL-URL:https://expositionpark.ca.gov
X-WR-CALDESC:Events for Exposition Park
REFRESH-INTERVAL;VALUE=DURATION:PT1H
X-Robots-Tag:noindex
X-PUBLISHED-TTL:PT1H
BEGIN:VTIMEZONE
TZID:America/Los_Angeles
BEGIN:DAYLIGHT
TZOFFSETFROM:-0800
TZOFFSETTO:-0700
TZNAME:PDT
DTSTART:20160313T100000
END:DAYLIGHT
BEGIN:STANDARD
TZOFFSETFROM:-0700
TZOFFSETTO:-0800
TZNAME:PST
DTSTART:20161106T090000
END:STANDARD
BEGIN:DAYLIGHT
TZOFFSETFROM:-0800
TZOFFSETTO:-0700
TZNAME:PDT
DTSTART:20170312T100000
END:DAYLIGHT
BEGIN:STANDARD
TZOFFSETFROM:-0700
TZOFFSETTO:-0800
TZNAME:PST
DTSTART:20171105T090000
END:STANDARD
BEGIN:DAYLIGHT
TZOFFSETFROM:-0800
TZOFFSETTO:-0700
TZNAME:PDT
DTSTART:20180311T100000
END:DAYLIGHT
BEGIN:STANDARD
TZOFFSETFROM:-0700
TZOFFSETTO:-0800
TZNAME:PST
DTSTART:20181104T090000
END:STANDARD
END:VTIMEZONE
BEGIN:VEVENT
DTSTART;TZID=America/Los_Angeles:20170121T050000
DTEND;TZID=America/Los_Angeles:20170121T220000
DTSTAMP:20260420T201908
CREATED:20170120T210506Z
LAST-MODIFIED:20170120T210506Z
UID:10047706-1484974800-1485036000@expositionpark.ca.gov
SUMMARY:Pretty Bird
DESCRIPTION:
URL:https://expositionpark.ca.gov/event/pretty-bird/
LOCATION:Lot 4
END:VEVENT
BEGIN:VEVENT
DTSTART;TZID=America/Los_Angeles:20170121T080000
DTEND;TZID=America/Los_Angeles:20170121T170000
DTSTAMP:20260420T201908
CREATED:20170112T215235Z
LAST-MODIFIED:20170508T190049Z
UID:10044245-1484985600-1485018000@expositionpark.ca.gov
SUMMARY:Youth Orchestra Los Angeles
DESCRIPTION:
URL:https://expositionpark.ca.gov/event/youth-orchestra-los-angeles/2017-01-21/
LOCATION:EXPO Center\, 3980 Bill Robertson Lane\, Los Angeles\, CA\, 90037\, United States
GEO:34.0121136;-118.2900829
X-APPLE-STRUCTURED-LOCATION;VALUE=URI;X-ADDRESS=EXPO Center 3980 Bill Robertson Lane Los Angeles CA 90037 United States;X-APPLE-RADIUS=500;X-TITLE=3980 Bill Robertson Lane:geo:-118.2900829,34.0121136
END:VEVENT
BEGIN:VEVENT
DTSTART;TZID=America/Los_Angeles:20170121T100000
DTEND;TZID=America/Los_Angeles:20170121T130000
DTSTAMP:20260420T201908
CREATED:20170123T194502Z
LAST-MODIFIED:20170123T194502Z
UID:10047718-1484992800-1485003600@expositionpark.ca.gov
SUMMARY:AARP Volunteer Appreciation
DESCRIPTION:AARP Volunteer Appreciation breakfast
URL:https://expositionpark.ca.gov/event/aarp-volunteer-appreciation/
LOCATION:CA
END:VEVENT
BEGIN:VEVENT
DTSTART;TZID=America/Los_Angeles:20170121T100000
DTEND;TZID=America/Los_Angeles:20170121T170000
DTSTAMP:20260420T201908
CREATED:20161229T201052Z
LAST-MODIFIED:20161229T201052Z
UID:10044188-1484992800-1485018000@expositionpark.ca.gov
SUMMARY:Birthday Parties!
DESCRIPTION:Celebrate Your Birthday at the Museum!\nWhether your child dreams of someday becoming a world-renowned paleontologist\, has a love affair with butterflies\, or is intrigued by gems\, celebrating your birthday at the Museum is an experience of a lifetime! \nFrom planning to execution\, let our birthday party team bring your child’s dream party to reality for an experience that ROARS above all others.
URL:https://expositionpark.ca.gov/event/birthday-parties-4/
LOCATION:Natural History Museum of Los Angeles County\, 900 Exposition Blvd.\, Los Angeles\, CA\, 90007\, United States
GEO:34.0170769;-118.2886818
X-APPLE-STRUCTURED-LOCATION;VALUE=URI;X-ADDRESS=Natural History Museum of Los Angeles County 900 Exposition Blvd. Los Angeles CA 90007 United States;X-APPLE-RADIUS=500;X-TITLE=900 Exposition Blvd.:geo:-118.2886818,34.0170769
END:VEVENT
BEGIN:VEVENT
DTSTART;TZID=America/Los_Angeles:20170121T120000
DTEND;TZID=America/Los_Angeles:20170121T160000
DTSTAMP:20260420T201908
CREATED:20170112T212133Z
LAST-MODIFIED:20170112T212133Z
UID:10044206-1485000000-1485014400@expositionpark.ca.gov
SUMMARY:OneLife LA
DESCRIPTION:Set-up will take place on Friday
URL:https://expositionpark.ca.gov/event/onelife-la/
LOCATION:Christmas Tree Lane East & West; Expo Grass East & West; Jesse Brewer Park\, CA
GEO:36.778261;-119.4179324
END:VEVENT
BEGIN:VEVENT
DTSTART;TZID=America/Los_Angeles:20170121T160000
DTEND;TZID=America/Los_Angeles:20170121T160000
DTSTAMP:20260420T201908
CREATED:20170105T182307Z
LAST-MODIFIED:20170105T182307Z
UID:10044200-1485014400-1485014400@expositionpark.ca.gov
SUMMARY:Private Event
DESCRIPTION:
URL:https://expositionpark.ca.gov/event/private-event-30/
LOCATION:Natural History Museum of Los Angeles County\, 900 Exposition Blvd.\, Los Angeles\, CA\, 90007\, United States
GEO:34.0170769;-118.2886818
X-APPLE-STRUCTURED-LOCATION;VALUE=URI;X-ADDRESS=Natural History Museum of Los Angeles County 900 Exposition Blvd. Los Angeles CA 90007 United States;X-APPLE-RADIUS=500;X-TITLE=900 Exposition Blvd.:geo:-118.2886818,34.0170769
END:VEVENT
BEGIN:VEVENT
DTSTART;TZID=America/Los_Angeles:20170121T180000
DTEND;TZID=America/Los_Angeles:20170121T230000
DTSTAMP:20260420T201908
CREATED:20170112T215430Z
LAST-MODIFIED:20170112T215430Z
UID:10044275-1485021600-1485039600@expositionpark.ca.gov
SUMMARY:Tri-Color Soccer
DESCRIPTION:
URL:https://expositionpark.ca.gov/event/tri-color-soccer-2/2017-01-21/
LOCATION:EXPO Center\, 3980 Bill Robertson Lane\, Los Angeles\, CA\, 90037\, United States
GEO:34.0121136;-118.2900829
X-APPLE-STRUCTURED-LOCATION;VALUE=URI;X-ADDRESS=EXPO Center 3980 Bill Robertson Lane Los Angeles CA 90037 United States;X-APPLE-RADIUS=500;X-TITLE=3980 Bill Robertson Lane:geo:-118.2900829,34.0121136
END:VEVENT
END:VCALENDAR