BEGIN:VCALENDAR
VERSION:2.0
PRODID:-//Exposition Park - ECPv6.15.20//NONSGML v1.0//EN
CALSCALE:GREGORIAN
METHOD:PUBLISH
X-WR-CALNAME:Exposition Park
X-ORIGINAL-URL:https://expositionpark.ca.gov
X-WR-CALDESC:Events for Exposition Park
REFRESH-INTERVAL;VALUE=DURATION:PT1H
X-Robots-Tag:noindex
X-PUBLISHED-TTL:PT1H
BEGIN:VTIMEZONE
TZID:America/Los_Angeles
BEGIN:DAYLIGHT
TZOFFSETFROM:-0800
TZOFFSETTO:-0700
TZNAME:PDT
DTSTART:20160313T100000
END:DAYLIGHT
BEGIN:STANDARD
TZOFFSETFROM:-0700
TZOFFSETTO:-0800
TZNAME:PST
DTSTART:20161106T090000
END:STANDARD
BEGIN:DAYLIGHT
TZOFFSETFROM:-0800
TZOFFSETTO:-0700
TZNAME:PDT
DTSTART:20170312T100000
END:DAYLIGHT
BEGIN:STANDARD
TZOFFSETFROM:-0700
TZOFFSETTO:-0800
TZNAME:PST
DTSTART:20171105T090000
END:STANDARD
BEGIN:DAYLIGHT
TZOFFSETFROM:-0800
TZOFFSETTO:-0700
TZNAME:PDT
DTSTART:20180311T100000
END:DAYLIGHT
BEGIN:STANDARD
TZOFFSETFROM:-0700
TZOFFSETTO:-0800
TZNAME:PST
DTSTART:20181104T090000
END:STANDARD
END:VTIMEZONE
BEGIN:VEVENT
DTSTART;TZID=America/Los_Angeles:20170127T080000
DTEND;TZID=America/Los_Angeles:20170127T110000
DTSTAMP:20260423T100346
CREATED:20161003T181701Z
LAST-MODIFIED:20161003T181701Z
UID:10044059-1485504000-1485514800@expositionpark.ca.gov
SUMMARY:Corporate Event
DESCRIPTION:Venue: Samuel Oschin Pavilion \nAttendees: 80
URL:https://expositionpark.ca.gov/event/corporate-event-94/
LOCATION:CA\, United States
ORGANIZER;CN="Kari Mendez":MAILTO:kmendez@cscmail.org
END:VEVENT
BEGIN:VEVENT
DTSTART;TZID=America/Los_Angeles:20170127T173000
DTEND;TZID=America/Los_Angeles:20170127T210000
DTSTAMP:20260423T100346
CREATED:20170112T214949Z
LAST-MODIFIED:20170112T214949Z
UID:10044241-1485538200-1485550800@expositionpark.ca.gov
SUMMARY:EXPO Soccer
DESCRIPTION:
URL:https://expositionpark.ca.gov/event/expo-soccer/2017-01-27/
LOCATION:EXPO Center\, 3980 Bill Robertson Lane\, Los Angeles\, CA\, 90037\, United States
GEO:34.0121136;-118.2900829
X-APPLE-STRUCTURED-LOCATION;VALUE=URI;X-ADDRESS=EXPO Center 3980 Bill Robertson Lane Los Angeles CA 90037 United States;X-APPLE-RADIUS=500;X-TITLE=3980 Bill Robertson Lane:geo:-118.2900829,34.0121136
END:VEVENT
BEGIN:VEVENT
DTSTART;TZID=America/Los_Angeles:20170127T190000
DTEND;TZID=America/Los_Angeles:20170127T220000
DTSTAMP:20260423T100346
CREATED:20161003T181427Z
LAST-MODIFIED:20161003T181427Z
UID:10047535-1485543600-1485554400@expositionpark.ca.gov
SUMMARY:Corporate Event
DESCRIPTION:Venue: Samuel Oschin Pavilion \nAttendees: 100
URL:https://expositionpark.ca.gov/event/corporate-event-93/
LOCATION:CA\, United States
ORGANIZER;CN="Kari Mendez":MAILTO:kmendez@cscmail.org
END:VEVENT
END:VCALENDAR