BEGIN:VCALENDAR
VERSION:2.0
PRODID:-//Exposition Park - ECPv6.15.20//NONSGML v1.0//EN
CALSCALE:GREGORIAN
METHOD:PUBLISH
X-ORIGINAL-URL:https://expositionpark.ca.gov
X-WR-CALDESC:Events for Exposition Park
REFRESH-INTERVAL;VALUE=DURATION:PT1H
X-Robots-Tag:noindex
X-PUBLISHED-TTL:PT1H
BEGIN:VTIMEZONE
TZID:America/Los_Angeles
BEGIN:DAYLIGHT
TZOFFSETFROM:-0800
TZOFFSETTO:-0700
TZNAME:PDT
DTSTART:20160313T100000
END:DAYLIGHT
BEGIN:STANDARD
TZOFFSETFROM:-0700
TZOFFSETTO:-0800
TZNAME:PST
DTSTART:20161106T090000
END:STANDARD
BEGIN:DAYLIGHT
TZOFFSETFROM:-0800
TZOFFSETTO:-0700
TZNAME:PDT
DTSTART:20170312T100000
END:DAYLIGHT
BEGIN:STANDARD
TZOFFSETFROM:-0700
TZOFFSETTO:-0800
TZNAME:PST
DTSTART:20171105T090000
END:STANDARD
BEGIN:DAYLIGHT
TZOFFSETFROM:-0800
TZOFFSETTO:-0700
TZNAME:PDT
DTSTART:20180311T100000
END:DAYLIGHT
BEGIN:STANDARD
TZOFFSETFROM:-0700
TZOFFSETTO:-0800
TZNAME:PST
DTSTART:20181104T090000
END:STANDARD
END:VTIMEZONE
BEGIN:VEVENT
DTSTART;TZID=America/Los_Angeles:20170128T040000
DTEND;TZID=America/Los_Angeles:20170128T220000
DTSTAMP:20260422T082049
CREATED:20170126T204841Z
LAST-MODIFIED:20170126T204841Z
UID:10047762-1485576000-1485640800@expositionpark.ca.gov
SUMMARY:DUO Films
DESCRIPTION:
URL:https://expositionpark.ca.gov/event/duo-films/
LOCATION:Lot 1
END:VEVENT
BEGIN:VEVENT
DTSTART;TZID=America/Los_Angeles:20170128T060000
DTEND;TZID=America/Los_Angeles:20170128T200000
DTSTAMP:20260422T082049
CREATED:20170120T210800Z
LAST-MODIFIED:20170120T210800Z
UID:10047710-1485583200-1485633600@expositionpark.ca.gov
SUMMARY:Los Angeles Football Club
DESCRIPTION:
URL:https://expositionpark.ca.gov/event/los-angeles-football-club/
LOCATION:CA
END:VEVENT
BEGIN:VEVENT
DTSTART;TZID=America/Los_Angeles:20170128T080000
DTEND;TZID=America/Los_Angeles:20170128T110000
DTSTAMP:20260422T082049
CREATED:20161007T224318Z
LAST-MODIFIED:20161007T224318Z
UID:10047582-1485590400-1485601200@expositionpark.ca.gov
SUMMARY:Corporate Event
DESCRIPTION:Venue: TBD \nAttendees: 80
URL:https://expositionpark.ca.gov/event/corporate-event-122/
LOCATION:CA\, United States
ORGANIZER;CN="Kari Mendez":MAILTO:kmendez@cscmail.org
END:VEVENT
BEGIN:VEVENT
DTSTART;TZID=America/Los_Angeles:20170128T080000
DTEND;TZID=America/Los_Angeles:20170128T170000
DTSTAMP:20260422T082049
CREATED:20170112T215235Z
LAST-MODIFIED:20170508T190049Z
UID:10044246-1485590400-1485622800@expositionpark.ca.gov
SUMMARY:Youth Orchestra Los Angeles
DESCRIPTION:
URL:https://expositionpark.ca.gov/event/youth-orchestra-los-angeles/2017-01-28/
LOCATION:EXPO Center\, 3980 Bill Robertson Lane\, Los Angeles\, CA\, 90037\, United States
GEO:34.0121136;-118.2900829
X-APPLE-STRUCTURED-LOCATION;VALUE=URI;X-ADDRESS=EXPO Center 3980 Bill Robertson Lane Los Angeles CA 90037 United States;X-APPLE-RADIUS=500;X-TITLE=3980 Bill Robertson Lane:geo:-118.2900829,34.0121136
END:VEVENT
BEGIN:VEVENT
DTSTART;TZID=America/Los_Angeles:20170128T180000
DTEND;TZID=America/Los_Angeles:20170128T230000
DTSTAMP:20260422T082049
CREATED:20170112T215430Z
LAST-MODIFIED:20170112T215430Z
UID:10044276-1485626400-1485644400@expositionpark.ca.gov
SUMMARY:Tri-Color Soccer
DESCRIPTION:
URL:https://expositionpark.ca.gov/event/tri-color-soccer-2/2017-01-28/
LOCATION:EXPO Center\, 3980 Bill Robertson Lane\, Los Angeles\, CA\, 90037\, United States
GEO:34.0121136;-118.2900829
X-APPLE-STRUCTURED-LOCATION;VALUE=URI;X-ADDRESS=EXPO Center 3980 Bill Robertson Lane Los Angeles CA 90037 United States;X-APPLE-RADIUS=500;X-TITLE=3980 Bill Robertson Lane:geo:-118.2900829,34.0121136
END:VEVENT
BEGIN:VEVENT
DTSTART;TZID=America/Los_Angeles:20170128T183000
DTEND;TZID=America/Los_Angeles:20170129T090000
DTSTAMP:20260422T082049
CREATED:20170105T183737Z
LAST-MODIFIED:20170105T183737Z
UID:10047680-1485628200-1485680400@expositionpark.ca.gov
SUMMARY:Private Sleepover
DESCRIPTION:
URL:https://expositionpark.ca.gov/event/private-sleepover/
LOCATION:Natural History Museum of Los Angeles County\, 900 Exposition Blvd.\, Los Angeles\, CA\, 90007\, United States
GEO:34.0170769;-118.2886818
X-APPLE-STRUCTURED-LOCATION;VALUE=URI;X-ADDRESS=Natural History Museum of Los Angeles County 900 Exposition Blvd. Los Angeles CA 90007 United States;X-APPLE-RADIUS=500;X-TITLE=900 Exposition Blvd.:geo:-118.2886818,34.0170769
END:VEVENT
BEGIN:VEVENT
DTSTART;TZID=America/Los_Angeles:20170128T190000
DTEND;TZID=America/Los_Angeles:20170128T220000
DTSTAMP:20260422T082049
CREATED:20161003T181524Z
LAST-MODIFIED:20161003T181524Z
UID:10047537-1485630000-1485640800@expositionpark.ca.gov
SUMMARY:Winter Formal
DESCRIPTION:Venue: Samuel Oschin Pavilion \nAttendees: 200
URL:https://expositionpark.ca.gov/event/winter-formal-2/
LOCATION:CA\, United States
ORGANIZER;CN="Kari Mendez":MAILTO:kmendez@cscmail.org
END:VEVENT
BEGIN:VEVENT
DTSTART;TZID=America/Los_Angeles:20170128T200000
DTEND;TZID=America/Los_Angeles:20170128T235500
DTSTAMP:20260422T082049
CREATED:20160302T170723Z
LAST-MODIFIED:20160302T170723Z
UID:10043785-1485633600-1485647700@expositionpark.ca.gov
SUMMARY:Winter Formal
DESCRIPTION:Venue: Ahmanson
URL:https://expositionpark.ca.gov/event/winter-formal/
LOCATION:California Science Center\, 700 Exposition Park Drive\, Los Angeles\, CA\, 90037\, United States
ORGANIZER;CN="Kari Mendez":MAILTO:kmendez@cscmail.org
GEO:34.0157877;-118.2862095
X-APPLE-STRUCTURED-LOCATION;VALUE=URI;X-ADDRESS=California Science Center 700 Exposition Park Drive Los Angeles CA 90037 United States;X-APPLE-RADIUS=500;X-TITLE=700 Exposition Park Drive:geo:-118.2862095,34.0157877
END:VEVENT
END:VCALENDAR