BEGIN:VCALENDAR
VERSION:2.0
PRODID:-//Exposition Park - ECPv6.15.20//NONSGML v1.0//EN
CALSCALE:GREGORIAN
METHOD:PUBLISH
X-ORIGINAL-URL:https://expositionpark.ca.gov
X-WR-CALDESC:Events for Exposition Park
REFRESH-INTERVAL;VALUE=DURATION:PT1H
X-Robots-Tag:noindex
X-PUBLISHED-TTL:PT1H
BEGIN:VTIMEZONE
TZID:America/Los_Angeles
BEGIN:DAYLIGHT
TZOFFSETFROM:-0800
TZOFFSETTO:-0700
TZNAME:PDT
DTSTART:20160313T100000
END:DAYLIGHT
BEGIN:STANDARD
TZOFFSETFROM:-0700
TZOFFSETTO:-0800
TZNAME:PST
DTSTART:20161106T090000
END:STANDARD
BEGIN:DAYLIGHT
TZOFFSETFROM:-0800
TZOFFSETTO:-0700
TZNAME:PDT
DTSTART:20170312T100000
END:DAYLIGHT
BEGIN:STANDARD
TZOFFSETFROM:-0700
TZOFFSETTO:-0800
TZNAME:PST
DTSTART:20171105T090000
END:STANDARD
BEGIN:DAYLIGHT
TZOFFSETFROM:-0800
TZOFFSETTO:-0700
TZNAME:PDT
DTSTART:20180311T100000
END:DAYLIGHT
BEGIN:STANDARD
TZOFFSETFROM:-0700
TZOFFSETTO:-0800
TZNAME:PST
DTSTART:20181104T090000
END:STANDARD
END:VTIMEZONE
BEGIN:VEVENT
DTSTART;TZID=America/Los_Angeles:20170208T090000
DTEND;TZID=America/Los_Angeles:20170208T230000
DTSTAMP:20260421T091415
CREATED:20170208T005837Z
LAST-MODIFIED:20170208T005837Z
UID:10047802-1486544400-1486594800@expositionpark.ca.gov
SUMMARY:Kamp Grizzly
DESCRIPTION:
URL:https://expositionpark.ca.gov/event/kamp-grizzly/
LOCATION:Lot 4\, CA\, United States
GEO:36.778261;-119.4179324
END:VEVENT
BEGIN:VEVENT
DTSTART;TZID=America/Los_Angeles:20170208T153000
DTEND;TZID=America/Los_Angeles:20170208T173000
DTSTAMP:20260421T091415
CREATED:20170214T222245Z
LAST-MODIFIED:20170508T184748Z
UID:10047914-1486567800-1486575000@expositionpark.ca.gov
SUMMARY:Soccer for Success
DESCRIPTION:
URL:https://expositionpark.ca.gov/event/soccer-for-success-3/2017-02-08/
LOCATION:EXPO Center\, 3980 Bill Robertson Lane\, Los Angeles\, CA\, 90037\, United States
GEO:34.0121136;-118.2900829
X-APPLE-STRUCTURED-LOCATION;VALUE=URI;X-ADDRESS=EXPO Center 3980 Bill Robertson Lane Los Angeles CA 90037 United States;X-APPLE-RADIUS=500;X-TITLE=3980 Bill Robertson Lane:geo:-118.2900829,34.0121136
END:VEVENT
BEGIN:VEVENT
DTSTART;TZID=America/Los_Angeles:20170208T180000
DTEND;TZID=America/Los_Angeles:20170208T200000
DTSTAMP:20260421T091415
CREATED:20170112T215608Z
LAST-MODIFIED:20170112T215608Z
UID:10044287-1486576800-1486584000@expositionpark.ca.gov
SUMMARY:Youth Orchestra Los Angeles
DESCRIPTION:
URL:https://expositionpark.ca.gov/event/youth-orchestra-los-angeles-2/2017-02-08/
LOCATION:EXPO Center\, 3980 Bill Robertson Lane\, Los Angeles\, CA\, 90037\, United States
GEO:34.0121136;-118.2900829
X-APPLE-STRUCTURED-LOCATION;VALUE=URI;X-ADDRESS=EXPO Center 3980 Bill Robertson Lane Los Angeles CA 90037 United States;X-APPLE-RADIUS=500;X-TITLE=3980 Bill Robertson Lane:geo:-118.2900829,34.0121136
END:VEVENT
BEGIN:VEVENT
DTSTART;TZID=America/Los_Angeles:20170208T190000
DTEND;TZID=America/Los_Angeles:20170208T210000
DTSTAMP:20260421T091415
CREATED:20170206T193318Z
LAST-MODIFIED:20170206T193425Z
UID:10047794-1486580400-1486587600@expositionpark.ca.gov
SUMMARY:CAAM Public Programming/David Banner: Activism in Post-Obama America
DESCRIPTION:Expected # of people: 400
URL:https://expositionpark.ca.gov/event/caam-public-programmingdavid-banner-activism-in-post-obama-america/
LOCATION:CA
END:VEVENT
END:VCALENDAR