BEGIN:VCALENDAR
VERSION:2.0
PRODID:-//Exposition Park - ECPv6.15.20//NONSGML v1.0//EN
CALSCALE:GREGORIAN
METHOD:PUBLISH
X-WR-CALNAME:Exposition Park
X-ORIGINAL-URL:https://expositionpark.ca.gov
X-WR-CALDESC:Events for Exposition Park
REFRESH-INTERVAL;VALUE=DURATION:PT1H
X-Robots-Tag:noindex
X-PUBLISHED-TTL:PT1H
BEGIN:VTIMEZONE
TZID:America/Los_Angeles
BEGIN:DAYLIGHT
TZOFFSETFROM:-0800
TZOFFSETTO:-0700
TZNAME:PDT
DTSTART:20160313T100000
END:DAYLIGHT
BEGIN:STANDARD
TZOFFSETFROM:-0700
TZOFFSETTO:-0800
TZNAME:PST
DTSTART:20161106T090000
END:STANDARD
BEGIN:DAYLIGHT
TZOFFSETFROM:-0800
TZOFFSETTO:-0700
TZNAME:PDT
DTSTART:20170312T100000
END:DAYLIGHT
BEGIN:STANDARD
TZOFFSETFROM:-0700
TZOFFSETTO:-0800
TZNAME:PST
DTSTART:20171105T090000
END:STANDARD
BEGIN:DAYLIGHT
TZOFFSETFROM:-0800
TZOFFSETTO:-0700
TZNAME:PDT
DTSTART:20180311T100000
END:DAYLIGHT
BEGIN:STANDARD
TZOFFSETFROM:-0700
TZOFFSETTO:-0800
TZNAME:PST
DTSTART:20181104T090000
END:STANDARD
END:VTIMEZONE
BEGIN:VEVENT
DTSTART;TZID=America/Los_Angeles:20170216T090000
DTEND;TZID=America/Los_Angeles:20170216T170000
DTSTAMP:20260420T040041
CREATED:20161003T182120Z
LAST-MODIFIED:20161003T182120Z
UID:10044066-1487235600-1487264400@expositionpark.ca.gov
SUMMARY:Corporate Event
DESCRIPTION:Venue: Loker Conference Center/Muses \nAttendees: 150
URL:https://expositionpark.ca.gov/event/corporate-event-98/
LOCATION:United States
ORGANIZER;CN="Kari Mendez":MAILTO:kmendez@cscmail.org
END:VEVENT
BEGIN:VEVENT
DTSTART;TZID=America/Los_Angeles:20170216T143000
DTEND;TZID=America/Los_Angeles:20170216T173000
DTSTAMP:20260420T040041
CREATED:20170215T230251Z
LAST-MODIFIED:20170215T230251Z
UID:10045310-1487255400-1487266200@expositionpark.ca.gov
SUMMARY:USC Hybrid
DESCRIPTION:
URL:https://expositionpark.ca.gov/event/usc-hybrid/2017-02-16/
LOCATION:EXPO Center\, 3980 Bill Robertson Lane\, Los Angeles\, CA\, 90037\, United States
GEO:34.0121136;-118.2900829
X-APPLE-STRUCTURED-LOCATION;VALUE=URI;X-ADDRESS=EXPO Center 3980 Bill Robertson Lane Los Angeles CA 90037 United States;X-APPLE-RADIUS=500;X-TITLE=3980 Bill Robertson Lane:geo:-118.2900829,34.0121136
END:VEVENT
BEGIN:VEVENT
DTSTART;TZID=America/Los_Angeles:20170216T180000
DTEND;TZID=America/Los_Angeles:20170216T210000
DTSTAMP:20260420T040041
CREATED:20170214T222818Z
LAST-MODIFIED:20170214T222818Z
UID:10049712-1487268000-1487278800@expositionpark.ca.gov
SUMMARY:Vermont Sports Club
DESCRIPTION:
URL:https://expositionpark.ca.gov/event/vermont-sports-club-7/2017-02-16/
LOCATION:EXPO Center\, 3980 Bill Robertson Lane\, Los Angeles\, CA\, 90037\, United States
GEO:34.0121136;-118.2900829
X-APPLE-STRUCTURED-LOCATION;VALUE=URI;X-ADDRESS=EXPO Center 3980 Bill Robertson Lane Los Angeles CA 90037 United States;X-APPLE-RADIUS=500;X-TITLE=3980 Bill Robertson Lane:geo:-118.2900829,34.0121136
END:VEVENT
BEGIN:VEVENT
DTSTART;TZID=America/Los_Angeles:20170216T190000
DTEND;TZID=America/Los_Angeles:20170216T210000
DTSTAMP:20260420T040041
CREATED:20170123T195105Z
LAST-MODIFIED:20170123T195105Z
UID:10047728-1487271600-1487278800@expositionpark.ca.gov
SUMMARY:CAAM Public Programming - In Conversation: Betye and Alison Saar
DESCRIPTION:CAAM Public Programming – In Conversation: Betye and Alison Saar
URL:https://expositionpark.ca.gov/event/caam-public-programming-in-conversation-betye-and-alison-saar/
END:VEVENT
END:VCALENDAR