BEGIN:VCALENDAR
VERSION:2.0
PRODID:-//Exposition Park - ECPv6.15.20//NONSGML v1.0//EN
CALSCALE:GREGORIAN
METHOD:PUBLISH
X-WR-CALNAME:Exposition Park
X-ORIGINAL-URL:https://expositionpark.ca.gov
X-WR-CALDESC:Events for Exposition Park
REFRESH-INTERVAL;VALUE=DURATION:PT1H
X-Robots-Tag:noindex
X-PUBLISHED-TTL:PT1H
BEGIN:VTIMEZONE
TZID:America/Los_Angeles
BEGIN:DAYLIGHT
TZOFFSETFROM:-0800
TZOFFSETTO:-0700
TZNAME:PDT
DTSTART:20160313T100000
END:DAYLIGHT
BEGIN:STANDARD
TZOFFSETFROM:-0700
TZOFFSETTO:-0800
TZNAME:PST
DTSTART:20161106T090000
END:STANDARD
BEGIN:DAYLIGHT
TZOFFSETFROM:-0800
TZOFFSETTO:-0700
TZNAME:PDT
DTSTART:20170312T100000
END:DAYLIGHT
BEGIN:STANDARD
TZOFFSETFROM:-0700
TZOFFSETTO:-0800
TZNAME:PST
DTSTART:20171105T090000
END:STANDARD
BEGIN:DAYLIGHT
TZOFFSETFROM:-0800
TZOFFSETTO:-0700
TZNAME:PDT
DTSTART:20180311T100000
END:DAYLIGHT
BEGIN:STANDARD
TZOFFSETFROM:-0700
TZOFFSETTO:-0800
TZNAME:PST
DTSTART:20181104T090000
END:STANDARD
END:VTIMEZONE
BEGIN:VEVENT
DTSTART;VALUE=DATE:20170218
DTEND;VALUE=DATE:20170220
DTSTAMP:20260423T100348
CREATED:20160726T001306Z
LAST-MODIFIED:20160726T001306Z
UID:10044219-1487376000-1487548799@expositionpark.ca.gov
SUMMARY:Air & Style
DESCRIPTION:Event takes place throughout the Park: \nSet-up starts February 3 – Load-out by February 27th.
URL:https://expositionpark.ca.gov/event/air-style-2/
LOCATION:Exposition Park\, 700 Exposition Park Drive\, Los Angeles\, CA\, 90037\, United States
GEO:34.0157877;-118.2862095
X-APPLE-STRUCTURED-LOCATION;VALUE=URI;X-ADDRESS=Exposition Park 700 Exposition Park Drive Los Angeles CA 90037 United States;X-APPLE-RADIUS=500;X-TITLE=700 Exposition Park Drive:geo:-118.2862095,34.0157877
END:VEVENT
BEGIN:VEVENT
DTSTART;TZID=America/Los_Angeles:20170219T080000
DTEND;TZID=America/Los_Angeles:20170219T170000
DTSTAMP:20260423T100348
CREATED:20170215T230650Z
LAST-MODIFIED:20170215T230650Z
UID:10047034-1487491200-1487523600@expositionpark.ca.gov
SUMMARY:Vermont Sports Club
DESCRIPTION:
URL:https://expositionpark.ca.gov/event/vermont-sports-club-9/2017-02-19/
LOCATION:EXPO Center\, 3980 Bill Robertson Lane\, Los Angeles\, CA\, 90037\, United States
GEO:34.0121136;-118.2900829
X-APPLE-STRUCTURED-LOCATION;VALUE=URI;X-ADDRESS=EXPO Center 3980 Bill Robertson Lane Los Angeles CA 90037 United States;X-APPLE-RADIUS=500;X-TITLE=3980 Bill Robertson Lane:geo:-118.2900829,34.0121136
END:VEVENT
BEGIN:VEVENT
DTSTART;TZID=America/Los_Angeles:20170219T100000
DTEND;TZID=America/Los_Angeles:20170219T130000
DTSTAMP:20260423T100348
CREATED:20170313T185934Z
LAST-MODIFIED:20170313T185934Z
UID:10050691-1487498400-1487509200@expositionpark.ca.gov
SUMMARY:Basketball
DESCRIPTION:
URL:https://expositionpark.ca.gov/event/basketball/
LOCATION:CA
END:VEVENT
BEGIN:VEVENT
DTSTART;TZID=America/Los_Angeles:20170219T130000
DTEND;TZID=America/Los_Angeles:20170219T150000
DTSTAMP:20260423T100348
CREATED:20170123T195325Z
LAST-MODIFIED:20170123T195325Z
UID:10047732-1487509200-1487516400@expositionpark.ca.gov
SUMMARY:CAAM Public Programming/Truth to Power: African American Comedians and Social Commentary
DESCRIPTION:CAAM Public Programming/Truth to Power: African American Comedians and Social Commentary
URL:https://expositionpark.ca.gov/event/caam-public-programmingtruth-to-power-african-american-comedians-and-social-commentary/
LOCATION:CA
END:VEVENT
BEGIN:VEVENT
DTSTART;TZID=America/Los_Angeles:20170219T173000
DTEND;TZID=America/Los_Angeles:20170219T223000
DTSTAMP:20260423T100348
CREATED:20170313T185822Z
LAST-MODIFIED:20170313T185822Z
UID:10050689-1487525400-1487543400@expositionpark.ca.gov
SUMMARY:San Pedro Soccer
DESCRIPTION:
URL:https://expositionpark.ca.gov/event/san-pedro-soccer/
LOCATION:EXPO Center\, 3980 Bill Robertson Lane\, Los Angeles\, CA\, 90037\, United States
GEO:34.0121136;-118.2900829
X-APPLE-STRUCTURED-LOCATION;VALUE=URI;X-ADDRESS=EXPO Center 3980 Bill Robertson Lane Los Angeles CA 90037 United States;X-APPLE-RADIUS=500;X-TITLE=3980 Bill Robertson Lane:geo:-118.2900829,34.0121136
END:VEVENT
END:VCALENDAR