BEGIN:VCALENDAR
VERSION:2.0
PRODID:-//Exposition Park - ECPv6.15.20//NONSGML v1.0//EN
CALSCALE:GREGORIAN
METHOD:PUBLISH
X-WR-CALNAME:Exposition Park
X-ORIGINAL-URL:https://expositionpark.ca.gov
X-WR-CALDESC:Events for Exposition Park
REFRESH-INTERVAL;VALUE=DURATION:PT1H
X-Robots-Tag:noindex
X-PUBLISHED-TTL:PT1H
BEGIN:VTIMEZONE
TZID:America/Los_Angeles
BEGIN:DAYLIGHT
TZOFFSETFROM:-0800
TZOFFSETTO:-0700
TZNAME:PDT
DTSTART:20160313T100000
END:DAYLIGHT
BEGIN:STANDARD
TZOFFSETFROM:-0700
TZOFFSETTO:-0800
TZNAME:PST
DTSTART:20161106T090000
END:STANDARD
BEGIN:DAYLIGHT
TZOFFSETFROM:-0800
TZOFFSETTO:-0700
TZNAME:PDT
DTSTART:20170312T100000
END:DAYLIGHT
BEGIN:STANDARD
TZOFFSETFROM:-0700
TZOFFSETTO:-0800
TZNAME:PST
DTSTART:20171105T090000
END:STANDARD
BEGIN:DAYLIGHT
TZOFFSETFROM:-0800
TZOFFSETTO:-0700
TZNAME:PDT
DTSTART:20180311T100000
END:DAYLIGHT
BEGIN:STANDARD
TZOFFSETFROM:-0700
TZOFFSETTO:-0800
TZNAME:PST
DTSTART:20181104T090000
END:STANDARD
END:VTIMEZONE
BEGIN:VEVENT
DTSTART;TZID=America/Los_Angeles:20170221T080000
DTEND;TZID=America/Los_Angeles:20170222T170000
DTSTAMP:20260421T044236
CREATED:20170215T231339Z
LAST-MODIFIED:20170215T231339Z
UID:10050574-1487664000-1487782800@expositionpark.ca.gov
SUMMARY:MRA Experential/FortiExpress
DESCRIPTION:
URL:https://expositionpark.ca.gov/event/mra-experentialfortiexpress/
LOCATION:DG Areas by Access Road\, United States
GEO:37.09024;-95.712891
END:VEVENT
BEGIN:VEVENT
DTSTART;TZID=America/Los_Angeles:20170222T080000
DTEND;TZID=America/Los_Angeles:20170222T170000
DTSTAMP:20260421T044236
CREATED:20170215T230401Z
LAST-MODIFIED:20170215T230401Z
UID:10046172-1487750400-1487782800@expositionpark.ca.gov
SUMMARY:New Star
DESCRIPTION:
URL:https://expositionpark.ca.gov/event/new-star/2017-02-22/
LOCATION:EXPO Center\, 3980 Bill Robertson Lane\, Los Angeles\, CA\, 90037\, United States
GEO:34.0121136;-118.2900829
X-APPLE-STRUCTURED-LOCATION;VALUE=URI;X-ADDRESS=EXPO Center 3980 Bill Robertson Lane Los Angeles CA 90037 United States;X-APPLE-RADIUS=500;X-TITLE=3980 Bill Robertson Lane:geo:-118.2900829,34.0121136
END:VEVENT
BEGIN:VEVENT
DTSTART;TZID=America/Los_Angeles:20170222T153000
DTEND;TZID=America/Los_Angeles:20170222T173000
DTSTAMP:20260421T044236
CREATED:20170214T222245Z
LAST-MODIFIED:20170508T184748Z
UID:10047920-1487777400-1487784600@expositionpark.ca.gov
SUMMARY:Soccer for Success
DESCRIPTION:
URL:https://expositionpark.ca.gov/event/soccer-for-success-3/2017-02-22/
LOCATION:EXPO Center\, 3980 Bill Robertson Lane\, Los Angeles\, CA\, 90037\, United States
GEO:34.0121136;-118.2900829
X-APPLE-STRUCTURED-LOCATION;VALUE=URI;X-ADDRESS=EXPO Center 3980 Bill Robertson Lane Los Angeles CA 90037 United States;X-APPLE-RADIUS=500;X-TITLE=3980 Bill Robertson Lane:geo:-118.2900829,34.0121136
END:VEVENT
BEGIN:VEVENT
DTSTART;TZID=America/Los_Angeles:20170222T180000
DTEND;TZID=America/Los_Angeles:20170222T200000
DTSTAMP:20260421T044236
CREATED:20170112T215608Z
LAST-MODIFIED:20170112T215608Z
UID:10044289-1487786400-1487793600@expositionpark.ca.gov
SUMMARY:Youth Orchestra Los Angeles
DESCRIPTION:
URL:https://expositionpark.ca.gov/event/youth-orchestra-los-angeles-2/2017-02-22/
LOCATION:EXPO Center\, 3980 Bill Robertson Lane\, Los Angeles\, CA\, 90037\, United States
GEO:34.0121136;-118.2900829
X-APPLE-STRUCTURED-LOCATION;VALUE=URI;X-ADDRESS=EXPO Center 3980 Bill Robertson Lane Los Angeles CA 90037 United States;X-APPLE-RADIUS=500;X-TITLE=3980 Bill Robertson Lane:geo:-118.2900829,34.0121136
END:VEVENT
BEGIN:VEVENT
DTSTART;TZID=America/Los_Angeles:20170222T180000
DTEND;TZID=America/Los_Angeles:20170222T210000
DTSTAMP:20260421T044236
CREATED:20170214T222616Z
LAST-MODIFIED:20170214T222616Z
UID:10048422-1487786400-1487797200@expositionpark.ca.gov
SUMMARY:EXPO Soccer Clinic
DESCRIPTION:
URL:https://expositionpark.ca.gov/event/expo-soccer-clinic/2017-02-22/
LOCATION:EXPO Center\, 3980 Bill Robertson Lane\, Los Angeles\, CA\, 90037\, United States
GEO:34.0121136;-118.2900829
X-APPLE-STRUCTURED-LOCATION;VALUE=URI;X-ADDRESS=EXPO Center 3980 Bill Robertson Lane Los Angeles CA 90037 United States;X-APPLE-RADIUS=500;X-TITLE=3980 Bill Robertson Lane:geo:-118.2900829,34.0121136
END:VEVENT
BEGIN:VEVENT
DTSTART;TZID=America/Los_Angeles:20170222T190000
DTEND;TZID=America/Los_Angeles:20170222T210000
DTSTAMP:20260421T044236
CREATED:20170206T194217Z
LAST-MODIFIED:20170206T194217Z
UID:10047796-1487790000-1487797200@expositionpark.ca.gov
SUMMARY:CAAM Public Programming/Elaine Brown
DESCRIPTION:
URL:https://expositionpark.ca.gov/event/caam-public-programmingelaine-brown/
LOCATION:CA
END:VEVENT
BEGIN:VEVENT
DTSTART;TZID=America/Los_Angeles:20170222T190000
DTEND;TZID=America/Los_Angeles:20170222T220000
DTSTAMP:20260421T044236
CREATED:20160714T234218Z
LAST-MODIFIED:20160714T234218Z
UID:10044060-1487790000-1487800800@expositionpark.ca.gov
SUMMARY:Social Event
DESCRIPTION:Venue: Samuel Oschin Pavilion
URL:https://expositionpark.ca.gov/event/social-event-70/
LOCATION:CA\, United States
ORGANIZER;CN="Kari Mendez":MAILTO:kmendez@cscmail.org
END:VEVENT
END:VCALENDAR