BEGIN:VCALENDAR
VERSION:2.0
PRODID:-//Exposition Park - ECPv6.15.20//NONSGML v1.0//EN
CALSCALE:GREGORIAN
METHOD:PUBLISH
X-WR-CALNAME:Exposition Park
X-ORIGINAL-URL:https://expositionpark.ca.gov
X-WR-CALDESC:Events for Exposition Park
REFRESH-INTERVAL;VALUE=DURATION:PT1H
X-Robots-Tag:noindex
X-PUBLISHED-TTL:PT1H
BEGIN:VTIMEZONE
TZID:America/Los_Angeles
BEGIN:DAYLIGHT
TZOFFSETFROM:-0800
TZOFFSETTO:-0700
TZNAME:PDT
DTSTART:20160313T100000
END:DAYLIGHT
BEGIN:STANDARD
TZOFFSETFROM:-0700
TZOFFSETTO:-0800
TZNAME:PST
DTSTART:20161106T090000
END:STANDARD
BEGIN:DAYLIGHT
TZOFFSETFROM:-0800
TZOFFSETTO:-0700
TZNAME:PDT
DTSTART:20170312T100000
END:DAYLIGHT
BEGIN:STANDARD
TZOFFSETFROM:-0700
TZOFFSETTO:-0800
TZNAME:PST
DTSTART:20171105T090000
END:STANDARD
BEGIN:DAYLIGHT
TZOFFSETFROM:-0800
TZOFFSETTO:-0700
TZNAME:PDT
DTSTART:20180311T100000
END:DAYLIGHT
BEGIN:STANDARD
TZOFFSETFROM:-0700
TZOFFSETTO:-0800
TZNAME:PST
DTSTART:20181104T090000
END:STANDARD
END:VTIMEZONE
BEGIN:VEVENT
DTSTART;VALUE=DATE:20170317
DTEND;VALUE=DATE:20170320
DTSTAMP:20260421T044224
CREATED:20160708T180454Z
LAST-MODIFIED:20160708T180454Z
UID:10044001-1489708800-1489967999@expositionpark.ca.gov
SUMMARY:Nature Fest
DESCRIPTION:A two-day celebration of Nature in the City!   \n#lanaturefest
URL:https://expositionpark.ca.gov/event/nature-fest-5/
LOCATION:Natural History Museum\, 900 Exposition Blvd\, Los Angeles\, CA\, 90037\, United States
GEO:34.0170769;-118.2886818
X-APPLE-STRUCTURED-LOCATION;VALUE=URI;X-ADDRESS=Natural History Museum 900 Exposition Blvd Los Angeles CA 90037 United States;X-APPLE-RADIUS=500;X-TITLE=900 Exposition Blvd:geo:-118.2886818,34.0170769
END:VEVENT
BEGIN:VEVENT
DTSTART;TZID=America/Los_Angeles:20170318T080000
DTEND;TZID=America/Los_Angeles:20170318T170000
DTSTAMP:20260421T044224
CREATED:20170112T215235Z
LAST-MODIFIED:20170508T190049Z
UID:10044253-1489824000-1489856400@expositionpark.ca.gov
SUMMARY:Youth Orchestra Los Angeles
DESCRIPTION:
URL:https://expositionpark.ca.gov/event/youth-orchestra-los-angeles/2017-03-18/
LOCATION:EXPO Center\, 3980 Bill Robertson Lane\, Los Angeles\, CA\, 90037\, United States
GEO:34.0121136;-118.2900829
X-APPLE-STRUCTURED-LOCATION;VALUE=URI;X-ADDRESS=EXPO Center 3980 Bill Robertson Lane Los Angeles CA 90037 United States;X-APPLE-RADIUS=500;X-TITLE=3980 Bill Robertson Lane:geo:-118.2900829,34.0121136
END:VEVENT
BEGIN:VEVENT
DTSTART;TZID=America/Los_Angeles:20170318T130000
DTEND;TZID=America/Los_Angeles:20170318T150000
DTSTAMP:20260421T044224
CREATED:20170306T190345Z
LAST-MODIFIED:20170306T190345Z
UID:10047495-1489842000-1489849200@expositionpark.ca.gov
SUMMARY:CAAM/Pen\, Ink and Pastel: Figure Drawing Workshop
DESCRIPTION:In Kenyatta A.C. Hinkle: The Evanescedwe see how Hinkle renders\ndifferent women with ink and watercolor on paper. They are sitting\,\nstanding\, moving\, and posing\, and we can sense all of this by how the\nartist skillfully captured their postures. Join artist Gina Goico for a drawing\nworkshop where participants will execute quick studies in pen and ink\,\naccented with pastel. Middle school ages and up. RSVP required.
URL:https://expositionpark.ca.gov/event/caampen-ink-and-pastel-figure-drawing-workshop/
LOCATION:CA
END:VEVENT
BEGIN:VEVENT
DTSTART;TZID=America/Los_Angeles:20170318T140000
DTEND;TZID=America/Los_Angeles:20170318T160000
DTSTAMP:20260421T044224
CREATED:20170306T190150Z
LAST-MODIFIED:20170306T190150Z
UID:10047493-1489845600-1489852800@expositionpark.ca.gov
SUMMARY:CAAM/ARCHITECTRUAL DESIGNS ON PAPER
DESCRIPTION:CAAM/ARCHITECTRUAL DESIGNS ON PAPER
URL:https://expositionpark.ca.gov/event/caamarchitectrual-designs-on-paper/
LOCATION:CA
END:VEVENT
BEGIN:VEVENT
DTSTART;TZID=America/Los_Angeles:20170318T180000
DTEND;TZID=America/Los_Angeles:20170318T220000
DTSTAMP:20260421T044224
CREATED:20160714T234157Z
LAST-MODIFIED:20160714T234157Z
UID:10044054-1489860000-1489874400@expositionpark.ca.gov
SUMMARY:Social Event
DESCRIPTION:Venue: Disney Court & Samuel Oschin Pavilion
URL:https://expositionpark.ca.gov/event/social-event-65/
LOCATION:CA\, United States
ORGANIZER;CN="Kari Mendez":MAILTO:kmendez@cscmail.org
END:VEVENT
END:VCALENDAR