BEGIN:VCALENDAR
VERSION:2.0
PRODID:-//Exposition Park - ECPv6.15.20//NONSGML v1.0//EN
CALSCALE:GREGORIAN
METHOD:PUBLISH
X-WR-CALNAME:Exposition Park
X-ORIGINAL-URL:https://expositionpark.ca.gov
X-WR-CALDESC:Events for Exposition Park
REFRESH-INTERVAL;VALUE=DURATION:PT1H
X-Robots-Tag:noindex
X-PUBLISHED-TTL:PT1H
BEGIN:VTIMEZONE
TZID:America/Los_Angeles
BEGIN:DAYLIGHT
TZOFFSETFROM:-0800
TZOFFSETTO:-0700
TZNAME:PDT
DTSTART:20160313T100000
END:DAYLIGHT
BEGIN:STANDARD
TZOFFSETFROM:-0700
TZOFFSETTO:-0800
TZNAME:PST
DTSTART:20161106T090000
END:STANDARD
BEGIN:DAYLIGHT
TZOFFSETFROM:-0800
TZOFFSETTO:-0700
TZNAME:PDT
DTSTART:20170312T100000
END:DAYLIGHT
BEGIN:STANDARD
TZOFFSETFROM:-0700
TZOFFSETTO:-0800
TZNAME:PST
DTSTART:20171105T090000
END:STANDARD
BEGIN:DAYLIGHT
TZOFFSETFROM:-0800
TZOFFSETTO:-0700
TZNAME:PDT
DTSTART:20180311T100000
END:DAYLIGHT
BEGIN:STANDARD
TZOFFSETFROM:-0700
TZOFFSETTO:-0800
TZNAME:PST
DTSTART:20181104T090000
END:STANDARD
END:VTIMEZONE
BEGIN:VEVENT
DTSTART;TZID=America/Los_Angeles:20170322T080000
DTEND;TZID=America/Los_Angeles:20170322T170000
DTSTAMP:20260421T044221
CREATED:20170215T230401Z
LAST-MODIFIED:20170215T230401Z
UID:10046176-1490169600-1490202000@expositionpark.ca.gov
SUMMARY:New Star
DESCRIPTION:
URL:https://expositionpark.ca.gov/event/new-star/2017-03-22/
LOCATION:EXPO Center\, 3980 Bill Robertson Lane\, Los Angeles\, CA\, 90037\, United States
GEO:34.0121136;-118.2900829
X-APPLE-STRUCTURED-LOCATION;VALUE=URI;X-ADDRESS=EXPO Center 3980 Bill Robertson Lane Los Angeles CA 90037 United States;X-APPLE-RADIUS=500;X-TITLE=3980 Bill Robertson Lane:geo:-118.2900829,34.0121136
END:VEVENT
BEGIN:VEVENT
DTSTART;TZID=America/Los_Angeles:20170322T100000
DTEND;TZID=America/Los_Angeles:20170322T130000
DTSTAMP:20260421T044221
CREATED:20170310T232058Z
LAST-MODIFIED:20170310T232140Z
UID:10050674-1490176800-1490187600@expositionpark.ca.gov
SUMMARY:Educational Event
DESCRIPTION:Loker Conference Center
URL:https://expositionpark.ca.gov/event/educational-event-2/
LOCATION:CA\, United States
END:VEVENT
BEGIN:VEVENT
DTSTART;TZID=America/Los_Angeles:20170322T153000
DTEND;TZID=America/Los_Angeles:20170322T173000
DTSTAMP:20260421T044221
CREATED:20170214T222245Z
LAST-MODIFIED:20170508T184748Z
UID:10047932-1490196600-1490203800@expositionpark.ca.gov
SUMMARY:Soccer for Success
DESCRIPTION:
URL:https://expositionpark.ca.gov/event/soccer-for-success-3/2017-03-22/
LOCATION:EXPO Center\, 3980 Bill Robertson Lane\, Los Angeles\, CA\, 90037\, United States
GEO:34.0121136;-118.2900829
X-APPLE-STRUCTURED-LOCATION;VALUE=URI;X-ADDRESS=EXPO Center 3980 Bill Robertson Lane Los Angeles CA 90037 United States;X-APPLE-RADIUS=500;X-TITLE=3980 Bill Robertson Lane:geo:-118.2900829,34.0121136
END:VEVENT
BEGIN:VEVENT
DTSTART;TZID=America/Los_Angeles:20170322T180000
DTEND;TZID=America/Los_Angeles:20170322T200000
DTSTAMP:20260421T044221
CREATED:20170112T215608Z
LAST-MODIFIED:20170112T215608Z
UID:10044293-1490205600-1490212800@expositionpark.ca.gov
SUMMARY:Youth Orchestra Los Angeles
DESCRIPTION:
URL:https://expositionpark.ca.gov/event/youth-orchestra-los-angeles-2/2017-03-22/
LOCATION:EXPO Center\, 3980 Bill Robertson Lane\, Los Angeles\, CA\, 90037\, United States
GEO:34.0121136;-118.2900829
X-APPLE-STRUCTURED-LOCATION;VALUE=URI;X-ADDRESS=EXPO Center 3980 Bill Robertson Lane Los Angeles CA 90037 United States;X-APPLE-RADIUS=500;X-TITLE=3980 Bill Robertson Lane:geo:-118.2900829,34.0121136
END:VEVENT
BEGIN:VEVENT
DTSTART;TZID=America/Los_Angeles:20170322T180000
DTEND;TZID=America/Los_Angeles:20170322T210000
DTSTAMP:20260421T044221
CREATED:20170214T222616Z
LAST-MODIFIED:20170214T222616Z
UID:10048434-1490205600-1490216400@expositionpark.ca.gov
SUMMARY:EXPO Soccer Clinic
DESCRIPTION:
URL:https://expositionpark.ca.gov/event/expo-soccer-clinic/2017-03-22/
LOCATION:EXPO Center\, 3980 Bill Robertson Lane\, Los Angeles\, CA\, 90037\, United States
GEO:34.0121136;-118.2900829
X-APPLE-STRUCTURED-LOCATION;VALUE=URI;X-ADDRESS=EXPO Center 3980 Bill Robertson Lane Los Angeles CA 90037 United States;X-APPLE-RADIUS=500;X-TITLE=3980 Bill Robertson Lane:geo:-118.2900829,34.0121136
END:VEVENT
END:VCALENDAR