BEGIN:VCALENDAR
VERSION:2.0
PRODID:-//Exposition Park - ECPv6.15.20//NONSGML v1.0//EN
CALSCALE:GREGORIAN
METHOD:PUBLISH
X-WR-CALNAME:Exposition Park
X-ORIGINAL-URL:https://expositionpark.ca.gov
X-WR-CALDESC:Events for Exposition Park
REFRESH-INTERVAL;VALUE=DURATION:PT1H
X-Robots-Tag:noindex
X-PUBLISHED-TTL:PT1H
BEGIN:VTIMEZONE
TZID:America/Los_Angeles
BEGIN:DAYLIGHT
TZOFFSETFROM:-0800
TZOFFSETTO:-0700
TZNAME:PDT
DTSTART:20160313T100000
END:DAYLIGHT
BEGIN:STANDARD
TZOFFSETFROM:-0700
TZOFFSETTO:-0800
TZNAME:PST
DTSTART:20161106T090000
END:STANDARD
BEGIN:DAYLIGHT
TZOFFSETFROM:-0800
TZOFFSETTO:-0700
TZNAME:PDT
DTSTART:20170312T100000
END:DAYLIGHT
BEGIN:STANDARD
TZOFFSETFROM:-0700
TZOFFSETTO:-0800
TZNAME:PST
DTSTART:20171105T090000
END:STANDARD
BEGIN:DAYLIGHT
TZOFFSETFROM:-0800
TZOFFSETTO:-0700
TZNAME:PDT
DTSTART:20180311T100000
END:DAYLIGHT
BEGIN:STANDARD
TZOFFSETFROM:-0700
TZOFFSETTO:-0800
TZNAME:PST
DTSTART:20181104T090000
END:STANDARD
END:VTIMEZONE
BEGIN:VEVENT
DTSTART;TZID=America/Los_Angeles:20170323T070000
DTEND;TZID=America/Los_Angeles:20170326T230000
DTSTAMP:20260420T055600
CREATED:20161217T003138Z
LAST-MODIFIED:20170215T190431Z
UID:10047657-1490252400-1490569200@expositionpark.ca.gov
SUMMARY:“Tony Robbin’s Unleash the Power Within”
DESCRIPTION:Parking: for “Tony Robbin’s Unleash the Power Within”
URL:https://expositionpark.ca.gov/event/tony-robbins-uleash-the-power-within/
LOCATION:VPS\, Lot 1\, Lot 2\, Lot 4\, Lot 5\, Lot 6.
END:VEVENT
BEGIN:VEVENT
DTSTART;TZID=America/Los_Angeles:20170324T080000
DTEND;TZID=America/Los_Angeles:20170324T170000
DTSTAMP:20260420T055600
CREATED:20170215T230439Z
LAST-MODIFIED:20170215T230439Z
UID:10046607-1490342400-1490374800@expositionpark.ca.gov
SUMMARY:San Pedro Soccer League
DESCRIPTION:
URL:https://expositionpark.ca.gov/event/san-pedro-soccer-league-3/2017-03-24/
LOCATION:EXPO Center\, 3980 Bill Robertson Lane\, Los Angeles\, CA\, 90037\, United States
GEO:34.0121136;-118.2900829
X-APPLE-STRUCTURED-LOCATION;VALUE=URI;X-ADDRESS=EXPO Center 3980 Bill Robertson Lane Los Angeles CA 90037 United States;X-APPLE-RADIUS=500;X-TITLE=3980 Bill Robertson Lane:geo:-118.2900829,34.0121136
END:VEVENT
BEGIN:VEVENT
DTSTART;TZID=America/Los_Angeles:20170324T130000
DTEND;TZID=America/Los_Angeles:20170324T144500
DTSTAMP:20260420T055600
CREATED:20170315T171444Z
LAST-MODIFIED:20170315T171444Z
UID:10050693-1490360400-1490366700@expositionpark.ca.gov
SUMMARY:Private Event
DESCRIPTION:USMC Change of Command Ceremony.
URL:https://expositionpark.ca.gov/event/private-event-66/
LOCATION:Los Angeles Memorial Coliseum\, 3911 S. Figueroa St.\, Los Angeles\, CA\, CA\, 90037\, United States
GEO:34.0128523;-118.2845395
X-APPLE-STRUCTURED-LOCATION;VALUE=URI;X-ADDRESS=Los Angeles Memorial Coliseum 3911 S. Figueroa St. Los Angeles CA CA 90037 United States;X-APPLE-RADIUS=500;X-TITLE=3911 S. Figueroa St.:geo:-118.2845395,34.0128523
END:VEVENT
BEGIN:VEVENT
DTSTART;TZID=America/Los_Angeles:20170324T153000
DTEND;TZID=America/Los_Angeles:20170324T173000
DTSTAMP:20260420T055600
CREATED:20170214T222245Z
LAST-MODIFIED:20170508T184748Z
UID:10047933-1490369400-1490376600@expositionpark.ca.gov
SUMMARY:Soccer for Success
DESCRIPTION:
URL:https://expositionpark.ca.gov/event/soccer-for-success-3/2017-03-24/
LOCATION:EXPO Center\, 3980 Bill Robertson Lane\, Los Angeles\, CA\, 90037\, United States
GEO:34.0121136;-118.2900829
X-APPLE-STRUCTURED-LOCATION;VALUE=URI;X-ADDRESS=EXPO Center 3980 Bill Robertson Lane Los Angeles CA 90037 United States;X-APPLE-RADIUS=500;X-TITLE=3980 Bill Robertson Lane:geo:-118.2900829,34.0121136
END:VEVENT
BEGIN:VEVENT
DTSTART;TZID=America/Los_Angeles:20170324T160000
DTEND;TZID=America/Los_Angeles:20170324T160000
DTSTAMP:20260420T055600
CREATED:20170105T182707Z
LAST-MODIFIED:20170105T182707Z
UID:10047667-1490371200-1490371200@expositionpark.ca.gov
SUMMARY:Private Event
DESCRIPTION:
URL:https://expositionpark.ca.gov/event/private-event-34/
LOCATION:Natural History Museum of Los Angeles County\, 900 Exposition Blvd.\, Los Angeles\, CA\, 90007\, United States
GEO:34.0170769;-118.2886818
X-APPLE-STRUCTURED-LOCATION;VALUE=URI;X-ADDRESS=Natural History Museum of Los Angeles County 900 Exposition Blvd. Los Angeles CA 90007 United States;X-APPLE-RADIUS=500;X-TITLE=900 Exposition Blvd.:geo:-118.2886818,34.0170769
END:VEVENT
BEGIN:VEVENT
DTSTART;TZID=America/Los_Angeles:20170324T180000
DTEND;TZID=America/Los_Angeles:20170324T210000
DTSTAMP:20260420T055600
CREATED:20170214T222616Z
LAST-MODIFIED:20170214T222616Z
UID:10048435-1490378400-1490389200@expositionpark.ca.gov
SUMMARY:EXPO Soccer Clinic
DESCRIPTION:
URL:https://expositionpark.ca.gov/event/expo-soccer-clinic/2017-03-24/
LOCATION:EXPO Center\, 3980 Bill Robertson Lane\, Los Angeles\, CA\, 90037\, United States
GEO:34.0121136;-118.2900829
X-APPLE-STRUCTURED-LOCATION;VALUE=URI;X-ADDRESS=EXPO Center 3980 Bill Robertson Lane Los Angeles CA 90037 United States;X-APPLE-RADIUS=500;X-TITLE=3980 Bill Robertson Lane:geo:-118.2900829,34.0121136
END:VEVENT
END:VCALENDAR