BEGIN:VCALENDAR
VERSION:2.0
PRODID:-//Exposition Park - ECPv6.15.20//NONSGML v1.0//EN
CALSCALE:GREGORIAN
METHOD:PUBLISH
X-ORIGINAL-URL:https://expositionpark.ca.gov
X-WR-CALDESC:Events for Exposition Park
REFRESH-INTERVAL;VALUE=DURATION:PT1H
X-Robots-Tag:noindex
X-PUBLISHED-TTL:PT1H
BEGIN:VTIMEZONE
TZID:America/Los_Angeles
BEGIN:DAYLIGHT
TZOFFSETFROM:-0800
TZOFFSETTO:-0700
TZNAME:PDT
DTSTART:20160313T100000
END:DAYLIGHT
BEGIN:STANDARD
TZOFFSETFROM:-0700
TZOFFSETTO:-0800
TZNAME:PST
DTSTART:20161106T090000
END:STANDARD
BEGIN:DAYLIGHT
TZOFFSETFROM:-0800
TZOFFSETTO:-0700
TZNAME:PDT
DTSTART:20170312T100000
END:DAYLIGHT
BEGIN:STANDARD
TZOFFSETFROM:-0700
TZOFFSETTO:-0800
TZNAME:PST
DTSTART:20171105T090000
END:STANDARD
BEGIN:DAYLIGHT
TZOFFSETFROM:-0800
TZOFFSETTO:-0700
TZNAME:PDT
DTSTART:20180311T100000
END:DAYLIGHT
BEGIN:STANDARD
TZOFFSETFROM:-0700
TZOFFSETTO:-0800
TZNAME:PST
DTSTART:20181104T090000
END:STANDARD
END:VTIMEZONE
BEGIN:VEVENT
DTSTART;TZID=America/Los_Angeles:20170329T050000
DTEND;TZID=America/Los_Angeles:20170330T220000
DTSTAMP:20260420T221657
CREATED:20170327T230454Z
LAST-MODIFIED:20170327T230737Z
UID:10050738-1490763600-1490911200@expositionpark.ca.gov
SUMMARY:Topanga Productions
DESCRIPTION:
URL:https://expositionpark.ca.gov/event/topanga-productions/
LOCATION:Lot 4 & 5\, CA\, United States
GEO:36.778261;-119.4179324
END:VEVENT
BEGIN:VEVENT
DTSTART;TZID=America/Los_Angeles:20170330T070000
DTEND;TZID=America/Los_Angeles:20170330T190000
DTSTAMP:20260420T221657
CREATED:20170327T230613Z
LAST-MODIFIED:20170327T230613Z
UID:10050740-1490857200-1490900400@expositionpark.ca.gov
SUMMARY:Vivo Films
DESCRIPTION:
URL:https://expositionpark.ca.gov/event/vivo-films/
LOCATION:Lot 4
END:VEVENT
BEGIN:VEVENT
DTSTART;TZID=America/Los_Angeles:20170330T143000
DTEND;TZID=America/Los_Angeles:20170330T173000
DTSTAMP:20260420T221657
CREATED:20170215T230251Z
LAST-MODIFIED:20170215T230251Z
UID:10045322-1490884200-1490895000@expositionpark.ca.gov
SUMMARY:USC Hybrid
DESCRIPTION:
URL:https://expositionpark.ca.gov/event/usc-hybrid/2017-03-30/
LOCATION:EXPO Center\, 3980 Bill Robertson Lane\, Los Angeles\, CA\, 90037\, United States
GEO:34.0121136;-118.2900829
X-APPLE-STRUCTURED-LOCATION;VALUE=URI;X-ADDRESS=EXPO Center 3980 Bill Robertson Lane Los Angeles CA 90037 United States;X-APPLE-RADIUS=500;X-TITLE=3980 Bill Robertson Lane:geo:-118.2900829,34.0121136
END:VEVENT
BEGIN:VEVENT
DTSTART;TZID=America/Los_Angeles:20170330T180000
DTEND;TZID=America/Los_Angeles:20170330T210000
DTSTAMP:20260420T221657
CREATED:20170214T222818Z
LAST-MODIFIED:20170214T222818Z
UID:10049724-1490896800-1490907600@expositionpark.ca.gov
SUMMARY:Vermont Sports Club
DESCRIPTION:
URL:https://expositionpark.ca.gov/event/vermont-sports-club-7/2017-03-30/
LOCATION:EXPO Center\, 3980 Bill Robertson Lane\, Los Angeles\, CA\, 90037\, United States
GEO:34.0121136;-118.2900829
X-APPLE-STRUCTURED-LOCATION;VALUE=URI;X-ADDRESS=EXPO Center 3980 Bill Robertson Lane Los Angeles CA 90037 United States;X-APPLE-RADIUS=500;X-TITLE=3980 Bill Robertson Lane:geo:-118.2900829,34.0121136
END:VEVENT
BEGIN:VEVENT
DTSTART;TZID=America/Los_Angeles:20170330T180000
DTEND;TZID=America/Los_Angeles:20170330T220000
DTSTAMP:20260420T221657
CREATED:20170123T194204Z
LAST-MODIFIED:20170123T194204Z
UID:10047714-1490896800-1490911200@expositionpark.ca.gov
SUMMARY:Social Event
DESCRIPTION:Venue: Disney Court and Samuel Oschin Pavilion
URL:https://expositionpark.ca.gov/event/social-event-82/
LOCATION:CA\, United States
END:VEVENT
BEGIN:VEVENT
DTSTART;TZID=America/Los_Angeles:20170330T213000
DTEND;TZID=America/Los_Angeles:20170330T223000
DTSTAMP:20260420T221657
CREATED:20170215T225948Z
LAST-MODIFIED:20170215T225948Z
UID:10044460-1490909400-1490913000@expositionpark.ca.gov
SUMMARY:Tri-Color Soccer League
DESCRIPTION:
URL:https://expositionpark.ca.gov/event/tri-color-soccer-league-2/2017-03-30/
LOCATION:EXPO Center\, 3980 Bill Robertson Lane\, Los Angeles\, CA\, 90037\, United States
GEO:34.0121136;-118.2900829
X-APPLE-STRUCTURED-LOCATION;VALUE=URI;X-ADDRESS=EXPO Center 3980 Bill Robertson Lane Los Angeles CA 90037 United States;X-APPLE-RADIUS=500;X-TITLE=3980 Bill Robertson Lane:geo:-118.2900829,34.0121136
END:VEVENT
END:VCALENDAR