BEGIN:VCALENDAR
VERSION:2.0
PRODID:-//Exposition Park - ECPv6.15.20//NONSGML v1.0//EN
CALSCALE:GREGORIAN
METHOD:PUBLISH
X-WR-CALNAME:Exposition Park
X-ORIGINAL-URL:https://expositionpark.ca.gov
X-WR-CALDESC:Events for Exposition Park
REFRESH-INTERVAL;VALUE=DURATION:PT1H
X-Robots-Tag:noindex
X-PUBLISHED-TTL:PT1H
BEGIN:VTIMEZONE
TZID:America/Los_Angeles
BEGIN:DAYLIGHT
TZOFFSETFROM:-0800
TZOFFSETTO:-0700
TZNAME:PDT
DTSTART:20160313T100000
END:DAYLIGHT
BEGIN:STANDARD
TZOFFSETFROM:-0700
TZOFFSETTO:-0800
TZNAME:PST
DTSTART:20161106T090000
END:STANDARD
BEGIN:DAYLIGHT
TZOFFSETFROM:-0800
TZOFFSETTO:-0700
TZNAME:PDT
DTSTART:20170312T100000
END:DAYLIGHT
BEGIN:STANDARD
TZOFFSETFROM:-0700
TZOFFSETTO:-0800
TZNAME:PST
DTSTART:20171105T090000
END:STANDARD
BEGIN:DAYLIGHT
TZOFFSETFROM:-0800
TZOFFSETTO:-0700
TZNAME:PDT
DTSTART:20180311T100000
END:DAYLIGHT
BEGIN:STANDARD
TZOFFSETFROM:-0700
TZOFFSETTO:-0800
TZNAME:PST
DTSTART:20181104T090000
END:STANDARD
END:VTIMEZONE
BEGIN:VEVENT
DTSTART;TZID=America/Los_Angeles:20170501T050000
DTEND;TZID=America/Los_Angeles:20170512T230000
DTSTAMP:20260423T193607
CREATED:20170405T163909Z
LAST-MODIFIED:20170405T163909Z
UID:10050760-1493614800-1494630000@expositionpark.ca.gov
SUMMARY:GES -Truck Marshalling
DESCRIPTION:No Activity after 4:30pm on Friday\, May 5th. \nNo Activity at all on Saturday\, May 6th and Sunday\, May 7th. \n 
URL:https://expositionpark.ca.gov/event/ges-truck-marshalling/
LOCATION:Lot 2\, United States
GEO:37.09024;-95.712891
END:VEVENT
BEGIN:VEVENT
DTSTART;TZID=America/Los_Angeles:20170505T080000
DTEND;TZID=America/Los_Angeles:20170505T130000
DTSTAMP:20260423T193607
CREATED:20170424T191127Z
LAST-MODIFIED:20170424T195448Z
UID:10050806-1493971200-1493989200@expositionpark.ca.gov
SUMMARY:Private Event
DESCRIPTION:
URL:https://expositionpark.ca.gov/event/__trashed-2/
LOCATION:Los Angeles Memorial Coliseum\, 3911 S. Figueroa St.\, Los Angeles\, CA\, CA\, 90037\, United States
GEO:34.0128523;-118.2845395
X-APPLE-STRUCTURED-LOCATION;VALUE=URI;X-ADDRESS=Los Angeles Memorial Coliseum 3911 S. Figueroa St. Los Angeles CA CA 90037 United States;X-APPLE-RADIUS=500;X-TITLE=3911 S. Figueroa St.:geo:-118.2845395,34.0128523
END:VEVENT
BEGIN:VEVENT
DTSTART;TZID=America/Los_Angeles:20170505T080000
DTEND;TZID=America/Los_Angeles:20170505T170000
DTSTAMP:20260423T193607
CREATED:20170215T230439Z
LAST-MODIFIED:20170215T230439Z
UID:10046613-1493971200-1494003600@expositionpark.ca.gov
SUMMARY:San Pedro Soccer League
DESCRIPTION:
URL:https://expositionpark.ca.gov/event/san-pedro-soccer-league-3/2017-05-05/
LOCATION:EXPO Center\, 3980 Bill Robertson Lane\, Los Angeles\, CA\, 90037\, United States
GEO:34.0121136;-118.2900829
X-APPLE-STRUCTURED-LOCATION;VALUE=URI;X-ADDRESS=EXPO Center 3980 Bill Robertson Lane Los Angeles CA 90037 United States;X-APPLE-RADIUS=500;X-TITLE=3980 Bill Robertson Lane:geo:-118.2900829,34.0121136
END:VEVENT
BEGIN:VEVENT
DTSTART;TZID=America/Los_Angeles:20170505T080000
DTEND;TZID=America/Los_Angeles:20170505T170000
DTSTAMP:20260423T193607
CREATED:20170503T230838Z
LAST-MODIFIED:20170503T230838Z
UID:10050853-1493971200-1494003600@expositionpark.ca.gov
SUMMARY:Rental: American Architect Inst. LA
DESCRIPTION:
URL:https://expositionpark.ca.gov/event/rental-american-architect-inst-la/
LOCATION:California African American Museum\, 600 State Drive\, Los Angeles\, CA\, 90037\, United States
GEO:34.0159415;-118.2836283
X-APPLE-STRUCTURED-LOCATION;VALUE=URI;X-ADDRESS=California African American Museum 600 State Drive Los Angeles CA 90037 United States;X-APPLE-RADIUS=500;X-TITLE=600 State Drive:geo:-118.2836283,34.0159415
END:VEVENT
BEGIN:VEVENT
DTSTART;TZID=America/Los_Angeles:20170505T153000
DTEND;TZID=America/Los_Angeles:20170505T173000
DTSTAMP:20260423T193607
CREATED:20170214T222245Z
LAST-MODIFIED:20170508T184748Z
UID:10047951-1493998200-1494005400@expositionpark.ca.gov
SUMMARY:Soccer for Success
DESCRIPTION:
URL:https://expositionpark.ca.gov/event/soccer-for-success-3/2017-05-05/
LOCATION:EXPO Center\, 3980 Bill Robertson Lane\, Los Angeles\, CA\, 90037\, United States
GEO:34.0121136;-118.2900829
X-APPLE-STRUCTURED-LOCATION;VALUE=URI;X-ADDRESS=EXPO Center 3980 Bill Robertson Lane Los Angeles CA 90037 United States;X-APPLE-RADIUS=500;X-TITLE=3980 Bill Robertson Lane:geo:-118.2900829,34.0121136
END:VEVENT
BEGIN:VEVENT
DTSTART;TZID=America/Los_Angeles:20170505T170000
DTEND;TZID=America/Los_Angeles:20170505T220000
DTSTAMP:20260423T193607
CREATED:20160120T000824Z
LAST-MODIFIED:20181016T205904Z
UID:10043614-1494003600-1494021600@expositionpark.ca.gov
SUMMARY:First Fridays
DESCRIPTION:Parking: NHM Car Park\, Lot 3  Attendees: 2\,000
URL:https://expositionpark.ca.gov/event/first-fridays-4/
LOCATION:Natural History Museum\, 900 Exposition Blvd\, Los Angeles\, CA\, 90037\, United States
ORGANIZER;CN="Special Events":MAILTO:specialevents@nhm.org
GEO:34.0170769;-118.2886818
X-APPLE-STRUCTURED-LOCATION;VALUE=URI;X-ADDRESS=Natural History Museum 900 Exposition Blvd Los Angeles CA 90037 United States;X-APPLE-RADIUS=500;X-TITLE=900 Exposition Blvd:geo:-118.2886818,34.0170769
END:VEVENT
BEGIN:VEVENT
DTSTART;TZID=America/Los_Angeles:20170505T180000
DTEND;TZID=America/Los_Angeles:20170505T210000
DTSTAMP:20260423T193607
CREATED:20170214T222616Z
LAST-MODIFIED:20170214T222616Z
UID:10048453-1494007200-1494018000@expositionpark.ca.gov
SUMMARY:EXPO Soccer Clinic
DESCRIPTION:
URL:https://expositionpark.ca.gov/event/expo-soccer-clinic/2017-05-05/
LOCATION:EXPO Center\, 3980 Bill Robertson Lane\, Los Angeles\, CA\, 90037\, United States
GEO:34.0121136;-118.2900829
X-APPLE-STRUCTURED-LOCATION;VALUE=URI;X-ADDRESS=EXPO Center 3980 Bill Robertson Lane Los Angeles CA 90037 United States;X-APPLE-RADIUS=500;X-TITLE=3980 Bill Robertson Lane:geo:-118.2900829,34.0121136
END:VEVENT
BEGIN:VEVENT
DTSTART;TZID=America/Los_Angeles:20170505T180000
DTEND;TZID=America/Los_Angeles:20170505T220000
DTSTAMP:20260423T193607
CREATED:20170221T203047Z
LAST-MODIFIED:20170221T203047Z
UID:10050594-1494007200-1494021600@expositionpark.ca.gov
SUMMARY:Social Event
DESCRIPTION:Venue: Samuel Oschin Pavilion
URL:https://expositionpark.ca.gov/event/social-event-89/
LOCATION:CSC – Samuel Oschin Pavilion
END:VEVENT
END:VCALENDAR