BEGIN:VCALENDAR
VERSION:2.0
PRODID:-//Exposition Park - ECPv6.15.20//NONSGML v1.0//EN
CALSCALE:GREGORIAN
METHOD:PUBLISH
X-ORIGINAL-URL:https://expositionpark.ca.gov
X-WR-CALDESC:Events for Exposition Park
REFRESH-INTERVAL;VALUE=DURATION:PT1H
X-Robots-Tag:noindex
X-PUBLISHED-TTL:PT1H
BEGIN:VTIMEZONE
TZID:America/Los_Angeles
BEGIN:DAYLIGHT
TZOFFSETFROM:-0800
TZOFFSETTO:-0700
TZNAME:PDT
DTSTART:20160313T100000
END:DAYLIGHT
BEGIN:STANDARD
TZOFFSETFROM:-0700
TZOFFSETTO:-0800
TZNAME:PST
DTSTART:20161106T090000
END:STANDARD
BEGIN:DAYLIGHT
TZOFFSETFROM:-0800
TZOFFSETTO:-0700
TZNAME:PDT
DTSTART:20170312T100000
END:DAYLIGHT
BEGIN:STANDARD
TZOFFSETFROM:-0700
TZOFFSETTO:-0800
TZNAME:PST
DTSTART:20171105T090000
END:STANDARD
BEGIN:DAYLIGHT
TZOFFSETFROM:-0800
TZOFFSETTO:-0700
TZNAME:PDT
DTSTART:20180311T100000
END:DAYLIGHT
BEGIN:STANDARD
TZOFFSETFROM:-0700
TZOFFSETTO:-0800
TZNAME:PST
DTSTART:20181104T090000
END:STANDARD
END:VTIMEZONE
BEGIN:VEVENT
DTSTART;TZID=America/Los_Angeles:20170914T070000
DTEND;TZID=America/Los_Angeles:20170914T190000
DTSTAMP:20260423T193750
CREATED:20170901T211433Z
LAST-MODIFIED:20170901T211433Z
UID:10047759-1505372400-1505415600@expositionpark.ca.gov
SUMMARY:All In Productions
DESCRIPTION:Filming\, Basecamp & Crew Parking \nSouth Portion of Lot 2
URL:https://expositionpark.ca.gov/event/all-in-productions/
LOCATION:CA
END:VEVENT
BEGIN:VEVENT
DTSTART;TZID=America/Los_Angeles:20170914T090000
DTEND;TZID=America/Los_Angeles:20170914T183000
DTSTAMP:20260423T193750
CREATED:20170801T223837Z
LAST-MODIFIED:20170801T223837Z
UID:10047717-1505379600-1505413800@expositionpark.ca.gov
SUMMARY:Corporate Event
DESCRIPTION:Venue: Muses Room
URL:https://expositionpark.ca.gov/event/corporate-event-114/
LOCATION:California Science Center\, 700 Exposition Park Drive\, Los Angeles\, CA\, 90037\, United States
GEO:34.0157877;-118.2862095
X-APPLE-STRUCTURED-LOCATION;VALUE=URI;X-ADDRESS=California Science Center 700 Exposition Park Drive Los Angeles CA 90037 United States;X-APPLE-RADIUS=500;X-TITLE=700 Exposition Park Drive:geo:-118.2862095,34.0157877
END:VEVENT
BEGIN:VEVENT
DTSTART;TZID=America/Los_Angeles:20170914T100000
DTEND;TZID=America/Los_Angeles:20170915T200000
DTSTAMP:20260423T193750
CREATED:20170912T234720Z
LAST-MODIFIED:20170912T234720Z
UID:10047763-1505383200-1505505600@expositionpark.ca.gov
SUMMARY:Freeman
DESCRIPTION:Truck Marshaling \nLot 6 (West Portion)
URL:https://expositionpark.ca.gov/event/freeman-5/
LOCATION:CA
END:VEVENT
BEGIN:VEVENT
DTSTART;TZID=America/Los_Angeles:20170914T143000
DTEND;TZID=America/Los_Angeles:20170914T173000
DTSTAMP:20260423T193750
CREATED:20170215T230251Z
LAST-MODIFIED:20170215T230251Z
UID:10045370-1505399400-1505410200@expositionpark.ca.gov
SUMMARY:USC Hybrid
DESCRIPTION:
URL:https://expositionpark.ca.gov/event/usc-hybrid/2017-09-14/
LOCATION:EXPO Center\, 3980 Bill Robertson Lane\, Los Angeles\, CA\, 90037\, United States
GEO:34.0121136;-118.2900829
X-APPLE-STRUCTURED-LOCATION;VALUE=URI;X-ADDRESS=EXPO Center 3980 Bill Robertson Lane Los Angeles CA 90037 United States;X-APPLE-RADIUS=500;X-TITLE=3980 Bill Robertson Lane:geo:-118.2900829,34.0121136
END:VEVENT
BEGIN:VEVENT
DTSTART;TZID=America/Los_Angeles:20170914T180000
DTEND;TZID=America/Los_Angeles:20170914T210000
DTSTAMP:20260423T193750
CREATED:20170214T222818Z
LAST-MODIFIED:20170214T222818Z
UID:10049772-1505412000-1505422800@expositionpark.ca.gov
SUMMARY:Vermont Sports Club
DESCRIPTION:
URL:https://expositionpark.ca.gov/event/vermont-sports-club-7/2017-09-14/
LOCATION:EXPO Center\, 3980 Bill Robertson Lane\, Los Angeles\, CA\, 90037\, United States
GEO:34.0121136;-118.2900829
X-APPLE-STRUCTURED-LOCATION;VALUE=URI;X-ADDRESS=EXPO Center 3980 Bill Robertson Lane Los Angeles CA 90037 United States;X-APPLE-RADIUS=500;X-TITLE=3980 Bill Robertson Lane:geo:-118.2900829,34.0121136
END:VEVENT
BEGIN:VEVENT
DTSTART;TZID=America/Los_Angeles:20170914T213000
DTEND;TZID=America/Los_Angeles:20170914T223000
DTSTAMP:20260423T193750
CREATED:20170215T225948Z
LAST-MODIFIED:20170215T225948Z
UID:10044508-1505424600-1505428200@expositionpark.ca.gov
SUMMARY:Tri-Color Soccer League
DESCRIPTION:
URL:https://expositionpark.ca.gov/event/tri-color-soccer-league-2/2017-09-14/
LOCATION:EXPO Center\, 3980 Bill Robertson Lane\, Los Angeles\, CA\, 90037\, United States
GEO:34.0121136;-118.2900829
X-APPLE-STRUCTURED-LOCATION;VALUE=URI;X-ADDRESS=EXPO Center 3980 Bill Robertson Lane Los Angeles CA 90037 United States;X-APPLE-RADIUS=500;X-TITLE=3980 Bill Robertson Lane:geo:-118.2900829,34.0121136
END:VEVENT
END:VCALENDAR