BEGIN:VCALENDAR
VERSION:2.0
PRODID:-//Exposition Park - ECPv6.15.20//NONSGML v1.0//EN
CALSCALE:GREGORIAN
METHOD:PUBLISH
X-ORIGINAL-URL:https://expositionpark.ca.gov
X-WR-CALDESC:Events for Exposition Park
REFRESH-INTERVAL;VALUE=DURATION:PT1H
X-Robots-Tag:noindex
X-PUBLISHED-TTL:PT1H
BEGIN:VTIMEZONE
TZID:America/Los_Angeles
BEGIN:DAYLIGHT
TZOFFSETFROM:-0800
TZOFFSETTO:-0700
TZNAME:PDT
DTSTART:20160313T100000
END:DAYLIGHT
BEGIN:STANDARD
TZOFFSETFROM:-0700
TZOFFSETTO:-0800
TZNAME:PST
DTSTART:20161106T090000
END:STANDARD
BEGIN:DAYLIGHT
TZOFFSETFROM:-0800
TZOFFSETTO:-0700
TZNAME:PDT
DTSTART:20170312T100000
END:DAYLIGHT
BEGIN:STANDARD
TZOFFSETFROM:-0700
TZOFFSETTO:-0800
TZNAME:PST
DTSTART:20171105T090000
END:STANDARD
BEGIN:DAYLIGHT
TZOFFSETFROM:-0800
TZOFFSETTO:-0700
TZNAME:PDT
DTSTART:20180311T100000
END:DAYLIGHT
BEGIN:STANDARD
TZOFFSETFROM:-0700
TZOFFSETTO:-0800
TZNAME:PST
DTSTART:20181104T090000
END:STANDARD
END:VTIMEZONE
BEGIN:VEVENT
DTSTART;VALUE=DATE:20171007
DTEND;VALUE=DATE:20171008
DTSTAMP:20260423T032451
CREATED:20170131T012634Z
LAST-MODIFIED:20170131T012634Z
UID:10044441-1507334400-1507420799@expositionpark.ca.gov
SUMMARY:USC vs Oregon St.
DESCRIPTION:
URL:https://expositionpark.ca.gov/event/usc-vs-oregon-st/
LOCATION:Los Angeles Memorial Coliseum\, 3911 S. Figueroa St.\, Los Angeles\, CA\, CA\, 90037\, United States
GEO:34.0128523;-118.2845395
X-APPLE-STRUCTURED-LOCATION;VALUE=URI;X-ADDRESS=Los Angeles Memorial Coliseum 3911 S. Figueroa St. Los Angeles CA CA 90037 United States;X-APPLE-RADIUS=500;X-TITLE=3911 S. Figueroa St.:geo:-118.2845395,34.0128523
END:VEVENT
BEGIN:VEVENT
DTSTART;VALUE=DATE:20171007
DTEND;VALUE=DATE:20171008
DTSTAMP:20260423T032451
CREATED:20170526T232450Z
LAST-MODIFIED:20170526T232450Z
UID:10051010-1507334400-1507420799@expositionpark.ca.gov
SUMMARY:Rental/ Tailgater Concierge - CAAM Lawn All Day
DESCRIPTION:Rental Date(s): \n8/12/17\, 8/26/17\, 9/2/17\, 9/9/17\, 9/10/17\, 9/16/17\, 9/17/17\, 10/7/17\, 10/8/17\, 10/14/17\, 10/22/17\, 11/4/17\, 11/12/17\, 11/18/17\, 11/26/17
URL:https://expositionpark.ca.gov/event/rental-tailgater-concierge-caam-lawn-all-day-2/2017-10-07/
LOCATION:California African American Museum\, 600 State Drive\, Los Angeles\, CA\, 90037\, United States
GEO:34.0159415;-118.2836283
X-APPLE-STRUCTURED-LOCATION;VALUE=URI;X-ADDRESS=California African American Museum 600 State Drive Los Angeles CA 90037 United States;X-APPLE-RADIUS=500;X-TITLE=600 State Drive:geo:-118.2836283,34.0159415
END:VEVENT
BEGIN:VEVENT
DTSTART;VALUE=DATE:20171007
DTEND;VALUE=DATE:20171008
DTSTAMP:20260423T032451
CREATED:20170801T232724Z
LAST-MODIFIED:20170801T232724Z
UID:10051279-1507334400-1507420799@expositionpark.ca.gov
SUMMARY:Athletics Department Tailgate
DESCRIPTION:Tailgate Hours TBD; pending Kick-Off time.
URL:https://expositionpark.ca.gov/event/athletics-department-tailgate-3/
LOCATION:South Lawn East (1/2 east)
END:VEVENT
BEGIN:VEVENT
DTSTART;VALUE=DATE:20171007
DTEND;VALUE=DATE:20171008
DTSTAMP:20260423T032451
CREATED:20170809T163223Z
LAST-MODIFIED:20170809T163223Z
UID:10047741-1507334400-1507420799@expositionpark.ca.gov
SUMMARY:Tau Kappa Epsilon Beta Sigma Alumni Association (TKE) Tailgate
DESCRIPTION:Tailgate Hours are pending Kick-off time.
URL:https://expositionpark.ca.gov/event/tau-kappa-epsilon-beta-sigma-alumni-association-tke-tailgate-10/
LOCATION:Expo Grass East (west 1/2)
END:VEVENT
BEGIN:VEVENT
DTSTART;VALUE=DATE:20171007
DTEND;VALUE=DATE:20171008
DTSTAMP:20260423T032451
CREATED:20170809T215210Z
LAST-MODIFIED:20170809T215210Z
UID:10051313-1507334400-1507420799@expositionpark.ca.gov
SUMMARY:USC FanFest
DESCRIPTION:
URL:https://expositionpark.ca.gov/event/usc-fanfest-8/
LOCATION:CA
END:VEVENT
BEGIN:VEVENT
DTSTART;TZID=America/Los_Angeles:20171007T100000
DTEND;TZID=America/Los_Angeles:20171007T130000
DTSTAMP:20260423T032451
CREATED:20170801T230801Z
LAST-MODIFIED:20170801T230801Z
UID:10047727-1507370400-1507381200@expositionpark.ca.gov
SUMMARY:Social Event
DESCRIPTION:Venue: Wallis Annenberg Building
URL:https://expositionpark.ca.gov/event/social-event-107/
LOCATION:California Science Center\, 700 Exposition Park Drive\, Los Angeles\, CA\, 90037\, United States
GEO:34.0157877;-118.2862095
X-APPLE-STRUCTURED-LOCATION;VALUE=URI;X-ADDRESS=California Science Center 700 Exposition Park Drive Los Angeles CA 90037 United States;X-APPLE-RADIUS=500;X-TITLE=700 Exposition Park Drive:geo:-118.2862095,34.0157877
END:VEVENT
BEGIN:VEVENT
DTSTART;TZID=America/Los_Angeles:20171007T120000
DTEND;TZID=America/Los_Angeles:20171007T220000
DTSTAMP:20260423T032451
CREATED:20170816T232810Z
LAST-MODIFIED:20170816T232810Z
UID:10051333-1507377600-1507413600@expositionpark.ca.gov
SUMMARY:Rental: USC Tailgating
DESCRIPTION:Tailgating on CAAM lawn
URL:https://expositionpark.ca.gov/event/rental-usc-tailgating/2017-10-07/
LOCATION:California African American Museum\, 600 State Drive\, Los Angeles\, CA\, 90037\, United States
GEO:34.0159415;-118.2836283
X-APPLE-STRUCTURED-LOCATION;VALUE=URI;X-ADDRESS=California African American Museum 600 State Drive Los Angeles CA 90037 United States;X-APPLE-RADIUS=500;X-TITLE=600 State Drive:geo:-118.2836283,34.0159415
END:VEVENT
END:VCALENDAR