BEGIN:VCALENDAR
VERSION:2.0
PRODID:-//Exposition Park - ECPv6.15.20//NONSGML v1.0//EN
CALSCALE:GREGORIAN
METHOD:PUBLISH
X-ORIGINAL-URL:https://expositionpark.ca.gov
X-WR-CALDESC:Events for Exposition Park
REFRESH-INTERVAL;VALUE=DURATION:PT1H
X-Robots-Tag:noindex
X-PUBLISHED-TTL:PT1H
BEGIN:VTIMEZONE
TZID:America/Los_Angeles
BEGIN:DAYLIGHT
TZOFFSETFROM:-0800
TZOFFSETTO:-0700
TZNAME:PDT
DTSTART:20160313T100000
END:DAYLIGHT
BEGIN:STANDARD
TZOFFSETFROM:-0700
TZOFFSETTO:-0800
TZNAME:PST
DTSTART:20161106T090000
END:STANDARD
BEGIN:DAYLIGHT
TZOFFSETFROM:-0800
TZOFFSETTO:-0700
TZNAME:PDT
DTSTART:20170312T100000
END:DAYLIGHT
BEGIN:STANDARD
TZOFFSETFROM:-0700
TZOFFSETTO:-0800
TZNAME:PST
DTSTART:20171105T090000
END:STANDARD
BEGIN:DAYLIGHT
TZOFFSETFROM:-0800
TZOFFSETTO:-0700
TZNAME:PDT
DTSTART:20180311T100000
END:DAYLIGHT
BEGIN:STANDARD
TZOFFSETFROM:-0700
TZOFFSETTO:-0800
TZNAME:PST
DTSTART:20181104T090000
END:STANDARD
END:VTIMEZONE
BEGIN:VEVENT
DTSTART;VALUE=DATE:20171126
DTEND;VALUE=DATE:20171127
DTSTAMP:20260423T152158
CREATED:20170427T204737Z
LAST-MODIFIED:20170427T204737Z
UID:10050830-1511654400-1511740799@expositionpark.ca.gov
SUMMARY:Los Angeles Rams vs New Orleans Saints
DESCRIPTION:
URL:https://expositionpark.ca.gov/event/los-angeles-rams-vs-new-orleans-saints/
LOCATION:Los Angeles Memorial Coliseum\, 3911 S. Figueroa St.\, Los Angeles\, CA\, CA\, 90037\, United States
GEO:34.0128523;-118.2845395
X-APPLE-STRUCTURED-LOCATION;VALUE=URI;X-ADDRESS=Los Angeles Memorial Coliseum 3911 S. Figueroa St. Los Angeles CA CA 90037 United States;X-APPLE-RADIUS=500;X-TITLE=3911 S. Figueroa St.:geo:-118.2845395,34.0128523
END:VEVENT
BEGIN:VEVENT
DTSTART;TZID=America/Los_Angeles:20171126T080000
DTEND;TZID=America/Los_Angeles:20171126T170000
DTSTAMP:20260423T152158
CREATED:20170215T230650Z
LAST-MODIFIED:20170215T230650Z
UID:10047074-1511683200-1511715600@expositionpark.ca.gov
SUMMARY:Vermont Sports Club
DESCRIPTION:
URL:https://expositionpark.ca.gov/event/vermont-sports-club-9/2017-11-26/
LOCATION:EXPO Center\, 3980 Bill Robertson Lane\, Los Angeles\, CA\, 90037\, United States
GEO:34.0121136;-118.2900829
X-APPLE-STRUCTURED-LOCATION;VALUE=URI;X-ADDRESS=EXPO Center 3980 Bill Robertson Lane Los Angeles CA 90037 United States;X-APPLE-RADIUS=500;X-TITLE=3980 Bill Robertson Lane:geo:-118.2900829,34.0121136
END:VEVENT
BEGIN:VEVENT
DTSTART;TZID=America/Los_Angeles:20171126T090000
DTEND;TZID=America/Los_Angeles:20171126T130000
DTSTAMP:20260423T152158
CREATED:20170706T165846Z
LAST-MODIFIED:20170706T165846Z
UID:10051182-1511686800-1511701200@expositionpark.ca.gov
SUMMARY:LA Rams FanFest
DESCRIPTION:
URL:https://expositionpark.ca.gov/event/la-rams-fanfest-7/
LOCATION:Christmas Tree Lane East & West; Expo Grass East & West; Jesse Brewer Park\, CA
GEO:36.778261;-119.4179324
END:VEVENT
BEGIN:VEVENT
DTSTART;TZID=America/Los_Angeles:20171126T100000
DTEND;TZID=America/Los_Angeles:20171126T130000
DTSTAMP:20260423T152158
CREATED:20170801T231406Z
LAST-MODIFIED:20170801T231406Z
UID:10051271-1511690400-1511701200@expositionpark.ca.gov
SUMMARY:Social Event
DESCRIPTION:Venue: Wallis Annenberg Building
URL:https://expositionpark.ca.gov/event/social-event-112/
LOCATION:California Science Center\, 700 Exposition Park Drive\, Los Angeles\, CA\, 90037\, United States
GEO:34.0157877;-118.2862095
X-APPLE-STRUCTURED-LOCATION;VALUE=URI;X-ADDRESS=California Science Center 700 Exposition Park Drive Los Angeles CA 90037 United States;X-APPLE-RADIUS=500;X-TITLE=700 Exposition Park Drive:geo:-118.2862095,34.0157877
END:VEVENT
END:VCALENDAR