BEGIN:VCALENDAR
VERSION:2.0
PRODID:-//Exposition Park - ECPv6.15.20//NONSGML v1.0//EN
CALSCALE:GREGORIAN
METHOD:PUBLISH
X-WR-CALNAME:Exposition Park
X-ORIGINAL-URL:https://expositionpark.ca.gov
X-WR-CALDESC:Events for Exposition Park
REFRESH-INTERVAL;VALUE=DURATION:PT1H
X-Robots-Tag:noindex
X-PUBLISHED-TTL:PT1H
BEGIN:VTIMEZONE
TZID:America/Los_Angeles
BEGIN:DAYLIGHT
TZOFFSETFROM:-0800
TZOFFSETTO:-0700
TZNAME:PDT
DTSTART:20160313T100000
END:DAYLIGHT
BEGIN:STANDARD
TZOFFSETFROM:-0700
TZOFFSETTO:-0800
TZNAME:PST
DTSTART:20161106T090000
END:STANDARD
BEGIN:DAYLIGHT
TZOFFSETFROM:-0800
TZOFFSETTO:-0700
TZNAME:PDT
DTSTART:20170312T100000
END:DAYLIGHT
BEGIN:STANDARD
TZOFFSETFROM:-0700
TZOFFSETTO:-0800
TZNAME:PST
DTSTART:20171105T090000
END:STANDARD
BEGIN:DAYLIGHT
TZOFFSETFROM:-0800
TZOFFSETTO:-0700
TZNAME:PDT
DTSTART:20180311T100000
END:DAYLIGHT
BEGIN:STANDARD
TZOFFSETFROM:-0700
TZOFFSETTO:-0800
TZNAME:PST
DTSTART:20181104T090000
END:STANDARD
END:VTIMEZONE
BEGIN:VEVENT
DTSTART;TZID=America/Los_Angeles:20171127T000000
DTEND;TZID=America/Los_Angeles:20171130T235900
DTSTAMP:20260420T055600
CREATED:20171127T201702Z
LAST-MODIFIED:20171127T201702Z
UID:10051527-1511740800-1512086340@expositionpark.ca.gov
SUMMARY:USC LAMC
DESCRIPTION:Sod Storage
URL:https://expositionpark.ca.gov/event/usc-lamc/
LOCATION:Lot 4\, CA\, United States
GEO:36.778261;-119.4179324
END:VEVENT
BEGIN:VEVENT
DTSTART;TZID=America/Los_Angeles:20171129T050000
DTEND;TZID=America/Los_Angeles:20171130T210000
DTSTAMP:20260420T055600
CREATED:20171127T202028Z
LAST-MODIFIED:20171127T202028Z
UID:10051529-1511931600-1512075600@expositionpark.ca.gov
SUMMARY:Possible Productions\, Inc
DESCRIPTION:Basecamp & Crew Parking \nLot 2 (South Portion)
URL:https://expositionpark.ca.gov/event/possible-productions-inc-2/
LOCATION:Lot 2\, CA\, United States
GEO:36.778261;-119.4179324
END:VEVENT
BEGIN:VEVENT
DTSTART;TZID=America/Los_Angeles:20171129T080000
DTEND;TZID=America/Los_Angeles:20171129T170000
DTSTAMP:20260420T055600
CREATED:20170215T230401Z
LAST-MODIFIED:20170215T230401Z
UID:10046212-1511942400-1511974800@expositionpark.ca.gov
SUMMARY:New Star
DESCRIPTION:
URL:https://expositionpark.ca.gov/event/new-star/2017-11-29/
LOCATION:EXPO Center\, 3980 Bill Robertson Lane\, Los Angeles\, CA\, 90037\, United States
GEO:34.0121136;-118.2900829
X-APPLE-STRUCTURED-LOCATION;VALUE=URI;X-ADDRESS=EXPO Center 3980 Bill Robertson Lane Los Angeles CA 90037 United States;X-APPLE-RADIUS=500;X-TITLE=3980 Bill Robertson Lane:geo:-118.2900829,34.0121136
END:VEVENT
BEGIN:VEVENT
DTSTART;TZID=America/Los_Angeles:20171129T090000
DTEND;TZID=America/Los_Angeles:20171129T150000
DTSTAMP:20260420T055600
CREATED:20171115T205635Z
LAST-MODIFIED:20171115T205635Z
UID:10047976-1511946000-1511967600@expositionpark.ca.gov
SUMMARY:AFM Training
DESCRIPTION:AFM Training will be taking place in Comrie Hall from 9 am to 3 pm.
URL:https://expositionpark.ca.gov/event/afm-training/
LOCATION:EXPO Center/ John C Argue Swim Stadium\, 3980 Bill Robertson Lane\, Los Angeles\, CA\, 90037\, United States
GEO:34.0121136;-118.2900829
X-APPLE-STRUCTURED-LOCATION;VALUE=URI;X-ADDRESS=EXPO Center/ John C Argue Swim Stadium 3980 Bill Robertson Lane Los Angeles CA 90037 United States;X-APPLE-RADIUS=500;X-TITLE=3980 Bill Robertson Lane:geo:-118.2900829,34.0121136
END:VEVENT
BEGIN:VEVENT
DTSTART;TZID=America/Los_Angeles:20171129T110000
DTEND;TZID=America/Los_Angeles:20171129T140000
DTSTAMP:20260420T055600
CREATED:20171115T205448Z
LAST-MODIFIED:20171115T205448Z
UID:10051503-1511953200-1511964000@expositionpark.ca.gov
SUMMARY:Private Luncheon
DESCRIPTION:
URL:https://expositionpark.ca.gov/event/private-luncheon-2/
LOCATION:Los Angeles Memorial Coliseum\, 3911 S. Figueroa St.\, Los Angeles\, CA\, CA\, 90037\, United States
GEO:34.0128523;-118.2845395
X-APPLE-STRUCTURED-LOCATION;VALUE=URI;X-ADDRESS=Los Angeles Memorial Coliseum 3911 S. Figueroa St. Los Angeles CA CA 90037 United States;X-APPLE-RADIUS=500;X-TITLE=3911 S. Figueroa St.:geo:-118.2845395,34.0128523
END:VEVENT
BEGIN:VEVENT
DTSTART;TZID=America/Los_Angeles:20171129T160000
DTEND;TZID=America/Los_Angeles:20171129T235900
DTSTAMP:20260420T055600
CREATED:20170802T223238Z
LAST-MODIFIED:20171004T222113Z
UID:10051293-1511971200-1511999940@expositionpark.ca.gov
SUMMARY:Private Event
DESCRIPTION:
URL:https://expositionpark.ca.gov/event/private-event-88/
LOCATION:Natural History Museum\, 900 Exposition Blvd\, Los Angeles\, CA\, 90037\, United States
GEO:34.0170769;-118.2886818
X-APPLE-STRUCTURED-LOCATION;VALUE=URI;X-ADDRESS=Natural History Museum 900 Exposition Blvd Los Angeles CA 90037 United States;X-APPLE-RADIUS=500;X-TITLE=900 Exposition Blvd:geo:-118.2886818,34.0170769
END:VEVENT
BEGIN:VEVENT
DTSTART;TZID=America/Los_Angeles:20171129T180000
DTEND;TZID=America/Los_Angeles:20171129T200000
DTSTAMP:20260420T055600
CREATED:20171102T170223Z
LAST-MODIFIED:20171102T170223Z
UID:10051477-1511978400-1511985600@expositionpark.ca.gov
SUMMARY:CSC - Corporate Event (150)
DESCRIPTION:
URL:https://expositionpark.ca.gov/event/csc-corporate-event-150-2/
LOCATION:United States
ORGANIZER;CN="Derek Krull":MAILTO:Dkrull@cscmail.org
END:VEVENT
BEGIN:VEVENT
DTSTART;TZID=America/Los_Angeles:20171129T180000
DTEND;TZID=America/Los_Angeles:20171129T210000
DTSTAMP:20260420T055600
CREATED:20170214T222616Z
LAST-MODIFIED:20170214T222616Z
UID:10048542-1511978400-1511989200@expositionpark.ca.gov
SUMMARY:EXPO Soccer Clinic
DESCRIPTION:
URL:https://expositionpark.ca.gov/event/expo-soccer-clinic/2017-11-29/
LOCATION:EXPO Center\, 3980 Bill Robertson Lane\, Los Angeles\, CA\, 90037\, United States
GEO:34.0121136;-118.2900829
X-APPLE-STRUCTURED-LOCATION;VALUE=URI;X-ADDRESS=EXPO Center 3980 Bill Robertson Lane Los Angeles CA 90037 United States;X-APPLE-RADIUS=500;X-TITLE=3980 Bill Robertson Lane:geo:-118.2900829,34.0121136
END:VEVENT
END:VCALENDAR