BEGIN:VCALENDAR
VERSION:2.0
PRODID:-//Exposition Park - ECPv6.15.20//NONSGML v1.0//EN
CALSCALE:GREGORIAN
METHOD:PUBLISH
X-WR-CALNAME:Exposition Park
X-ORIGINAL-URL:https://expositionpark.ca.gov
X-WR-CALDESC:Events for Exposition Park
REFRESH-INTERVAL;VALUE=DURATION:PT1H
X-Robots-Tag:noindex
X-PUBLISHED-TTL:PT1H
BEGIN:VTIMEZONE
TZID:America/Los_Angeles
BEGIN:DAYLIGHT
TZOFFSETFROM:-0800
TZOFFSETTO:-0700
TZNAME:PDT
DTSTART:20160313T100000
END:DAYLIGHT
BEGIN:STANDARD
TZOFFSETFROM:-0700
TZOFFSETTO:-0800
TZNAME:PST
DTSTART:20161106T090000
END:STANDARD
BEGIN:DAYLIGHT
TZOFFSETFROM:-0800
TZOFFSETTO:-0700
TZNAME:PDT
DTSTART:20170312T100000
END:DAYLIGHT
BEGIN:STANDARD
TZOFFSETFROM:-0700
TZOFFSETTO:-0800
TZNAME:PST
DTSTART:20171105T090000
END:STANDARD
BEGIN:DAYLIGHT
TZOFFSETFROM:-0800
TZOFFSETTO:-0700
TZNAME:PDT
DTSTART:20180311T100000
END:DAYLIGHT
BEGIN:STANDARD
TZOFFSETFROM:-0700
TZOFFSETTO:-0800
TZNAME:PST
DTSTART:20181104T090000
END:STANDARD
END:VTIMEZONE
BEGIN:VEVENT
DTSTART;TZID=America/Los_Angeles:20171202T070000
DTEND;TZID=America/Los_Angeles:20171202T180000
DTSTAMP:20260421T044241
CREATED:20171115T231438Z
LAST-MODIFIED:20171115T231438Z
UID:10047979-1512198000-1512237600@expositionpark.ca.gov
SUMMARY:Citywide Aquatics Swimming Championships
DESCRIPTION:Swim Meet will be taking place in the North and South Competition Pools from 7 am to 6 pm.
URL:https://expositionpark.ca.gov/event/citywide-aquatics-swimming-championships/
LOCATION:EXPO Center/ John C Argue Swim Stadium\, 3980 Bill Robertson Lane\, Los Angeles\, CA\, 90037\, United States
GEO:34.0121136;-118.2900829
X-APPLE-STRUCTURED-LOCATION;VALUE=URI;X-ADDRESS=EXPO Center/ John C Argue Swim Stadium 3980 Bill Robertson Lane Los Angeles CA 90037 United States;X-APPLE-RADIUS=500;X-TITLE=3980 Bill Robertson Lane:geo:-118.2900829,34.0121136
END:VEVENT
BEGIN:VEVENT
DTSTART;TZID=America/Los_Angeles:20171202T110000
DTEND;TZID=America/Los_Angeles:20171203T210000
DTSTAMP:20260421T044241
CREATED:20171030T195342Z
LAST-MODIFIED:20171109T001248Z
UID:10051467-1512212400-1512334800@expositionpark.ca.gov
SUMMARY:Fiesta Navideno - LA Fusion Marketing
DESCRIPTION:Family Christmas Event \nEvent Hours: 11am to 9pm (both days) \nLoad-In: 1am = Sat\, Dec 2\, 2017 \nLoad-Out: by 11:59pm – Sun\, Dec 3\, 2017
URL:https://expositionpark.ca.gov/event/pending-event-la-fusion-marketing-inc/
LOCATION:CA
END:VEVENT
BEGIN:VEVENT
DTSTART;TZID=America/Los_Angeles:20171202T160000
DTEND;TZID=America/Los_Angeles:20171203T010000
DTSTAMP:20260421T044241
CREATED:20170616T195704Z
LAST-MODIFIED:20170616T195704Z
UID:10051145-1512230400-1512262800@expositionpark.ca.gov
SUMMARY:Private Event
DESCRIPTION:
URL:https://expositionpark.ca.gov/event/private-event-80/
LOCATION:Natural History Museum of Los Angeles County\, 900 Exposition Blvd.\, Los Angeles\, CA\, 90007\, United States
GEO:34.0170769;-118.2886818
X-APPLE-STRUCTURED-LOCATION;VALUE=URI;X-ADDRESS=Natural History Museum of Los Angeles County 900 Exposition Blvd. Los Angeles CA 90007 United States;X-APPLE-RADIUS=500;X-TITLE=900 Exposition Blvd.:geo:-118.2886818,34.0170769
END:VEVENT
END:VCALENDAR