BEGIN:VCALENDAR
VERSION:2.0
PRODID:-//Exposition Park - ECPv6.15.20//NONSGML v1.0//EN
CALSCALE:GREGORIAN
METHOD:PUBLISH
X-WR-CALNAME:Exposition Park
X-ORIGINAL-URL:https://expositionpark.ca.gov
X-WR-CALDESC:Events for Exposition Park
REFRESH-INTERVAL;VALUE=DURATION:PT1H
X-Robots-Tag:noindex
X-PUBLISHED-TTL:PT1H
BEGIN:VTIMEZONE
TZID:America/Los_Angeles
BEGIN:DAYLIGHT
TZOFFSETFROM:-0800
TZOFFSETTO:-0700
TZNAME:PDT
DTSTART:20170312T100000
END:DAYLIGHT
BEGIN:STANDARD
TZOFFSETFROM:-0700
TZOFFSETTO:-0800
TZNAME:PST
DTSTART:20171105T090000
END:STANDARD
BEGIN:DAYLIGHT
TZOFFSETFROM:-0800
TZOFFSETTO:-0700
TZNAME:PDT
DTSTART:20180311T100000
END:DAYLIGHT
BEGIN:STANDARD
TZOFFSETFROM:-0700
TZOFFSETTO:-0800
TZNAME:PST
DTSTART:20181104T090000
END:STANDARD
BEGIN:DAYLIGHT
TZOFFSETFROM:-0800
TZOFFSETTO:-0700
TZNAME:PDT
DTSTART:20190310T100000
END:DAYLIGHT
BEGIN:STANDARD
TZOFFSETFROM:-0700
TZOFFSETTO:-0800
TZNAME:PST
DTSTART:20191103T090000
END:STANDARD
END:VTIMEZONE
BEGIN:VEVENT
DTSTART;TZID=America/Los_Angeles:20180114T070000
DTEND;TZID=America/Los_Angeles:20180114T180000
DTSTAMP:20260421T165816
CREATED:20171116T230005Z
LAST-MODIFIED:20171116T230005Z
UID:10051507-1515913200-1515952800@expositionpark.ca.gov
SUMMARY:Lifeguard Rechecks
DESCRIPTION:Lifeguard Rechecks will be taking place from 7 am to 6 pm in the North and South Competition Pools as well as in Comrie Hall.
URL:https://expositionpark.ca.gov/event/lifeguard-rechecks-8/
LOCATION:CA
END:VEVENT
BEGIN:VEVENT
DTSTART;TZID=America/Los_Angeles:20180114T080000
DTEND;TZID=America/Los_Angeles:20180114T170000
DTSTAMP:20260421T165816
CREATED:20170215T230650Z
LAST-MODIFIED:20170215T230650Z
UID:10047081-1515916800-1515949200@expositionpark.ca.gov
SUMMARY:Vermont Sports Club
DESCRIPTION:
URL:https://expositionpark.ca.gov/event/vermont-sports-club-9/2018-01-14/
LOCATION:EXPO Center\, 3980 Bill Robertson Lane\, Los Angeles\, CA\, 90037\, United States
GEO:34.0121136;-118.2900829
X-APPLE-STRUCTURED-LOCATION;VALUE=URI;X-ADDRESS=EXPO Center 3980 Bill Robertson Lane Los Angeles CA 90037 United States;X-APPLE-RADIUS=500;X-TITLE=3980 Bill Robertson Lane:geo:-118.2900829,34.0121136
END:VEVENT
BEGIN:VEVENT
DTSTART;TZID=America/Los_Angeles:20180114T110000
DTEND;TZID=America/Los_Angeles:20180114T190000
DTSTAMP:20260421T165816
CREATED:20180108T164657Z
LAST-MODIFIED:20180108T164657Z
UID:10051614-1515927600-1515956400@expositionpark.ca.gov
SUMMARY:CAAM Event: Closing Symposium
DESCRIPTION:Sunday\, January 14\, 2018 I 1:00 – 7:00 p.m.\nWe Wanted a Revolution: Black Radical Women\, 1965–85 Closing Symposium\nThis symposium marks the closing of the exhibition We Wanted a Revolution: Black Radical Women\, 1965–85. Developed in partnership with Freewaves.org creator of DIS…MISS\, the event engages artists in conversation about the social\, political\, and aesthetic environments that defined this era in the contemporary realm. \n1:00 – 1:30 p.m.\nOpening remarks by Alison Saar honoring Betye Saar and Samella Lewis \n1:30 – 2:30 p.m.\nIn Conversation: Faith Ringgold with Michele Wallace\nJoin us for a conversation between Faith Ringgold and her daughter Michele Wallace as they discuss the catalytic political period captured in the exhibition We Wanted a Revolution. This conversation derives from their life-long relationship and highlights key moments and stories behind the work. Moderated by Erin Christovale\, assistant curator\, Hammer Museum. \n3:00 – 4:30 p.m.\nBlack Radical Women Now!\nThis series of conversations between artists featured in We Wanted a Revolution and local practitioners working in Los Angeles traces the synergies between movements and making. Panelists include Linda Goode Bryant\, Maren Hassinger\, Barbara McCullough\, and Senga Nengudi\, who will share the influences behind their work and how they continue to practice today. This conversation is moderated by Rujeko Hockley\, assistant curator at the Whitney Museum of American Art and co-curator of We Wanted a Revolution. \n4:30 – 5:00 p.m.\nPerformance: Women’s Work by Maren Hassinger\nEveryone in the audience is invited to participate in this project designed to highlight our unity. \n5:00 – 6:00 p.m.\nRadical Women Workshop\nHear breakout conversations between featured artists Jae Jarrell\, Dindga McCannon\, and others on topics of mutual interest\, such as artist-run spaces\, collective practices\, performance work\, and feminist practice. Participating local artists are Lili Bernard\, April Bey\, Adebukola Bodunrin\, Zeal Harris\, Tonya Ingram\, Cole M. James\, Nzinga Kadalie Kemp\, Nicole Kelly\, Jessica Wimbley\, and others. Moderated by independent curator and artist Chelle Barber. \n6:00 – 7:00 p.m.\nClosing Reception Celebration\nDJ Scholar Lynnée Denise spins music inspired by We Wanted a Revolution. This feminist sonic collage will honor black women’s radical cultural contributions that are typically erased from discourse on black music. Denise curates a set featuring music produced\, written\, and/or performed by black women between 1965 and 1985. \nSupport for this program provided by Metabolic Studio.
URL:https://expositionpark.ca.gov/event/caam-event-closing-symposium/
LOCATION:CA\, United States
END:VEVENT
BEGIN:VEVENT
DTSTART;TZID=America/Los_Angeles:20180114T130000
DTEND;TZID=America/Los_Angeles:20180114T190000
DTSTAMP:20260421T165816
CREATED:20180110T234410Z
LAST-MODIFIED:20180110T234410Z
UID:10050627-1515934800-1515956400@expositionpark.ca.gov
SUMMARY:CAAM WWAR Closing Symposium
DESCRIPTION:Sunday\, January 14\, 2018 I 1:00 – 7:00 p.m. We Wanted a Revolution: Black Radical Women\, 1965–85 Closing Symposium This symposium marks the closing of the exhibition We Wanted a Revolution: Black Radical Women\, 1965–85.
URL:https://expositionpark.ca.gov/event/caam-wwar-closing-symposium/
LOCATION:CA\, United States
END:VEVENT
END:VCALENDAR