BEGIN:VCALENDAR
VERSION:2.0
PRODID:-//Exposition Park - ECPv6.15.20//NONSGML v1.0//EN
CALSCALE:GREGORIAN
METHOD:PUBLISH
X-WR-CALNAME:Exposition Park
X-ORIGINAL-URL:https://expositionpark.ca.gov
X-WR-CALDESC:Events for Exposition Park
REFRESH-INTERVAL;VALUE=DURATION:PT1H
X-Robots-Tag:noindex
X-PUBLISHED-TTL:PT1H
BEGIN:VTIMEZONE
TZID:America/Los_Angeles
BEGIN:DAYLIGHT
TZOFFSETFROM:-0800
TZOFFSETTO:-0700
TZNAME:PDT
DTSTART:20170312T100000
END:DAYLIGHT
BEGIN:STANDARD
TZOFFSETFROM:-0700
TZOFFSETTO:-0800
TZNAME:PST
DTSTART:20171105T090000
END:STANDARD
BEGIN:DAYLIGHT
TZOFFSETFROM:-0800
TZOFFSETTO:-0700
TZNAME:PDT
DTSTART:20180311T100000
END:DAYLIGHT
BEGIN:STANDARD
TZOFFSETFROM:-0700
TZOFFSETTO:-0800
TZNAME:PST
DTSTART:20181104T090000
END:STANDARD
BEGIN:DAYLIGHT
TZOFFSETFROM:-0800
TZOFFSETTO:-0700
TZNAME:PDT
DTSTART:20190310T100000
END:DAYLIGHT
BEGIN:STANDARD
TZOFFSETFROM:-0700
TZOFFSETTO:-0800
TZNAME:PST
DTSTART:20191103T090000
END:STANDARD
END:VTIMEZONE
BEGIN:VEVENT
DTSTART;TZID=America/Los_Angeles:20180120T070000
DTEND;TZID=America/Los_Angeles:20180120T180000
DTSTAMP:20260420T182153
CREATED:20171116T230050Z
LAST-MODIFIED:20171116T230050Z
UID:10051510-1516431600-1516471200@expositionpark.ca.gov
SUMMARY:Lifeguard Rechecks
DESCRIPTION:Lifeguard Rechecks will be taking place from 7 am to 6 pm in the North and South Competition Pools as well as in Comrie Hall.
URL:https://expositionpark.ca.gov/event/lifeguard-rechecks-10/
LOCATION:EXPO Center/ John C Argue Swim Stadium\, 3980 Bill Robertson Lane\, Los Angeles\, CA\, 90037\, United States
GEO:34.0121136;-118.2900829
X-APPLE-STRUCTURED-LOCATION;VALUE=URI;X-ADDRESS=EXPO Center/ John C Argue Swim Stadium 3980 Bill Robertson Lane Los Angeles CA 90037 United States;X-APPLE-RADIUS=500;X-TITLE=3980 Bill Robertson Lane:geo:-118.2900829,34.0121136
END:VEVENT
BEGIN:VEVENT
DTSTART;TZID=America/Los_Angeles:20180120T080000
DTEND;TZID=America/Los_Angeles:20180120T140000
DTSTAMP:20260420T182153
CREATED:20170720T221607Z
LAST-MODIFIED:20170720T221607Z
UID:10051224-1516435200-1516456800@expositionpark.ca.gov
SUMMARY:Youth Programs at NHM
DESCRIPTION:Free youth programs at the Natural History Museum \nExpected attendance: 80 spots available to any regular museum visitor \nFor questions or concerns\, contact Christina Kastely at ckastely@nhm.org or (213) 763-3257. \nThank you
URL:https://expositionpark.ca.gov/event/youth-programs-at-nhm-3/
LOCATION:Natural History Museum of Los Angeles County\, 900 Exposition Blvd.\, Los Angeles\, CA\, 90007\, United States
ORGANIZER;CN="Christina Kastely":MAILTO:ckastely@nhm.org
GEO:34.0170769;-118.2886818
X-APPLE-STRUCTURED-LOCATION;VALUE=URI;X-ADDRESS=Natural History Museum of Los Angeles County 900 Exposition Blvd. Los Angeles CA 90007 United States;X-APPLE-RADIUS=500;X-TITLE=900 Exposition Blvd.:geo:-118.2886818,34.0170769
END:VEVENT
BEGIN:VEVENT
DTSTART;TZID=America/Los_Angeles:20180120T090000
DTEND;TZID=America/Los_Angeles:20180120T170000
DTSTAMP:20260420T182153
CREATED:20170717T232757Z
LAST-MODIFIED:20170717T232757Z
UID:10051203-1516438800-1516467600@expositionpark.ca.gov
SUMMARY:NHMLA Birthdays
DESCRIPTION:
URL:https://expositionpark.ca.gov/event/nhmla-birthdays/
LOCATION:Natural History Museum\, 900 Exposition Blvd\, Los Angeles\, CA\, 90037\, United States
ORGANIZER;CN="NHM":MAILTO:vvobis@nhm.org
GEO:34.0170769;-118.2886818
X-APPLE-STRUCTURED-LOCATION;VALUE=URI;X-ADDRESS=Natural History Museum 900 Exposition Blvd Los Angeles CA 90037 United States;X-APPLE-RADIUS=500;X-TITLE=900 Exposition Blvd:geo:-118.2886818,34.0170769
END:VEVENT
BEGIN:VEVENT
DTSTART;TZID=America/Los_Angeles:20180120T090000
DTEND;TZID=America/Los_Angeles:20180120T170000
DTSTAMP:20260420T182153
CREATED:20170724T200727Z
LAST-MODIFIED:20170724T200727Z
UID:10051236-1516438800-1516467600@expositionpark.ca.gov
SUMMARY:Birthday Parties!
DESCRIPTION:
URL:https://expositionpark.ca.gov/event/birthday-parties-27/
LOCATION:Natural History Museum\, 900 Exposition Blvd\, Los Angeles\, CA\, 90037\, United States
GEO:34.0170769;-118.2886818
X-APPLE-STRUCTURED-LOCATION;VALUE=URI;X-ADDRESS=Natural History Museum 900 Exposition Blvd Los Angeles CA 90037 United States;X-APPLE-RADIUS=500;X-TITLE=900 Exposition Blvd:geo:-118.2886818,34.0170769
END:VEVENT
BEGIN:VEVENT
DTSTART;TZID=America/Los_Angeles:20180120T160000
DTEND;TZID=America/Los_Angeles:20180120T235900
DTSTAMP:20260420T182153
CREATED:20170419T001816Z
LAST-MODIFIED:20170419T001816Z
UID:10047569-1516464000-1516492740@expositionpark.ca.gov
SUMMARY:Private Event
DESCRIPTION:
URL:https://expositionpark.ca.gov/event/private-event-72/
LOCATION:Natural History Museum of Los Angeles County\, 900 Exposition Blvd.\, Los Angeles\, CA\, 90007\, United States
GEO:34.0170769;-118.2886818
X-APPLE-STRUCTURED-LOCATION;VALUE=URI;X-ADDRESS=Natural History Museum of Los Angeles County 900 Exposition Blvd. Los Angeles CA 90007 United States;X-APPLE-RADIUS=500;X-TITLE=900 Exposition Blvd.:geo:-118.2886818,34.0170769
END:VEVENT
BEGIN:VEVENT
DTSTART;TZID=America/Los_Angeles:20180120T183000
DTEND;TZID=America/Los_Angeles:20180120T223000
DTSTAMP:20260420T182153
CREATED:20170929T162817Z
LAST-MODIFIED:20170929T162817Z
UID:10047790-1516473000-1516487400@expositionpark.ca.gov
SUMMARY:Social Event
DESCRIPTION:Venue: Samuel Oschin Pavilion
URL:https://expositionpark.ca.gov/event/social-event-113/
LOCATION:California Science Center\, 700 Exposition Park Drive\, Los Angeles\, CA\, 90037\, United States
GEO:34.0157877;-118.2862095
X-APPLE-STRUCTURED-LOCATION;VALUE=URI;X-ADDRESS=California Science Center 700 Exposition Park Drive Los Angeles CA 90037 United States;X-APPLE-RADIUS=500;X-TITLE=700 Exposition Park Drive:geo:-118.2862095,34.0157877
END:VEVENT
END:VCALENDAR