BEGIN:VCALENDAR
VERSION:2.0
PRODID:-//Exposition Park - ECPv6.15.20//NONSGML v1.0//EN
CALSCALE:GREGORIAN
METHOD:PUBLISH
X-ORIGINAL-URL:https://expositionpark.ca.gov
X-WR-CALDESC:Events for Exposition Park
REFRESH-INTERVAL;VALUE=DURATION:PT1H
X-Robots-Tag:noindex
X-PUBLISHED-TTL:PT1H
BEGIN:VTIMEZONE
TZID:America/Los_Angeles
BEGIN:DAYLIGHT
TZOFFSETFROM:-0800
TZOFFSETTO:-0700
TZNAME:PDT
DTSTART:20170312T100000
END:DAYLIGHT
BEGIN:STANDARD
TZOFFSETFROM:-0700
TZOFFSETTO:-0800
TZNAME:PST
DTSTART:20171105T090000
END:STANDARD
BEGIN:DAYLIGHT
TZOFFSETFROM:-0800
TZOFFSETTO:-0700
TZNAME:PDT
DTSTART:20180311T100000
END:DAYLIGHT
BEGIN:STANDARD
TZOFFSETFROM:-0700
TZOFFSETTO:-0800
TZNAME:PST
DTSTART:20181104T090000
END:STANDARD
BEGIN:DAYLIGHT
TZOFFSETFROM:-0800
TZOFFSETTO:-0700
TZNAME:PDT
DTSTART:20190310T100000
END:DAYLIGHT
BEGIN:STANDARD
TZOFFSETFROM:-0700
TZOFFSETTO:-0800
TZNAME:PST
DTSTART:20191103T090000
END:STANDARD
END:VTIMEZONE
BEGIN:VEVENT
DTSTART;TZID=America/Los_Angeles:20180121T070000
DTEND;TZID=America/Los_Angeles:20180121T180000
DTSTAMP:20260420T221630
CREATED:20171116T230115Z
LAST-MODIFIED:20171116T230115Z
UID:10051511-1516518000-1516557600@expositionpark.ca.gov
SUMMARY:Lifeguard Rechecks
DESCRIPTION:Lifeguard Rechecks will be taking place from 7 am to 6 pm in the North and South Competition Pools as well as in Comrie Hall and MPR 1-3.
URL:https://expositionpark.ca.gov/event/lifeguard-rechecks-11/
LOCATION:CA
END:VEVENT
BEGIN:VEVENT
DTSTART;TZID=America/Los_Angeles:20180121T080000
DTEND;TZID=America/Los_Angeles:20180121T170000
DTSTAMP:20260420T221630
CREATED:20170215T230650Z
LAST-MODIFIED:20170215T230650Z
UID:10047082-1516521600-1516554000@expositionpark.ca.gov
SUMMARY:Vermont Sports Club
DESCRIPTION:
URL:https://expositionpark.ca.gov/event/vermont-sports-club-9/2018-01-21/
LOCATION:EXPO Center\, 3980 Bill Robertson Lane\, Los Angeles\, CA\, 90037\, United States
GEO:34.0121136;-118.2900829
X-APPLE-STRUCTURED-LOCATION;VALUE=URI;X-ADDRESS=EXPO Center 3980 Bill Robertson Lane Los Angeles CA 90037 United States;X-APPLE-RADIUS=500;X-TITLE=3980 Bill Robertson Lane:geo:-118.2900829,34.0121136
END:VEVENT
BEGIN:VEVENT
DTSTART;TZID=America/Los_Angeles:20180121T093000
DTEND;TZID=America/Los_Angeles:20180121T170000
DTSTAMP:20260420T221630
CREATED:20171109T174634Z
LAST-MODIFIED:20171109T174634Z
UID:10051499-1516527000-1516554000@expositionpark.ca.gov
SUMMARY:Dapper Day at NHM
DESCRIPTION:
URL:https://expositionpark.ca.gov/event/dapper-day-at-nhm/
LOCATION:CA
ORGANIZER;CN="Marisol Jara":MAILTO:vvobis@nhm.org
END:VEVENT
BEGIN:VEVENT
DTSTART;TZID=America/Los_Angeles:20180121T120000
DTEND;TZID=America/Los_Angeles:20180121T160000
DTSTAMP:20260420T221630
CREATED:20180110T234255Z
LAST-MODIFIED:20180110T234255Z
UID:10050625-1516536000-1516550400@expositionpark.ca.gov
SUMMARY:Private Event
DESCRIPTION:
URL:https://expositionpark.ca.gov/event/private-event-61/
LOCATION:Los Angeles Memorial Coliseum\, 3911 S. Figueroa St.\, Los Angeles\, CA\, CA\, 90037\, United States
GEO:34.0128523;-118.2845395
X-APPLE-STRUCTURED-LOCATION;VALUE=URI;X-ADDRESS=Los Angeles Memorial Coliseum 3911 S. Figueroa St. Los Angeles CA CA 90037 United States;X-APPLE-RADIUS=500;X-TITLE=3911 S. Figueroa St.:geo:-118.2845395,34.0128523
END:VEVENT
END:VCALENDAR