BEGIN:VCALENDAR
VERSION:2.0
PRODID:-//Exposition Park - ECPv6.15.20//NONSGML v1.0//EN
CALSCALE:GREGORIAN
METHOD:PUBLISH
X-WR-CALNAME:Exposition Park
X-ORIGINAL-URL:https://expositionpark.ca.gov
X-WR-CALDESC:Events for Exposition Park
REFRESH-INTERVAL;VALUE=DURATION:PT1H
X-Robots-Tag:noindex
X-PUBLISHED-TTL:PT1H
BEGIN:VTIMEZONE
TZID:America/Los_Angeles
BEGIN:DAYLIGHT
TZOFFSETFROM:-0800
TZOFFSETTO:-0700
TZNAME:PDT
DTSTART:20170312T100000
END:DAYLIGHT
BEGIN:STANDARD
TZOFFSETFROM:-0700
TZOFFSETTO:-0800
TZNAME:PST
DTSTART:20171105T090000
END:STANDARD
BEGIN:DAYLIGHT
TZOFFSETFROM:-0800
TZOFFSETTO:-0700
TZNAME:PDT
DTSTART:20180311T100000
END:DAYLIGHT
BEGIN:STANDARD
TZOFFSETFROM:-0700
TZOFFSETTO:-0800
TZNAME:PST
DTSTART:20181104T090000
END:STANDARD
BEGIN:DAYLIGHT
TZOFFSETFROM:-0800
TZOFFSETTO:-0700
TZNAME:PDT
DTSTART:20190310T100000
END:DAYLIGHT
BEGIN:STANDARD
TZOFFSETFROM:-0700
TZOFFSETTO:-0800
TZNAME:PST
DTSTART:20191103T090000
END:STANDARD
END:VTIMEZONE
BEGIN:VEVENT
DTSTART;TZID=America/Los_Angeles:20180208T000100
DTEND;TZID=America/Los_Angeles:20180209T040000
DTSTAMP:20260421T082635
CREATED:20180131T192743Z
LAST-MODIFIED:20180131T192743Z
UID:10050641-1518048060-1518148800@expositionpark.ca.gov
SUMMARY:ABC Studios
DESCRIPTION:Basecamp and Crew Parking \nLot 4 and 1 Row in Lot 6 (against the fence S/W portion)
URL:https://expositionpark.ca.gov/event/abc-studios-16/
LOCATION:Lot 4
END:VEVENT
BEGIN:VEVENT
DTSTART;TZID=America/Los_Angeles:20180209T080000
DTEND;TZID=America/Los_Angeles:20180209T170000
DTSTAMP:20260421T082635
CREATED:20170215T230439Z
LAST-MODIFIED:20170215T230439Z
UID:10046653-1518163200-1518195600@expositionpark.ca.gov
SUMMARY:San Pedro Soccer League
DESCRIPTION:
URL:https://expositionpark.ca.gov/event/san-pedro-soccer-league-3/2018-02-09/
LOCATION:EXPO Center\, 3980 Bill Robertson Lane\, Los Angeles\, CA\, 90037\, United States
GEO:34.0121136;-118.2900829
X-APPLE-STRUCTURED-LOCATION;VALUE=URI;X-ADDRESS=EXPO Center 3980 Bill Robertson Lane Los Angeles CA 90037 United States;X-APPLE-RADIUS=500;X-TITLE=3980 Bill Robertson Lane:geo:-118.2900829,34.0121136
END:VEVENT
BEGIN:VEVENT
DTSTART;TZID=America/Los_Angeles:20180209T160000
DTEND;TZID=America/Los_Angeles:20180209T200000
DTSTAMP:20260421T082635
CREATED:20180208T175900Z
LAST-MODIFIED:20180208T175900Z
UID:10050655-1518192000-1518206400@expositionpark.ca.gov
SUMMARY:Job Fair Day 1
DESCRIPTION:
URL:https://expositionpark.ca.gov/event/job-fair-day-1/
LOCATION:Banc of California Stadium\, United States
ORGANIZER;CN="Otto Benedict":MAILTO:otto.benedict@lafc.com
GEO:37.09024;-95.712891
END:VEVENT
BEGIN:VEVENT
DTSTART;TZID=America/Los_Angeles:20180209T180000
DTEND;TZID=America/Los_Angeles:20180209T210000
DTSTAMP:20260421T082635
CREATED:20170214T222616Z
LAST-MODIFIED:20170214T222616Z
UID:10048573-1518199200-1518210000@expositionpark.ca.gov
SUMMARY:EXPO Soccer Clinic
DESCRIPTION:
URL:https://expositionpark.ca.gov/event/expo-soccer-clinic/2018-02-09/
LOCATION:EXPO Center\, 3980 Bill Robertson Lane\, Los Angeles\, CA\, 90037\, United States
GEO:34.0121136;-118.2900829
X-APPLE-STRUCTURED-LOCATION;VALUE=URI;X-ADDRESS=EXPO Center 3980 Bill Robertson Lane Los Angeles CA 90037 United States;X-APPLE-RADIUS=500;X-TITLE=3980 Bill Robertson Lane:geo:-118.2900829,34.0121136
END:VEVENT
BEGIN:VEVENT
DTSTART;TZID=America/Los_Angeles:20180209T190000
DTEND;TZID=America/Los_Angeles:20180209T220000
DTSTAMP:20260421T082635
CREATED:20180108T164258Z
LAST-MODIFIED:20180108T164258Z
UID:10051606-1518202800-1518213600@expositionpark.ca.gov
SUMMARY:CSC - Private Event
DESCRIPTION:
URL:https://expositionpark.ca.gov/event/csc-private-event/
LOCATION:CSC – Samuel Oschin Pavilion
ORGANIZER;CN="Derek Krull":MAILTO:Dkrull@cscmail.org
END:VEVENT
END:VCALENDAR