BEGIN:VCALENDAR
VERSION:2.0
PRODID:-//Exposition Park - ECPv6.15.20//NONSGML v1.0//EN
CALSCALE:GREGORIAN
METHOD:PUBLISH
X-WR-CALNAME:Exposition Park
X-ORIGINAL-URL:https://expositionpark.ca.gov
X-WR-CALDESC:Events for Exposition Park
REFRESH-INTERVAL;VALUE=DURATION:PT1H
X-Robots-Tag:noindex
X-PUBLISHED-TTL:PT1H
BEGIN:VTIMEZONE
TZID:America/Los_Angeles
BEGIN:DAYLIGHT
TZOFFSETFROM:-0800
TZOFFSETTO:-0700
TZNAME:PDT
DTSTART:20170312T100000
END:DAYLIGHT
BEGIN:STANDARD
TZOFFSETFROM:-0700
TZOFFSETTO:-0800
TZNAME:PST
DTSTART:20171105T090000
END:STANDARD
BEGIN:DAYLIGHT
TZOFFSETFROM:-0800
TZOFFSETTO:-0700
TZNAME:PDT
DTSTART:20180311T100000
END:DAYLIGHT
BEGIN:STANDARD
TZOFFSETFROM:-0700
TZOFFSETTO:-0800
TZNAME:PST
DTSTART:20181104T090000
END:STANDARD
BEGIN:DAYLIGHT
TZOFFSETFROM:-0800
TZOFFSETTO:-0700
TZNAME:PDT
DTSTART:20190310T100000
END:DAYLIGHT
BEGIN:STANDARD
TZOFFSETFROM:-0700
TZOFFSETTO:-0800
TZNAME:PST
DTSTART:20191103T090000
END:STANDARD
END:VTIMEZONE
BEGIN:VEVENT
DTSTART;VALUE=DATE:20180222
DTEND;VALUE=DATE:20180303
DTSTAMP:20260422T215756
CREATED:20170720T194712Z
LAST-MODIFIED:20170720T215903Z
UID:10051205-1519257600-1520035199@expositionpark.ca.gov
SUMMARY:Air & Style Set-up
DESCRIPTION:
URL:https://expositionpark.ca.gov/event/air-style-set-up/
LOCATION:TBD\, United States
GEO:37.09024;-95.712891
END:VEVENT
BEGIN:VEVENT
DTSTART;TZID=America/Los_Angeles:20180224T090000
DTEND;TZID=America/Los_Angeles:20180224T130000
DTSTAMP:20260422T215756
CREATED:20180222T190239Z
LAST-MODIFIED:20180222T190239Z
UID:10050675-1519462800-1519477200@expositionpark.ca.gov
SUMMARY:HAC Interfaith Gathering (Pending)
DESCRIPTION:
URL:https://expositionpark.ca.gov/event/hac-interfaith-gathering-pending/
LOCATION:CA\, United States
END:VEVENT
BEGIN:VEVENT
DTSTART;TZID=America/Los_Angeles:20180224T180000
DTEND;TZID=America/Los_Angeles:20180224T220000
DTSTAMP:20260422T215756
CREATED:20180223T172452Z
LAST-MODIFIED:20180223T172452Z
UID:10050677-1519495200-1519509600@expositionpark.ca.gov
SUMMARY:CAAM Private Event "Black Business Association"
DESCRIPTION:
URL:https://expositionpark.ca.gov/event/caam-private-event-black-business-association/
LOCATION:CA\, United States
END:VEVENT
BEGIN:VEVENT
DTSTART;TZID=America/Los_Angeles:20180224T190000
DTEND;TZID=America/Los_Angeles:20180224T220000
DTSTAMP:20260422T215756
CREATED:20180108T164832Z
LAST-MODIFIED:20180108T164832Z
UID:10051620-1519498800-1519509600@expositionpark.ca.gov
SUMMARY:CSC - Private Event
DESCRIPTION:
URL:https://expositionpark.ca.gov/event/csc-private-event-5/
LOCATION:CSC – Samuel Oschin Pavilion
END:VEVENT
END:VCALENDAR