BEGIN:VCALENDAR
VERSION:2.0
PRODID:-//Exposition Park - ECPv6.15.20//NONSGML v1.0//EN
CALSCALE:GREGORIAN
METHOD:PUBLISH
X-ORIGINAL-URL:https://expositionpark.ca.gov
X-WR-CALDESC:Events for Exposition Park
REFRESH-INTERVAL;VALUE=DURATION:PT1H
X-Robots-Tag:noindex
X-PUBLISHED-TTL:PT1H
BEGIN:VTIMEZONE
TZID:America/Los_Angeles
BEGIN:DAYLIGHT
TZOFFSETFROM:-0800
TZOFFSETTO:-0700
TZNAME:PDT
DTSTART:20170312T100000
END:DAYLIGHT
BEGIN:STANDARD
TZOFFSETFROM:-0700
TZOFFSETTO:-0800
TZNAME:PST
DTSTART:20171105T090000
END:STANDARD
BEGIN:DAYLIGHT
TZOFFSETFROM:-0800
TZOFFSETTO:-0700
TZNAME:PDT
DTSTART:20180311T100000
END:DAYLIGHT
BEGIN:STANDARD
TZOFFSETFROM:-0700
TZOFFSETTO:-0800
TZNAME:PST
DTSTART:20181104T090000
END:STANDARD
BEGIN:DAYLIGHT
TZOFFSETFROM:-0800
TZOFFSETTO:-0700
TZNAME:PDT
DTSTART:20190310T100000
END:DAYLIGHT
BEGIN:STANDARD
TZOFFSETFROM:-0700
TZOFFSETTO:-0800
TZNAME:PST
DTSTART:20191103T090000
END:STANDARD
END:VTIMEZONE
BEGIN:VEVENT
DTSTART;TZID=America/Los_Angeles:20180404T160000
DTEND;TZID=America/Los_Angeles:20180412T100000
DTSTAMP:20260421T221425
CREATED:20180323T164916Z
LAST-MODIFIED:20180410T223615Z
UID:10050679-1522857600-1523527200@expositionpark.ca.gov
SUMMARY:Warner Brothers Television
DESCRIPTION:Basecamp & Crew Parking \nLot 6 (Westside) \nThursday\, April 5  – 400 spaces \nMonday\, April 9 – 60 spaces \nTuesday\, April 10 – 480 spaces \nWednesday\, April 11 – 25 spaces \nThursday\, April 12 – 80 spaces \n24 large trucks/trailers/oversized on all dates
URL:https://expositionpark.ca.gov/event/warner-brothers-television-3/
LOCATION:Lot 6 (west end)
END:VEVENT
BEGIN:VEVENT
DTSTART;TZID=America/Los_Angeles:20180412T080000
DTEND;TZID=America/Los_Angeles:20180412T170000
DTSTAMP:20260421T221425
CREATED:20171214T235738Z
LAST-MODIFIED:20171214T235738Z
UID:10051583-1523520000-1523552400@expositionpark.ca.gov
SUMMARY:Tattoo Lecture Series| Women’s Ink: A Discussion by and about Women Tattooists
DESCRIPTION:
URL:https://expositionpark.ca.gov/event/tattoo-lecture-series-womens-ink-a-discussion-by-and-about-women-tattooists/
LOCATION:Natural History Museum of Los Angeles County\, 900 Exposition Blvd.\, Los Angeles\, CA\, 90007\, United States
ORGANIZER;CN="Marisol Jara":MAILTO:vvobis@nhm.org
GEO:34.0170769;-118.2886818
X-APPLE-STRUCTURED-LOCATION;VALUE=URI;X-ADDRESS=Natural History Museum of Los Angeles County 900 Exposition Blvd. Los Angeles CA 90007 United States;X-APPLE-RADIUS=500;X-TITLE=900 Exposition Blvd.:geo:-118.2886818,34.0170769
END:VEVENT
BEGIN:VEVENT
DTSTART;TZID=America/Los_Angeles:20180412T120000
DTEND;TZID=America/Los_Angeles:20180412T200000
DTSTAMP:20260421T221425
CREATED:20180320T192401Z
LAST-MODIFIED:20180411T162452Z
UID:10051716-1523534400-1523563200@expositionpark.ca.gov
SUMMARY:C. Scott Productions
DESCRIPTION:Filming in Rose Garden \nBasecamp on State Drive \nParking in VPS \nCatering will be on Expo Lawn East
URL:https://expositionpark.ca.gov/event/c-scott-productions-pending/
LOCATION:CA
END:VEVENT
BEGIN:VEVENT
DTSTART;TZID=America/Los_Angeles:20180412T143000
DTEND;TZID=America/Los_Angeles:20180412T173000
DTSTAMP:20260421T221425
CREATED:20170215T230251Z
LAST-MODIFIED:20170215T230251Z
UID:10045430-1523543400-1523554200@expositionpark.ca.gov
SUMMARY:USC Hybrid
DESCRIPTION:
URL:https://expositionpark.ca.gov/event/usc-hybrid/2018-04-12/
LOCATION:EXPO Center\, 3980 Bill Robertson Lane\, Los Angeles\, CA\, 90037\, United States
GEO:34.0121136;-118.2900829
X-APPLE-STRUCTURED-LOCATION;VALUE=URI;X-ADDRESS=EXPO Center 3980 Bill Robertson Lane Los Angeles CA 90037 United States;X-APPLE-RADIUS=500;X-TITLE=3980 Bill Robertson Lane:geo:-118.2900829,34.0121136
END:VEVENT
BEGIN:VEVENT
DTSTART;TZID=America/Los_Angeles:20180412T180000
DTEND;TZID=America/Los_Angeles:20180412T210000
DTSTAMP:20260421T221425
CREATED:20170214T222818Z
LAST-MODIFIED:20170214T222818Z
UID:10049832-1523556000-1523566800@expositionpark.ca.gov
SUMMARY:Vermont Sports Club
DESCRIPTION:
URL:https://expositionpark.ca.gov/event/vermont-sports-club-7/2018-04-12/
LOCATION:EXPO Center\, 3980 Bill Robertson Lane\, Los Angeles\, CA\, 90037\, United States
GEO:34.0121136;-118.2900829
X-APPLE-STRUCTURED-LOCATION;VALUE=URI;X-ADDRESS=EXPO Center 3980 Bill Robertson Lane Los Angeles CA 90037 United States;X-APPLE-RADIUS=500;X-TITLE=3980 Bill Robertson Lane:geo:-118.2900829,34.0121136
END:VEVENT
BEGIN:VEVENT
DTSTART;TZID=America/Los_Angeles:20180412T213000
DTEND;TZID=America/Los_Angeles:20180412T223000
DTSTAMP:20260421T221425
CREATED:20170215T225948Z
LAST-MODIFIED:20170215T225948Z
UID:10044568-1523568600-1523572200@expositionpark.ca.gov
SUMMARY:Tri-Color Soccer League
DESCRIPTION:
URL:https://expositionpark.ca.gov/event/tri-color-soccer-league-2/2018-04-12/
LOCATION:EXPO Center\, 3980 Bill Robertson Lane\, Los Angeles\, CA\, 90037\, United States
GEO:34.0121136;-118.2900829
X-APPLE-STRUCTURED-LOCATION;VALUE=URI;X-ADDRESS=EXPO Center 3980 Bill Robertson Lane Los Angeles CA 90037 United States;X-APPLE-RADIUS=500;X-TITLE=3980 Bill Robertson Lane:geo:-118.2900829,34.0121136
END:VEVENT
END:VCALENDAR