BEGIN:VCALENDAR
VERSION:2.0
PRODID:-//Exposition Park - ECPv6.15.20//NONSGML v1.0//EN
CALSCALE:GREGORIAN
METHOD:PUBLISH
X-WR-CALNAME:Exposition Park
X-ORIGINAL-URL:https://expositionpark.ca.gov
X-WR-CALDESC:Events for Exposition Park
REFRESH-INTERVAL;VALUE=DURATION:PT1H
X-Robots-Tag:noindex
X-PUBLISHED-TTL:PT1H
BEGIN:VTIMEZONE
TZID:America/Los_Angeles
BEGIN:DAYLIGHT
TZOFFSETFROM:-0800
TZOFFSETTO:-0700
TZNAME:PDT
DTSTART:20170312T100000
END:DAYLIGHT
BEGIN:STANDARD
TZOFFSETFROM:-0700
TZOFFSETTO:-0800
TZNAME:PST
DTSTART:20171105T090000
END:STANDARD
BEGIN:DAYLIGHT
TZOFFSETFROM:-0800
TZOFFSETTO:-0700
TZNAME:PDT
DTSTART:20180311T100000
END:DAYLIGHT
BEGIN:STANDARD
TZOFFSETFROM:-0700
TZOFFSETTO:-0800
TZNAME:PST
DTSTART:20181104T090000
END:STANDARD
BEGIN:DAYLIGHT
TZOFFSETFROM:-0800
TZOFFSETTO:-0700
TZNAME:PDT
DTSTART:20190310T100000
END:DAYLIGHT
BEGIN:STANDARD
TZOFFSETFROM:-0700
TZOFFSETTO:-0800
TZNAME:PST
DTSTART:20191103T090000
END:STANDARD
END:VTIMEZONE
BEGIN:VEVENT
DTSTART;TZID=America/Los_Angeles:20180425T080000
DTEND;TZID=America/Los_Angeles:20180425T170000
DTSTAMP:20260420T182313
CREATED:20170215T230401Z
LAST-MODIFIED:20170215T230401Z
UID:10046233-1524643200-1524675600@expositionpark.ca.gov
SUMMARY:New Star
DESCRIPTION:
URL:https://expositionpark.ca.gov/event/new-star/2018-04-25/
LOCATION:EXPO Center\, 3980 Bill Robertson Lane\, Los Angeles\, CA\, 90037\, United States
GEO:34.0121136;-118.2900829
X-APPLE-STRUCTURED-LOCATION;VALUE=URI;X-ADDRESS=EXPO Center 3980 Bill Robertson Lane Los Angeles CA 90037 United States;X-APPLE-RADIUS=500;X-TITLE=3980 Bill Robertson Lane:geo:-118.2900829,34.0121136
END:VEVENT
BEGIN:VEVENT
DTSTART;TZID=America/Los_Angeles:20180425T180000
DTEND;TZID=America/Los_Angeles:20180425T210000
DTSTAMP:20260420T182313
CREATED:20170214T222616Z
LAST-MODIFIED:20170214T222616Z
UID:10048605-1524679200-1524690000@expositionpark.ca.gov
SUMMARY:EXPO Soccer Clinic
DESCRIPTION:
URL:https://expositionpark.ca.gov/event/expo-soccer-clinic/2018-04-25/
LOCATION:EXPO Center\, 3980 Bill Robertson Lane\, Los Angeles\, CA\, 90037\, United States
GEO:34.0121136;-118.2900829
X-APPLE-STRUCTURED-LOCATION;VALUE=URI;X-ADDRESS=EXPO Center 3980 Bill Robertson Lane Los Angeles CA 90037 United States;X-APPLE-RADIUS=500;X-TITLE=3980 Bill Robertson Lane:geo:-118.2900829,34.0121136
END:VEVENT
BEGIN:VEVENT
DTSTART;TZID=America/Los_Angeles:20180425T190000
DTEND;TZID=America/Los_Angeles:20180425T210000
DTSTAMP:20260420T182313
CREATED:20180326T182631Z
LAST-MODIFIED:20180326T182631Z
UID:10050686-1524682800-1524690000@expositionpark.ca.gov
SUMMARY:CAAM Screening: Civic Art: Four Stories from South Los Angeles
DESCRIPTION:The documentary film Civic Art delves into the world of Los Angeles–based artists as they negotiate with the government and local neighborhoods to produce ambitious\, permanent\, large-scale public art projects. This film highlights the vital\, complicated\, and often misunderstood efforts behind these artworks and explores the extensive social power of art within four unincorporated South LA County neighborhoods. The screening is followed by a conversation with Erin Harkey\, former senior project manager with the LA County Arts Commission\, and Sara Daleiden\, art and public engagement consultant and documentary producer for the Los Angeles County Arts Commission Civic Art Program’s Open Space Creative Graffiti Abatement Project. Presented in conjunction with Nicole Miller’s Athens\, California
URL:https://expositionpark.ca.gov/event/caam-screening-civic-art-four-stories-from-south-los-angeles/
LOCATION:CA\, United States
END:VEVENT
END:VCALENDAR