BEGIN:VCALENDAR
VERSION:2.0
PRODID:-//Exposition Park - ECPv6.15.20//NONSGML v1.0//EN
CALSCALE:GREGORIAN
METHOD:PUBLISH
X-ORIGINAL-URL:https://expositionpark.ca.gov
X-WR-CALDESC:Events for Exposition Park
REFRESH-INTERVAL;VALUE=DURATION:PT1H
X-Robots-Tag:noindex
X-PUBLISHED-TTL:PT1H
BEGIN:VTIMEZONE
TZID:America/Los_Angeles
BEGIN:DAYLIGHT
TZOFFSETFROM:-0800
TZOFFSETTO:-0700
TZNAME:PDT
DTSTART:20170312T100000
END:DAYLIGHT
BEGIN:STANDARD
TZOFFSETFROM:-0700
TZOFFSETTO:-0800
TZNAME:PST
DTSTART:20171105T090000
END:STANDARD
BEGIN:DAYLIGHT
TZOFFSETFROM:-0800
TZOFFSETTO:-0700
TZNAME:PDT
DTSTART:20180311T100000
END:DAYLIGHT
BEGIN:STANDARD
TZOFFSETFROM:-0700
TZOFFSETTO:-0800
TZNAME:PST
DTSTART:20181104T090000
END:STANDARD
BEGIN:DAYLIGHT
TZOFFSETFROM:-0800
TZOFFSETTO:-0700
TZNAME:PDT
DTSTART:20190310T100000
END:DAYLIGHT
BEGIN:STANDARD
TZOFFSETFROM:-0700
TZOFFSETTO:-0800
TZNAME:PST
DTSTART:20191103T090000
END:STANDARD
END:VTIMEZONE
BEGIN:VEVENT
DTSTART;TZID=America/Los_Angeles:20180602T183000
DTEND;TZID=America/Los_Angeles:20180603T003000
DTSTAMP:20260424T041845
CREATED:20171005T001556Z
LAST-MODIFIED:20171005T001556Z
UID:10051433-1527964200-1527985800@expositionpark.ca.gov
SUMMARY:Prom
DESCRIPTION:Venue: Ahmanson
URL:https://expositionpark.ca.gov/event/prom-47/
LOCATION:California Science Center\, 700 Exposition Park Drive\, Los Angeles\, CA\, 90037\, United States
GEO:34.0157877;-118.2862095
X-APPLE-STRUCTURED-LOCATION;VALUE=URI;X-ADDRESS=California Science Center 700 Exposition Park Drive Los Angeles CA 90037 United States;X-APPLE-RADIUS=500;X-TITLE=700 Exposition Park Drive:geo:-118.2862095,34.0157877
END:VEVENT
BEGIN:VEVENT
DTSTART;TZID=America/Los_Angeles:20180602T183000
DTEND;TZID=America/Los_Angeles:20180603T003000
DTSTAMP:20260424T041845
CREATED:20171005T001625Z
LAST-MODIFIED:20171005T001625Z
UID:10051435-1527964200-1527985800@expositionpark.ca.gov
SUMMARY:Prom
DESCRIPTION:Venue: WAB
URL:https://expositionpark.ca.gov/event/prom-48/
LOCATION:California Science Center\, 700 Exposition Park Drive\, Los Angeles\, CA\, 90037\, United States
GEO:34.0157877;-118.2862095
X-APPLE-STRUCTURED-LOCATION;VALUE=URI;X-ADDRESS=California Science Center 700 Exposition Park Drive Los Angeles CA 90037 United States;X-APPLE-RADIUS=500;X-TITLE=700 Exposition Park Drive:geo:-118.2862095,34.0157877
END:VEVENT
BEGIN:VEVENT
DTSTART;TZID=America/Los_Angeles:20180603T080000
DTEND;TZID=America/Los_Angeles:20180603T170000
DTSTAMP:20260424T041845
CREATED:20170215T230650Z
LAST-MODIFIED:20170215T230650Z
UID:10047101-1528012800-1528045200@expositionpark.ca.gov
SUMMARY:Vermont Sports Club
DESCRIPTION:
URL:https://expositionpark.ca.gov/event/vermont-sports-club-9/2018-06-03/
LOCATION:EXPO Center\, 3980 Bill Robertson Lane\, Los Angeles\, CA\, 90037\, United States
GEO:34.0121136;-118.2900829
X-APPLE-STRUCTURED-LOCATION;VALUE=URI;X-ADDRESS=EXPO Center 3980 Bill Robertson Lane Los Angeles CA 90037 United States;X-APPLE-RADIUS=500;X-TITLE=3980 Bill Robertson Lane:geo:-118.2900829,34.0121136
END:VEVENT
BEGIN:VEVENT
DTSTART;TZID=America/Los_Angeles:20180603T080000
DTEND;TZID=America/Los_Angeles:20180603T170000
DTSTAMP:20260424T041845
CREATED:20180514T191856Z
LAST-MODIFIED:20180514T191856Z
UID:10050724-1528012800-1528045200@expositionpark.ca.gov
SUMMARY:Citywide Aquatics Cluster Training
DESCRIPTION:The Citywide Aquatics Cluster Training is scheduled to take place in Comrie Hall from 8 am to 5 pm.
URL:https://expositionpark.ca.gov/event/citywide-aquatics-cluster-training-2/
LOCATION:EXPO Center/ John C Argue Swim Stadium\, 3980 Bill Robertson Lane\, Los Angeles\, CA\, 90037\, United States
GEO:34.0121136;-118.2900829
X-APPLE-STRUCTURED-LOCATION;VALUE=URI;X-ADDRESS=EXPO Center/ John C Argue Swim Stadium 3980 Bill Robertson Lane Los Angeles CA 90037 United States;X-APPLE-RADIUS=500;X-TITLE=3980 Bill Robertson Lane:geo:-118.2900829,34.0121136
END:VEVENT
BEGIN:VEVENT
DTSTART;TZID=America/Los_Angeles:20180603T150000
DTEND;TZID=America/Los_Angeles:20180603T163000
DTSTAMP:20260424T041845
CREATED:20180326T190021Z
LAST-MODIFIED:20180326T190021Z
UID:10051735-1528038000-1528043400@expositionpark.ca.gov
SUMMARY:CAAM Reads!
DESCRIPTION:Our monthly book club continues this spring with titles selected in conjunction with the exhibition How Sweet the Sound: Gospel Music in Los Angeles. April’s book is David Ritz’s Respect: The Life of Aretha Franklin. May’s selection is The Fire Next Time by James Baldwin\, along with his essay Letter from a Region in My Mind. In June\, the selection is Tambourines to Glory by Langston Hughes. Join us for lively afternoons of spirited discourse moderated by CAAM’s research librarian\, Denise L. Mc Iver.
URL:https://expositionpark.ca.gov/event/caam-reads-3/
LOCATION:CA\, United States
END:VEVENT
END:VCALENDAR