BEGIN:VCALENDAR
VERSION:2.0
PRODID:-//Exposition Park - ECPv6.15.20//NONSGML v1.0//EN
CALSCALE:GREGORIAN
METHOD:PUBLISH
X-ORIGINAL-URL:https://expositionpark.ca.gov
X-WR-CALDESC:Events for Exposition Park
REFRESH-INTERVAL;VALUE=DURATION:PT1H
X-Robots-Tag:noindex
X-PUBLISHED-TTL:PT1H
BEGIN:VTIMEZONE
TZID:America/Los_Angeles
BEGIN:DAYLIGHT
TZOFFSETFROM:-0800
TZOFFSETTO:-0700
TZNAME:PDT
DTSTART:20170312T100000
END:DAYLIGHT
BEGIN:STANDARD
TZOFFSETFROM:-0700
TZOFFSETTO:-0800
TZNAME:PST
DTSTART:20171105T090000
END:STANDARD
BEGIN:DAYLIGHT
TZOFFSETFROM:-0800
TZOFFSETTO:-0700
TZNAME:PDT
DTSTART:20180311T100000
END:DAYLIGHT
BEGIN:STANDARD
TZOFFSETFROM:-0700
TZOFFSETTO:-0800
TZNAME:PST
DTSTART:20181104T090000
END:STANDARD
BEGIN:DAYLIGHT
TZOFFSETFROM:-0800
TZOFFSETTO:-0700
TZNAME:PDT
DTSTART:20190310T100000
END:DAYLIGHT
BEGIN:STANDARD
TZOFFSETFROM:-0700
TZOFFSETTO:-0800
TZNAME:PST
DTSTART:20191103T090000
END:STANDARD
END:VTIMEZONE
BEGIN:VEVENT
DTSTART;TZID=America/Los_Angeles:20181010T100000
DTEND;TZID=America/Los_Angeles:20181011T030000
DTSTAMP:20260422T235807
CREATED:20181004T180626Z
LAST-MODIFIED:20181004T180626Z
UID:10052375-1539165600-1539226800@expositionpark.ca.gov
SUMMARY:Warner Brothers Television
DESCRIPTION:Cast & Crew Parking Only
URL:https://expositionpark.ca.gov/event/warner-brothers-television-5/
LOCATION:Lot 6 – East Portion Only\, CA\, United States
GEO:36.778261;-119.4179324
END:VEVENT
BEGIN:VEVENT
DTSTART;TZID=America/Los_Angeles:20181011T140000
DTEND;TZID=America/Los_Angeles:20181011T160000
DTSTAMP:20260422T235807
CREATED:20180913T222414Z
LAST-MODIFIED:20180913T222414Z
UID:10052299-1539266400-1539273600@expositionpark.ca.gov
SUMMARY:CAAM Listening to Art
DESCRIPTION:Thursday\, October 11\, 2018 | 2:00 – 4:00 p.m. \nListening to Art with Patricia Smith \nInspired by the work in Nina Chanel Abney’s exhibition Royal Flush\, award-winning poet Patricia Smith reads selections from her recent book\, Incendiary Art\, recipient of the 2018 Kingsley Tufts Poetry Award. One of America’s most electrifying writers\, Smith reveals what is frightening—and what is revelatory—about race and history today. \nPresented in partnership with Claremont Graduate University and the Kingsley & Kate Tufts Poetry Awards.
URL:https://expositionpark.ca.gov/event/caam-listening-to-art/
LOCATION:CA\, United States
END:VEVENT
BEGIN:VEVENT
DTSTART;TZID=America/Los_Angeles:20181011T143000
DTEND;TZID=America/Los_Angeles:20181011T173000
DTSTAMP:20260422T235807
CREATED:20170215T230251Z
LAST-MODIFIED:20170215T230251Z
UID:10045482-1539268200-1539279000@expositionpark.ca.gov
SUMMARY:USC Hybrid
DESCRIPTION:
URL:https://expositionpark.ca.gov/event/usc-hybrid/2018-10-11/
LOCATION:EXPO Center\, 3980 Bill Robertson Lane\, Los Angeles\, CA\, 90037\, United States
GEO:34.0121136;-118.2900829
X-APPLE-STRUCTURED-LOCATION;VALUE=URI;X-ADDRESS=EXPO Center 3980 Bill Robertson Lane Los Angeles CA 90037 United States;X-APPLE-RADIUS=500;X-TITLE=3980 Bill Robertson Lane:geo:-118.2900829,34.0121136
END:VEVENT
BEGIN:VEVENT
DTSTART;TZID=America/Los_Angeles:20181011T173000
DTEND;TZID=America/Los_Angeles:20181011T233000
DTSTAMP:20260422T235807
CREATED:20180913T232755Z
LAST-MODIFIED:20180913T232755Z
UID:10052314-1539279000-1539300600@expositionpark.ca.gov
SUMMARY:Private Event
DESCRIPTION:
URL:https://expositionpark.ca.gov/event/private-event-130/
LOCATION:CSC – Samuel Oschin Pavilion
END:VEVENT
BEGIN:VEVENT
DTSTART;TZID=America/Los_Angeles:20181011T180000
DTEND;TZID=America/Los_Angeles:20181011T210000
DTSTAMP:20260422T235807
CREATED:20170214T222818Z
LAST-MODIFIED:20170214T222818Z
UID:10049884-1539280800-1539291600@expositionpark.ca.gov
SUMMARY:Vermont Sports Club
DESCRIPTION:
URL:https://expositionpark.ca.gov/event/vermont-sports-club-7/2018-10-11/
LOCATION:EXPO Center\, 3980 Bill Robertson Lane\, Los Angeles\, CA\, 90037\, United States
GEO:34.0121136;-118.2900829
X-APPLE-STRUCTURED-LOCATION;VALUE=URI;X-ADDRESS=EXPO Center 3980 Bill Robertson Lane Los Angeles CA 90037 United States;X-APPLE-RADIUS=500;X-TITLE=3980 Bill Robertson Lane:geo:-118.2900829,34.0121136
END:VEVENT
BEGIN:VEVENT
DTSTART;TZID=America/Los_Angeles:20181011T180000
DTEND;TZID=America/Los_Angeles:20181011T220000
DTSTAMP:20260422T235807
CREATED:20180913T235536Z
LAST-MODIFIED:20180913T235536Z
UID:10050867-1539280800-1539295200@expositionpark.ca.gov
SUMMARY:CAAM Rental " Stop The Violence"
DESCRIPTION:
URL:https://expositionpark.ca.gov/event/caam-rental-stop-the-violence/
LOCATION:CA\, United States
END:VEVENT
BEGIN:VEVENT
DTSTART;TZID=America/Los_Angeles:20181011T213000
DTEND;TZID=America/Los_Angeles:20181011T223000
DTSTAMP:20260422T235807
CREATED:20170215T225948Z
LAST-MODIFIED:20170215T225948Z
UID:10044620-1539293400-1539297000@expositionpark.ca.gov
SUMMARY:Tri-Color Soccer League
DESCRIPTION:
URL:https://expositionpark.ca.gov/event/tri-color-soccer-league-2/2018-10-11/
LOCATION:EXPO Center\, 3980 Bill Robertson Lane\, Los Angeles\, CA\, 90037\, United States
GEO:34.0121136;-118.2900829
X-APPLE-STRUCTURED-LOCATION;VALUE=URI;X-ADDRESS=EXPO Center 3980 Bill Robertson Lane Los Angeles CA 90037 United States;X-APPLE-RADIUS=500;X-TITLE=3980 Bill Robertson Lane:geo:-118.2900829,34.0121136
END:VEVENT
END:VCALENDAR