BEGIN:VCALENDAR
VERSION:2.0
PRODID:-//Exposition Park - ECPv6.15.20//NONSGML v1.0//EN
CALSCALE:GREGORIAN
METHOD:PUBLISH
X-ORIGINAL-URL:https://expositionpark.ca.gov
X-WR-CALDESC:Events for Exposition Park
REFRESH-INTERVAL;VALUE=DURATION:PT1H
X-Robots-Tag:noindex
X-PUBLISHED-TTL:PT1H
BEGIN:VTIMEZONE
TZID:America/Los_Angeles
BEGIN:DAYLIGHT
TZOFFSETFROM:-0800
TZOFFSETTO:-0700
TZNAME:PDT
DTSTART:20170312T100000
END:DAYLIGHT
BEGIN:STANDARD
TZOFFSETFROM:-0700
TZOFFSETTO:-0800
TZNAME:PST
DTSTART:20171105T090000
END:STANDARD
BEGIN:DAYLIGHT
TZOFFSETFROM:-0800
TZOFFSETTO:-0700
TZNAME:PDT
DTSTART:20180311T100000
END:DAYLIGHT
BEGIN:STANDARD
TZOFFSETFROM:-0700
TZOFFSETTO:-0800
TZNAME:PST
DTSTART:20181104T090000
END:STANDARD
BEGIN:DAYLIGHT
TZOFFSETFROM:-0800
TZOFFSETTO:-0700
TZNAME:PDT
DTSTART:20190310T100000
END:DAYLIGHT
BEGIN:STANDARD
TZOFFSETFROM:-0700
TZOFFSETTO:-0800
TZNAME:PST
DTSTART:20191103T090000
END:STANDARD
END:VTIMEZONE
BEGIN:VEVENT
DTSTART;VALUE=DATE:20181013
DTEND;VALUE=DATE:20181014
DTSTAMP:20260421T203521
CREATED:20171127T232455Z
LAST-MODIFIED:20171127T232455Z
UID:10050582-1539388800-1539475199@expositionpark.ca.gov
SUMMARY:Colorado vs USC
DESCRIPTION:
URL:https://expositionpark.ca.gov/event/colorado-vs-usc/
LOCATION:Los Angeles Memorial Coliseum\, 3911 S. Figueroa St.\, Los Angeles\, CA\, CA\, 90037\, United States
GEO:34.0128523;-118.2845395
X-APPLE-STRUCTURED-LOCATION;VALUE=URI;X-ADDRESS=Los Angeles Memorial Coliseum 3911 S. Figueroa St. Los Angeles CA CA 90037 United States;X-APPLE-RADIUS=500;X-TITLE=3911 S. Figueroa St.:geo:-118.2845395,34.0128523
END:VEVENT
BEGIN:VEVENT
DTSTART;VALUE=DATE:20181013
DTEND;VALUE=DATE:20181014
DTSTAMP:20260421T203521
CREATED:20180730T180343Z
LAST-MODIFIED:20180806T182825Z
UID:10050807-1539388800-1539475199@expositionpark.ca.gov
SUMMARY:USC Athletics Tailgate (USC vs. Colorado Game)
DESCRIPTION:South Lawn East (east half) \nLoad-In:  TBD
URL:https://expositionpark.ca.gov/event/usc-fan-fest-usc-vs-colorado-game/
LOCATION:South Lawn East (1/2 east)
END:VEVENT
BEGIN:VEVENT
DTSTART;VALUE=DATE:20181013
DTEND;VALUE=DATE:20181014
DTSTAMP:20260421T203521
CREATED:20180806T224230Z
LAST-MODIFIED:20180806T224230Z
UID:10052213-1539388800-1539475199@expositionpark.ca.gov
SUMMARY:USC Fan Fest - USC vs. Colorado
DESCRIPTION:Christmas Tree Lane East and West \nLoad-In: TBD
URL:https://expositionpark.ca.gov/event/usc-fan-fest-usc-vs-colorado/
LOCATION:CA
END:VEVENT
BEGIN:VEVENT
DTSTART;VALUE=DATE:20181013
DTEND;VALUE=DATE:20181014
DTSTAMP:20260421T203521
CREATED:20180806T232339Z
LAST-MODIFIED:20180806T232339Z
UID:10052229-1539388800-1539475199@expositionpark.ca.gov
SUMMARY:TKE Tailgate - USC vs. Colorado
DESCRIPTION:Expo Lawn East (West Half) \nLoad-In: TBD
URL:https://expositionpark.ca.gov/event/tke-tailgate-usc-vs-colorado/
LOCATION:Expo Lawn East (West Half)\, CA\, United States
GEO:36.778261;-119.4179324
END:VEVENT
END:VCALENDAR