BEGIN:VCALENDAR
VERSION:2.0
PRODID:-//Exposition Park - ECPv6.15.20//NONSGML v1.0//EN
CALSCALE:GREGORIAN
METHOD:PUBLISH
X-ORIGINAL-URL:https://expositionpark.ca.gov
X-WR-CALDESC:Events for Exposition Park
REFRESH-INTERVAL;VALUE=DURATION:PT1H
X-Robots-Tag:noindex
X-PUBLISHED-TTL:PT1H
BEGIN:VTIMEZONE
TZID:America/Los_Angeles
BEGIN:DAYLIGHT
TZOFFSETFROM:-0800
TZOFFSETTO:-0700
TZNAME:PDT
DTSTART:20170312T100000
END:DAYLIGHT
BEGIN:STANDARD
TZOFFSETFROM:-0700
TZOFFSETTO:-0800
TZNAME:PST
DTSTART:20171105T090000
END:STANDARD
BEGIN:DAYLIGHT
TZOFFSETFROM:-0800
TZOFFSETTO:-0700
TZNAME:PDT
DTSTART:20180311T100000
END:DAYLIGHT
BEGIN:STANDARD
TZOFFSETFROM:-0700
TZOFFSETTO:-0800
TZNAME:PST
DTSTART:20181104T090000
END:STANDARD
BEGIN:DAYLIGHT
TZOFFSETFROM:-0800
TZOFFSETTO:-0700
TZNAME:PDT
DTSTART:20190310T100000
END:DAYLIGHT
BEGIN:STANDARD
TZOFFSETFROM:-0700
TZOFFSETTO:-0800
TZNAME:PST
DTSTART:20191103T090000
END:STANDARD
END:VTIMEZONE
BEGIN:VEVENT
DTSTART;VALUE=DATE:20181021
DTEND;VALUE=DATE:20181022
DTSTAMP:20260422T235825
CREATED:20180501T164957Z
LAST-MODIFIED:20180501T164957Z
UID:10050711-1540080000-1540166399@expositionpark.ca.gov
SUMMARY:LAFC vs. Vancouver White Caps FC
DESCRIPTION:Parking Opens: \nDoors Open: \nGame time:
URL:https://expositionpark.ca.gov/event/lafc-vs-vancouver-white-caps-fc/
LOCATION:Banc of California Stadium\, United States
GEO:37.09024;-95.712891
END:VEVENT
BEGIN:VEVENT
DTSTART;TZID=America/Los_Angeles:20181021T050000
DTEND;TZID=America/Los_Angeles:20181021T235900
DTSTAMP:20260422T235825
CREATED:20170419T162459Z
LAST-MODIFIED:20170419T162459Z
UID:10047577-1540098000-1540166340@expositionpark.ca.gov
SUMMARY:Haunted Museum
DESCRIPTION:
URL:https://expositionpark.ca.gov/event/haunted-museum-2/
LOCATION:Natural History Museum of Los Angeles County\, 900 Exposition Blvd.\, Los Angeles\, CA\, 90007\, United States
GEO:34.0170769;-118.2886818
X-APPLE-STRUCTURED-LOCATION;VALUE=URI;X-ADDRESS=Natural History Museum of Los Angeles County 900 Exposition Blvd. Los Angeles CA 90007 United States;X-APPLE-RADIUS=500;X-TITLE=900 Exposition Blvd.:geo:-118.2886818,34.0170769
END:VEVENT
BEGIN:VEVENT
DTSTART;TZID=America/Los_Angeles:20181021T060000
DTEND;TZID=America/Los_Angeles:20181021T220000
DTSTAMP:20260422T235825
CREATED:20180927T184742Z
LAST-MODIFIED:20181005T235030Z
UID:10052345-1540101600-1540159200@expositionpark.ca.gov
SUMMARY:LAFC Fan Fest
DESCRIPTION:This event includes use of Christmas Tree Lane East and road closure of S. Coliseum Drive. \nRoad Closure of South Coliseum Drive: 10:00am to 7:00pm \nLoad in: 6:00am to 11:00am (CTL-East) \nLAFC Fan Fest is scheduled to run: \n\nPre-Game from 11:00am to 2:00pm\nPost-Game from 4:00pm to 7:00pm\n\nLoad Out: 7:00pm to 10:00pm (CTL-East) \nLAFC vs Vancouver Whitecaps FC kickoff time is 2:00pm
URL:https://expositionpark.ca.gov/event/lafc-fan-fest-and-family-picnic/
LOCATION:Christmas Tree Lane and S. Coliseum Drive\, CA\, United States
END:VEVENT
BEGIN:VEVENT
DTSTART;TZID=America/Los_Angeles:20181021T080000
DTEND;TZID=America/Los_Angeles:20181021T170000
DTSTAMP:20260422T235825
CREATED:20170215T230650Z
LAST-MODIFIED:20170215T230650Z
UID:10047121-1540108800-1540141200@expositionpark.ca.gov
SUMMARY:Vermont Sports Club
DESCRIPTION:
URL:https://expositionpark.ca.gov/event/vermont-sports-club-9/2018-10-21/
LOCATION:EXPO Center\, 3980 Bill Robertson Lane\, Los Angeles\, CA\, 90037\, United States
GEO:34.0121136;-118.2900829
X-APPLE-STRUCTURED-LOCATION;VALUE=URI;X-ADDRESS=EXPO Center 3980 Bill Robertson Lane Los Angeles CA 90037 United States;X-APPLE-RADIUS=500;X-TITLE=3980 Bill Robertson Lane:geo:-118.2900829,34.0121136
END:VEVENT
END:VCALENDAR