BEGIN:VCALENDAR
VERSION:2.0
PRODID:-//Exposition Park - ECPv6.15.20//NONSGML v1.0//EN
CALSCALE:GREGORIAN
METHOD:PUBLISH
X-WR-CALNAME:Exposition Park
X-ORIGINAL-URL:https://expositionpark.ca.gov
X-WR-CALDESC:Events for Exposition Park
REFRESH-INTERVAL;VALUE=DURATION:PT1H
X-Robots-Tag:noindex
X-PUBLISHED-TTL:PT1H
BEGIN:VTIMEZONE
TZID:America/Los_Angeles
BEGIN:DAYLIGHT
TZOFFSETFROM:-0800
TZOFFSETTO:-0700
TZNAME:PDT
DTSTART:20170312T100000
END:DAYLIGHT
BEGIN:STANDARD
TZOFFSETFROM:-0700
TZOFFSETTO:-0800
TZNAME:PST
DTSTART:20171105T090000
END:STANDARD
BEGIN:DAYLIGHT
TZOFFSETFROM:-0800
TZOFFSETTO:-0700
TZNAME:PDT
DTSTART:20180311T100000
END:DAYLIGHT
BEGIN:STANDARD
TZOFFSETFROM:-0700
TZOFFSETTO:-0800
TZNAME:PST
DTSTART:20181104T090000
END:STANDARD
BEGIN:DAYLIGHT
TZOFFSETFROM:-0800
TZOFFSETTO:-0700
TZNAME:PDT
DTSTART:20190310T100000
END:DAYLIGHT
BEGIN:STANDARD
TZOFFSETFROM:-0700
TZOFFSETTO:-0800
TZNAME:PST
DTSTART:20191103T090000
END:STANDARD
END:VTIMEZONE
BEGIN:VEVENT
DTSTART;TZID=America/Los_Angeles:20181025T140000
DTEND;TZID=America/Los_Angeles:20181025T160000
DTSTAMP:20260423T100326
CREATED:20180913T232508Z
LAST-MODIFIED:20180913T232508Z
UID:10052308-1540476000-1540483200@expositionpark.ca.gov
SUMMARY:CAAM History of Central Ave Series
DESCRIPTION:Thursday\, October 25\, 2018 | 2:00 – 4:00 p.m. \nHistory of Central Avenue \nFrom the 1920s to the 1950s\, Central Avenue was the hub of West Coast jazz. Famous the world over\, “The Avenue\,” as it was lovingly called\, was a must-visit destination for jazz lovers in Los Angeles. Join us for a series of conversations about Central Avenue and its history and eventual decline. The first program focuses on the beginnings of Central Avenue as a downtown gathering place for Los Angeles’s black residents. Sessions two and three look at the jazz scene and how Central Avenue was pivotal to the Civil Rights Movement. Presented in partnership with CAAM’s History Council and led by Robert Lee Johnson\, author of Notable Southern Californians in Black History. \nRelated Programs held on: \n\nThursday\, November 15\, 2018 | 2:00 – 4:00 p.m.\nThursday\, December 13\, 2018 | 2:00 – 4:00 p.m.
URL:https://expositionpark.ca.gov/event/caam-history-of-central-ave-series-3/
LOCATION:CA\, United States
END:VEVENT
BEGIN:VEVENT
DTSTART;TZID=America/Los_Angeles:20181025T143000
DTEND;TZID=America/Los_Angeles:20181025T173000
DTSTAMP:20260423T100326
CREATED:20170215T230251Z
LAST-MODIFIED:20170215T230251Z
UID:10045486-1540477800-1540488600@expositionpark.ca.gov
SUMMARY:USC Hybrid
DESCRIPTION:
URL:https://expositionpark.ca.gov/event/usc-hybrid/2018-10-25/
LOCATION:EXPO Center\, 3980 Bill Robertson Lane\, Los Angeles\, CA\, 90037\, United States
GEO:34.0121136;-118.2900829
X-APPLE-STRUCTURED-LOCATION;VALUE=URI;X-ADDRESS=EXPO Center 3980 Bill Robertson Lane Los Angeles CA 90037 United States;X-APPLE-RADIUS=500;X-TITLE=3980 Bill Robertson Lane:geo:-118.2900829,34.0121136
END:VEVENT
BEGIN:VEVENT
DTSTART;TZID=America/Los_Angeles:20181025T180000
DTEND;TZID=America/Los_Angeles:20181025T210000
DTSTAMP:20260423T100326
CREATED:20170214T222818Z
LAST-MODIFIED:20170214T222818Z
UID:10049888-1540490400-1540501200@expositionpark.ca.gov
SUMMARY:Vermont Sports Club
DESCRIPTION:
URL:https://expositionpark.ca.gov/event/vermont-sports-club-7/2018-10-25/
LOCATION:EXPO Center\, 3980 Bill Robertson Lane\, Los Angeles\, CA\, 90037\, United States
GEO:34.0121136;-118.2900829
X-APPLE-STRUCTURED-LOCATION;VALUE=URI;X-ADDRESS=EXPO Center 3980 Bill Robertson Lane Los Angeles CA 90037 United States;X-APPLE-RADIUS=500;X-TITLE=3980 Bill Robertson Lane:geo:-118.2900829,34.0121136
END:VEVENT
BEGIN:VEVENT
DTSTART;TZID=America/Los_Angeles:20181025T183000
DTEND;TZID=America/Los_Angeles:20181025T213000
DTSTAMP:20260423T100326
CREATED:20180928T180958Z
LAST-MODIFIED:20180928T180958Z
UID:10052354-1540492200-1540503000@expositionpark.ca.gov
SUMMARY:Private Event
DESCRIPTION:
URL:https://expositionpark.ca.gov/event/private-event-139/
LOCATION:CSC – Samuel Oschin Pavilion
END:VEVENT
BEGIN:VEVENT
DTSTART;TZID=America/Los_Angeles:20181025T213000
DTEND;TZID=America/Los_Angeles:20181025T223000
DTSTAMP:20260423T100326
CREATED:20170215T225948Z
LAST-MODIFIED:20170215T225948Z
UID:10044624-1540503000-1540506600@expositionpark.ca.gov
SUMMARY:Tri-Color Soccer League
DESCRIPTION:
URL:https://expositionpark.ca.gov/event/tri-color-soccer-league-2/2018-10-25/
LOCATION:EXPO Center\, 3980 Bill Robertson Lane\, Los Angeles\, CA\, 90037\, United States
GEO:34.0121136;-118.2900829
X-APPLE-STRUCTURED-LOCATION;VALUE=URI;X-ADDRESS=EXPO Center 3980 Bill Robertson Lane Los Angeles CA 90037 United States;X-APPLE-RADIUS=500;X-TITLE=3980 Bill Robertson Lane:geo:-118.2900829,34.0121136
END:VEVENT
END:VCALENDAR