BEGIN:VCALENDAR
VERSION:2.0
PRODID:-//Exposition Park - ECPv6.15.20//NONSGML v1.0//EN
CALSCALE:GREGORIAN
METHOD:PUBLISH
X-WR-CALNAME:Exposition Park
X-ORIGINAL-URL:https://expositionpark.ca.gov
X-WR-CALDESC:Events for Exposition Park
REFRESH-INTERVAL;VALUE=DURATION:PT1H
X-Robots-Tag:noindex
X-PUBLISHED-TTL:PT1H
BEGIN:VTIMEZONE
TZID:America/Los_Angeles
BEGIN:DAYLIGHT
TZOFFSETFROM:-0800
TZOFFSETTO:-0700
TZNAME:PDT
DTSTART:20170312T100000
END:DAYLIGHT
BEGIN:STANDARD
TZOFFSETFROM:-0700
TZOFFSETTO:-0800
TZNAME:PST
DTSTART:20171105T090000
END:STANDARD
BEGIN:DAYLIGHT
TZOFFSETFROM:-0800
TZOFFSETTO:-0700
TZNAME:PDT
DTSTART:20180311T100000
END:DAYLIGHT
BEGIN:STANDARD
TZOFFSETFROM:-0700
TZOFFSETTO:-0800
TZNAME:PST
DTSTART:20181104T090000
END:STANDARD
BEGIN:DAYLIGHT
TZOFFSETFROM:-0800
TZOFFSETTO:-0700
TZNAME:PDT
DTSTART:20190310T100000
END:DAYLIGHT
BEGIN:STANDARD
TZOFFSETFROM:-0700
TZOFFSETTO:-0800
TZNAME:PST
DTSTART:20191103T090000
END:STANDARD
END:VTIMEZONE
BEGIN:VEVENT
DTSTART;TZID=America/Los_Angeles:20181029T030000
DTEND;TZID=America/Los_Angeles:20181031T235900
DTSTAMP:20260420T145046
CREATED:20181024T163254Z
LAST-MODIFIED:20181024T163254Z
UID:10050993-1540782000-1541030340@expositionpark.ca.gov
SUMMARY:Lucite Desk LLC (pending)
DESCRIPTION:Basecamp and Crew Parking – dates will be finalized after the MLS Playoff Game schedule is released
URL:https://expositionpark.ca.gov/event/lucite-desk-llc-pending/
LOCATION:Lot 6\, United States
GEO:37.09024;-95.712891
END:VEVENT
BEGIN:VEVENT
DTSTART;TZID=America/Los_Angeles:20181030T093000
DTEND;TZID=America/Los_Angeles:20181030T153000
DTSTAMP:20260420T145046
CREATED:20180827T180005Z
LAST-MODIFIED:20180827T180005Z
UID:10052274-1540891800-1540913400@expositionpark.ca.gov
SUMMARY:Home School Days @ CA Science Center
DESCRIPTION:What Makes Weather?\nAnother perfect day! Explore southern California’s sunny skies and discover the causes and effects of wind\, rain\, snow and more all over the world. \nIt’s always a beautiful day for science in the Big Lab! \nEnroll Online! (beginning 8/28/18) \nCLASSES FILL UP QUICKLY!
URL:https://expositionpark.ca.gov/event/home-school-days-ca-science-center-2/2018-10-30/
LOCATION:CA\, United States
ORGANIZER;CN="California Science Center%3A Education Department":MAILTO:educationprograms@cscmail.org
END:VEVENT
BEGIN:VEVENT
DTSTART;TZID=America/Los_Angeles:20181030T143000
DTEND;TZID=America/Los_Angeles:20181030T173000
DTSTAMP:20260420T145046
CREATED:20170215T230251Z
LAST-MODIFIED:20170215T230251Z
UID:10045487-1540909800-1540920600@expositionpark.ca.gov
SUMMARY:USC Hybrid
DESCRIPTION:
URL:https://expositionpark.ca.gov/event/usc-hybrid/2018-10-30/
LOCATION:EXPO Center\, 3980 Bill Robertson Lane\, Los Angeles\, CA\, 90037\, United States
GEO:34.0121136;-118.2900829
X-APPLE-STRUCTURED-LOCATION;VALUE=URI;X-ADDRESS=EXPO Center 3980 Bill Robertson Lane Los Angeles CA 90037 United States;X-APPLE-RADIUS=500;X-TITLE=3980 Bill Robertson Lane:geo:-118.2900829,34.0121136
END:VEVENT
BEGIN:VEVENT
DTSTART;TZID=America/Los_Angeles:20181030T180000
DTEND;TZID=America/Los_Angeles:20181030T210000
DTSTAMP:20260420T145046
CREATED:20170214T222818Z
LAST-MODIFIED:20170214T222818Z
UID:10049889-1540922400-1540933200@expositionpark.ca.gov
SUMMARY:Vermont Sports Club
DESCRIPTION:
URL:https://expositionpark.ca.gov/event/vermont-sports-club-7/2018-10-30/
LOCATION:EXPO Center\, 3980 Bill Robertson Lane\, Los Angeles\, CA\, 90037\, United States
GEO:34.0121136;-118.2900829
X-APPLE-STRUCTURED-LOCATION;VALUE=URI;X-ADDRESS=EXPO Center 3980 Bill Robertson Lane Los Angeles CA 90037 United States;X-APPLE-RADIUS=500;X-TITLE=3980 Bill Robertson Lane:geo:-118.2900829,34.0121136
END:VEVENT
BEGIN:VEVENT
DTSTART;TZID=America/Los_Angeles:20181030T213000
DTEND;TZID=America/Los_Angeles:20181030T223000
DTSTAMP:20260420T145046
CREATED:20170215T225948Z
LAST-MODIFIED:20170215T225948Z
UID:10044625-1540935000-1540938600@expositionpark.ca.gov
SUMMARY:Tri-Color Soccer League
DESCRIPTION:
URL:https://expositionpark.ca.gov/event/tri-color-soccer-league-2/2018-10-30/
LOCATION:EXPO Center\, 3980 Bill Robertson Lane\, Los Angeles\, CA\, 90037\, United States
GEO:34.0121136;-118.2900829
X-APPLE-STRUCTURED-LOCATION;VALUE=URI;X-ADDRESS=EXPO Center 3980 Bill Robertson Lane Los Angeles CA 90037 United States;X-APPLE-RADIUS=500;X-TITLE=3980 Bill Robertson Lane:geo:-118.2900829,34.0121136
END:VEVENT
END:VCALENDAR