BEGIN:VCALENDAR
VERSION:2.0
PRODID:-//Exposition Park - ECPv6.15.20//NONSGML v1.0//EN
CALSCALE:GREGORIAN
METHOD:PUBLISH
X-WR-CALNAME:Exposition Park
X-ORIGINAL-URL:https://expositionpark.ca.gov
X-WR-CALDESC:Events for Exposition Park
REFRESH-INTERVAL;VALUE=DURATION:PT1H
X-Robots-Tag:noindex
X-PUBLISHED-TTL:PT1H
BEGIN:VTIMEZONE
TZID:America/Los_Angeles
BEGIN:DAYLIGHT
TZOFFSETFROM:-0800
TZOFFSETTO:-0700
TZNAME:PDT
DTSTART:20170312T100000
END:DAYLIGHT
BEGIN:STANDARD
TZOFFSETFROM:-0700
TZOFFSETTO:-0800
TZNAME:PST
DTSTART:20171105T090000
END:STANDARD
BEGIN:DAYLIGHT
TZOFFSETFROM:-0800
TZOFFSETTO:-0700
TZNAME:PDT
DTSTART:20180311T100000
END:DAYLIGHT
BEGIN:STANDARD
TZOFFSETFROM:-0700
TZOFFSETTO:-0800
TZNAME:PST
DTSTART:20181104T090000
END:STANDARD
BEGIN:DAYLIGHT
TZOFFSETFROM:-0800
TZOFFSETTO:-0700
TZNAME:PDT
DTSTART:20190310T100000
END:DAYLIGHT
BEGIN:STANDARD
TZOFFSETFROM:-0700
TZOFFSETTO:-0800
TZNAME:PST
DTSTART:20191103T090000
END:STANDARD
END:VTIMEZONE
BEGIN:VEVENT
DTSTART;TZID=America/Los_Angeles:20181102T080000
DTEND;TZID=America/Los_Angeles:20181102T170000
DTSTAMP:20260421T194857
CREATED:20170215T230439Z
LAST-MODIFIED:20170215T230439Z
UID:10046691-1541145600-1541178000@expositionpark.ca.gov
SUMMARY:San Pedro Soccer League
DESCRIPTION:
URL:https://expositionpark.ca.gov/event/san-pedro-soccer-league-3/2018-11-02/
LOCATION:EXPO Center\, 3980 Bill Robertson Lane\, Los Angeles\, CA\, 90037\, United States
GEO:34.0121136;-118.2900829
X-APPLE-STRUCTURED-LOCATION;VALUE=URI;X-ADDRESS=EXPO Center 3980 Bill Robertson Lane Los Angeles CA 90037 United States;X-APPLE-RADIUS=500;X-TITLE=3980 Bill Robertson Lane:geo:-118.2900829,34.0121136
END:VEVENT
BEGIN:VEVENT
DTSTART;TZID=America/Los_Angeles:20181102T130000
DTEND;TZID=America/Los_Angeles:20181102T140000
DTSTAMP:20260421T194857
CREATED:20180913T223847Z
LAST-MODIFIED:20180913T223847Z
UID:10050852-1541163600-1541167200@expositionpark.ca.gov
SUMMARY:CAAM Curatorial Walkthrough
DESCRIPTION:Friday\, November 2\, 2018 | 1:00 – 2:00 p.m. \nCuratorial Walkthrough: Los Angeles Freedom Rally\, 1963 \nEnjoy an afternoon tour of Los Angeles Freedom Rally\, 1963 with CAAM history curators Tyree Boyd-Pates and Taylor Bythewood-Porter as they examine one of the largest civil rights rallies in the country\, led by Martin Luther King Jr. at Wrigley Field in South Los Angeles.
URL:https://expositionpark.ca.gov/event/caam-curatorial-walkthrough-2/
LOCATION:CA\, United States
END:VEVENT
BEGIN:VEVENT
DTSTART;TZID=America/Los_Angeles:20181102T170000
DTEND;TZID=America/Los_Angeles:20181102T210000
DTSTAMP:20260421T194857
CREATED:20181024T000757Z
LAST-MODIFIED:20181024T000757Z
UID:10050991-1541178000-1541192400@expositionpark.ca.gov
SUMMARY:Jardín de Recuerdos\, Garden of Memories | A Day of the Dead Celebration at the Natural History Museum
DESCRIPTION:Join us in the Nature Garden as we celebrate nature and the traditions around Day of Dead in Jardín de Recuerdos\, Garden of Memories. Day of the Dead is a cultural tradition celebrated in Mexico and throughout Latin America in which people remember loved ones who have passed in a celebration of life.  Enjoy an evening of folkloric dances\, sweet treats\, art activities\, and more. \nGuests are invited to participate in a community ofrenda by sharing images or objects of loved ones and places\, constructed by master altarista Ofelia Esparza\, and her daughter\, artist Rosanna Esparza Ahrens. Guests can also see the altar built in honor of the rich cultures that make up Los Angeles titled El Pueblo de Nuestra Senora la Reina de Los Ángeles\, in the Becoming Los Angeles exhibition.  This family friendly celebration will take place from 5-9pm on November 2 and is free of charge with pre-registration. Walk ups welcome\, pre-registration is encouraged.
URL:https://expositionpark.ca.gov/event/jardin-de-recuerdos-garden-of-memories-a-day-of-the-dead-celebration-at-the-natural-history-museum/
LOCATION:Natural History Museum of Los Angeles County\, 900 Exposition Blvd.\, Los Angeles\, CA\, 90007\, United States
ORGANIZER;CN="Marisol Jara":MAILTO:vvobis@nhm.org
GEO:34.0170769;-118.2886818
X-APPLE-STRUCTURED-LOCATION;VALUE=URI;X-ADDRESS=Natural History Museum of Los Angeles County 900 Exposition Blvd. Los Angeles CA 90007 United States;X-APPLE-RADIUS=500;X-TITLE=900 Exposition Blvd.:geo:-118.2886818,34.0170769
END:VEVENT
BEGIN:VEVENT
DTSTART;TZID=America/Los_Angeles:20181102T180000
DTEND;TZID=America/Los_Angeles:20181102T210000
DTSTAMP:20260421T194857
CREATED:20170214T222616Z
LAST-MODIFIED:20170214T222616Z
UID:10048687-1541181600-1541192400@expositionpark.ca.gov
SUMMARY:EXPO Soccer Clinic
DESCRIPTION:
URL:https://expositionpark.ca.gov/event/expo-soccer-clinic/2018-11-02/
LOCATION:EXPO Center\, 3980 Bill Robertson Lane\, Los Angeles\, CA\, 90037\, United States
GEO:34.0121136;-118.2900829
X-APPLE-STRUCTURED-LOCATION;VALUE=URI;X-ADDRESS=EXPO Center 3980 Bill Robertson Lane Los Angeles CA 90037 United States;X-APPLE-RADIUS=500;X-TITLE=3980 Bill Robertson Lane:geo:-118.2900829,34.0121136
END:VEVENT
END:VCALENDAR