BEGIN:VCALENDAR
VERSION:2.0
PRODID:-//Exposition Park - ECPv6.15.20//NONSGML v1.0//EN
CALSCALE:GREGORIAN
METHOD:PUBLISH
X-ORIGINAL-URL:https://expositionpark.ca.gov
X-WR-CALDESC:Events for Exposition Park
REFRESH-INTERVAL;VALUE=DURATION:PT1H
X-Robots-Tag:noindex
X-PUBLISHED-TTL:PT1H
BEGIN:VTIMEZONE
TZID:America/Los_Angeles
BEGIN:DAYLIGHT
TZOFFSETFROM:-0800
TZOFFSETTO:-0700
TZNAME:PDT
DTSTART:20170312T100000
END:DAYLIGHT
BEGIN:STANDARD
TZOFFSETFROM:-0700
TZOFFSETTO:-0800
TZNAME:PST
DTSTART:20171105T090000
END:STANDARD
BEGIN:DAYLIGHT
TZOFFSETFROM:-0800
TZOFFSETTO:-0700
TZNAME:PDT
DTSTART:20180311T100000
END:DAYLIGHT
BEGIN:STANDARD
TZOFFSETFROM:-0700
TZOFFSETTO:-0800
TZNAME:PST
DTSTART:20181104T090000
END:STANDARD
BEGIN:DAYLIGHT
TZOFFSETFROM:-0800
TZOFFSETTO:-0700
TZNAME:PDT
DTSTART:20190310T100000
END:DAYLIGHT
BEGIN:STANDARD
TZOFFSETFROM:-0700
TZOFFSETTO:-0800
TZNAME:PST
DTSTART:20191103T090000
END:STANDARD
END:VTIMEZONE
BEGIN:VEVENT
DTSTART;VALUE=DATE:20181103
DTEND;VALUE=DATE:20181105
DTSTAMP:20260422T045303
CREATED:20180109T000009Z
LAST-MODIFIED:20181029T201704Z
UID:10050616-1541203200-1541375999@expositionpark.ca.gov
SUMMARY:Walk to Defeat ALS
DESCRIPTION:Walk to Defeat ALS : South Lawn West or Christmas Tree Lane (pending MLS playoff information) \nLoad-In – Friday\, November 3rd @ 4pm \nWalk: Sunday\, November 4th\nEvent: 9am to 1pm
URL:https://expositionpark.ca.gov/event/walk-to-defeat-als-date-is-tbd/
LOCATION:South Lawn West
END:VEVENT
BEGIN:VEVENT
DTSTART;TZID=America/Los_Angeles:20181103T163000
DTEND;TZID=America/Los_Angeles:20181103T233000
DTSTAMP:20260422T045303
CREATED:20180126T232451Z
LAST-MODIFIED:20180208T202901Z
UID:10051665-1541262600-1541287800@expositionpark.ca.gov
SUMMARY:Private Event
DESCRIPTION:
URL:https://expositionpark.ca.gov/event/private-event-107/
LOCATION:Natural History Museum of Los Angeles County\, 900 Exposition Blvd.\, Los Angeles\, CA\, 90007\, United States
GEO:34.0170769;-118.2886818
X-APPLE-STRUCTURED-LOCATION;VALUE=URI;X-ADDRESS=Natural History Museum of Los Angeles County 900 Exposition Blvd. Los Angeles CA 90007 United States;X-APPLE-RADIUS=500;X-TITLE=900 Exposition Blvd.:geo:-118.2886818,34.0170769
END:VEVENT
BEGIN:VEVENT
DTSTART;TZID=America/Los_Angeles:20181103T170000
DTEND;TZID=America/Los_Angeles:20181103T220000
DTSTAMP:20260422T045303
CREATED:20181015T225546Z
LAST-MODIFIED:20181015T225546Z
UID:10052379-1541264400-1541282400@expositionpark.ca.gov
SUMMARY:Lion Fight 50
DESCRIPTION:Lion Fight Promotions\, a worldwide leader in Muay Thai combat\, makes its hugely anticipated return to California with the biggest show in its history. \nSet for Saturday\, November 3rd\, Lion Fight 50 is a landmark event on a number of special fronts. It will be Lion Fight’s first event held at the spectacular L.A. Memorial Coliseum\, the home of the USC Trojans and Los Angeles Rams. Tickets for Lion Fight 50 go on sale now at Ticketmaster and the Coliseum Box Office at gate 29. \nThis event also marks Lion Fight’s first show with its new television partner\, CBS Sports Network. The main card of Lion Fight 50 will air immediately following the NCAA football games on Nov. 3 with future events to air live and on same-day delay. \nLion Fight’s new “Presented By” partnership with Hollywood Park Casino made this event possible. \nThree bouts have been named to the main-card lineup for Lion Fight 50\, topped by the return of the organization’s most recognizable and dominant champions as Regian “The Immortal” Eersel defends his Lion Fight World Super Middleweight Title. \nEersel (49-4) has wrecked each opponent he has faced inside the Lion Fight ring\, beginning with his stunning fourth-round head-kick knockout of two-division champion Jo Nattawut in a non-title bout. The Suriname-born Dutch star followed that victory with three consecutive demolitions\, claiming the 168-pound division crown with a second-round destruction of England’s Jake Purdy\, then notching his first successful title defense with an opening-round finish against Bahamian D.C. Pratt. Most recently under the Lion Fight banner\, Eersel then erased the memories of last loss by avenging it with a fourth-round dismantling of Czech Matous Kohout. \nTwo other bouts set for LF50 \nA pair of unbeaten young lions will vie for the organization’s inaugural North American Lightweight Title as Jordan Harris (4-0) of Palmdale\, California\, is set to take on Josh Scales (3-0) of Austin\, Texas. \nIn a welterweight clash\, bragging rights will be up for grabs as two Los Angeles-area fan favorites square off. Josh Aragon (13-4)\, most recently seen representing Lion Fight at an event in England\, returns home to face rival Brian Del Rosario (6-2). \nMore main-card matchups\, including Eersel’s championship bout opponent along with bouts featuring Long Beach’s Kana Hyatt and the return of Chris Trammel\, will be announced very soon. The Lion Fight 50 preliminary bouts are highlighted by several of California’s top amateur standouts with those matchups being announced shortly as well. \nPlease visit LIONFIGHT.com for news\, information and event updates\, and follow on Twitter @LIONFIGHT and @LionFightMuayThaiPromotions on Instagram.
URL:https://expositionpark.ca.gov/event/lion-fight-50/
LOCATION:Los Angeles Memorial Coliseum\, 3911 S. Figueroa St.\, Los Angeles\, CA\, CA\, 90037\, United States
GEO:34.0128523;-118.2845395
X-APPLE-STRUCTURED-LOCATION;VALUE=URI;X-ADDRESS=Los Angeles Memorial Coliseum 3911 S. Figueroa St. Los Angeles CA CA 90037 United States;X-APPLE-RADIUS=500;X-TITLE=3911 S. Figueroa St.:geo:-118.2845395,34.0128523
END:VEVENT
END:VCALENDAR