BEGIN:VCALENDAR
VERSION:2.0
PRODID:-//Exposition Park - ECPv6.15.20//NONSGML v1.0//EN
CALSCALE:GREGORIAN
METHOD:PUBLISH
X-ORIGINAL-URL:https://expositionpark.ca.gov
X-WR-CALDESC:Events for Exposition Park
REFRESH-INTERVAL;VALUE=DURATION:PT1H
X-Robots-Tag:noindex
X-PUBLISHED-TTL:PT1H
BEGIN:VTIMEZONE
TZID:America/Los_Angeles
BEGIN:DAYLIGHT
TZOFFSETFROM:-0800
TZOFFSETTO:-0700
TZNAME:PDT
DTSTART:20170312T100000
END:DAYLIGHT
BEGIN:STANDARD
TZOFFSETFROM:-0700
TZOFFSETTO:-0800
TZNAME:PST
DTSTART:20171105T090000
END:STANDARD
BEGIN:DAYLIGHT
TZOFFSETFROM:-0800
TZOFFSETTO:-0700
TZNAME:PDT
DTSTART:20180311T100000
END:DAYLIGHT
BEGIN:STANDARD
TZOFFSETFROM:-0700
TZOFFSETTO:-0800
TZNAME:PST
DTSTART:20181104T090000
END:STANDARD
BEGIN:DAYLIGHT
TZOFFSETFROM:-0800
TZOFFSETTO:-0700
TZNAME:PDT
DTSTART:20190310T100000
END:DAYLIGHT
BEGIN:STANDARD
TZOFFSETFROM:-0700
TZOFFSETTO:-0800
TZNAME:PST
DTSTART:20191103T090000
END:STANDARD
END:VTIMEZONE
BEGIN:VEVENT
DTSTART;TZID=America/Los_Angeles:20181107T070000
DTEND;TZID=America/Los_Angeles:20181107T220000
DTSTAMP:20260421T043257
CREATED:20180928T181155Z
LAST-MODIFIED:20180928T181155Z
UID:10052356-1541574000-1541628000@expositionpark.ca.gov
SUMMARY:Private Event
DESCRIPTION:
URL:https://expositionpark.ca.gov/event/private-event-140/
LOCATION:CA
END:VEVENT
BEGIN:VEVENT
DTSTART;TZID=America/Los_Angeles:20181107T080000
DTEND;TZID=America/Los_Angeles:20181107T170000
DTSTAMP:20260421T043257
CREATED:20170215T230401Z
LAST-MODIFIED:20170215T230401Z
UID:10046261-1541577600-1541610000@expositionpark.ca.gov
SUMMARY:New Star
DESCRIPTION:
URL:https://expositionpark.ca.gov/event/new-star/2018-11-07/
LOCATION:EXPO Center\, 3980 Bill Robertson Lane\, Los Angeles\, CA\, 90037\, United States
GEO:34.0121136;-118.2900829
X-APPLE-STRUCTURED-LOCATION;VALUE=URI;X-ADDRESS=EXPO Center 3980 Bill Robertson Lane Los Angeles CA 90037 United States;X-APPLE-RADIUS=500;X-TITLE=3980 Bill Robertson Lane:geo:-118.2900829,34.0121136
END:VEVENT
BEGIN:VEVENT
DTSTART;TZID=America/Los_Angeles:20181107T180000
DTEND;TZID=America/Los_Angeles:20181107T210000
DTSTAMP:20260421T043257
CREATED:20170214T222616Z
LAST-MODIFIED:20170214T222616Z
UID:10048689-1541613600-1541624400@expositionpark.ca.gov
SUMMARY:EXPO Soccer Clinic
DESCRIPTION:
URL:https://expositionpark.ca.gov/event/expo-soccer-clinic/2018-11-07/
LOCATION:EXPO Center\, 3980 Bill Robertson Lane\, Los Angeles\, CA\, 90037\, United States
GEO:34.0121136;-118.2900829
X-APPLE-STRUCTURED-LOCATION;VALUE=URI;X-ADDRESS=EXPO Center 3980 Bill Robertson Lane Los Angeles CA 90037 United States;X-APPLE-RADIUS=500;X-TITLE=3980 Bill Robertson Lane:geo:-118.2900829,34.0121136
END:VEVENT
BEGIN:VEVENT
DTSTART;TZID=America/Los_Angeles:20181107T183000
DTEND;TZID=America/Los_Angeles:20181107T210000
DTSTAMP:20260421T043257
CREATED:20180913T233249Z
LAST-MODIFIED:20180913T233249Z
UID:10052321-1541615400-1541624400@expositionpark.ca.gov
SUMMARY:Private Event
DESCRIPTION:
URL:https://expositionpark.ca.gov/event/private-event-134/
LOCATION:CSC – Samuel Oschin Pavilion
END:VEVENT
END:VCALENDAR