BEGIN:VCALENDAR
VERSION:2.0
PRODID:-//Exposition Park - ECPv6.15.20//NONSGML v1.0//EN
CALSCALE:GREGORIAN
METHOD:PUBLISH
X-ORIGINAL-URL:https://expositionpark.ca.gov
X-WR-CALDESC:Events for Exposition Park
REFRESH-INTERVAL;VALUE=DURATION:PT1H
X-Robots-Tag:noindex
X-PUBLISHED-TTL:PT1H
BEGIN:VTIMEZONE
TZID:America/Los_Angeles
BEGIN:DAYLIGHT
TZOFFSETFROM:-0800
TZOFFSETTO:-0700
TZNAME:PDT
DTSTART:20170312T100000
END:DAYLIGHT
BEGIN:STANDARD
TZOFFSETFROM:-0700
TZOFFSETTO:-0800
TZNAME:PST
DTSTART:20171105T090000
END:STANDARD
BEGIN:DAYLIGHT
TZOFFSETFROM:-0800
TZOFFSETTO:-0700
TZNAME:PDT
DTSTART:20180311T100000
END:DAYLIGHT
BEGIN:STANDARD
TZOFFSETFROM:-0700
TZOFFSETTO:-0800
TZNAME:PST
DTSTART:20181104T090000
END:STANDARD
BEGIN:DAYLIGHT
TZOFFSETFROM:-0800
TZOFFSETTO:-0700
TZNAME:PDT
DTSTART:20190310T100000
END:DAYLIGHT
BEGIN:STANDARD
TZOFFSETFROM:-0700
TZOFFSETTO:-0800
TZNAME:PST
DTSTART:20191103T090000
END:STANDARD
END:VTIMEZONE
BEGIN:VEVENT
DTSTART;VALUE=DATE:20181110
DTEND;VALUE=DATE:20181111
DTSTAMP:20260422T235806
CREATED:20171127T232251Z
LAST-MODIFIED:20171127T232251Z
UID:10050576-1541808000-1541894399@expositionpark.ca.gov
SUMMARY:California vs USC
DESCRIPTION:
URL:https://expositionpark.ca.gov/event/california-vs-usc/
LOCATION:Los Angeles Memorial Coliseum\, 3911 S. Figueroa St.\, Los Angeles\, CA\, CA\, 90037\, United States
GEO:34.0128523;-118.2845395
X-APPLE-STRUCTURED-LOCATION;VALUE=URI;X-ADDRESS=Los Angeles Memorial Coliseum 3911 S. Figueroa St. Los Angeles CA CA 90037 United States;X-APPLE-RADIUS=500;X-TITLE=3911 S. Figueroa St.:geo:-118.2845395,34.0128523
END:VEVENT
BEGIN:VEVENT
DTSTART;VALUE=DATE:20181110
DTEND;VALUE=DATE:20181111
DTSTAMP:20260422T235806
CREATED:20180730T180719Z
LAST-MODIFIED:20180806T183301Z
UID:10050810-1541808000-1541894399@expositionpark.ca.gov
SUMMARY:USC Athletics Tailgate (USC vs. CAL Berkeley game)
DESCRIPTION:South Lawn East (east half) \nLoad-In: TBD
URL:https://expositionpark.ca.gov/event/usc-fan-fest-usc-vs-cal-berkeley-game/
LOCATION:South Lawn East (1/2 east)
END:VEVENT
BEGIN:VEVENT
DTSTART;VALUE=DATE:20181110
DTEND;VALUE=DATE:20181111
DTSTAMP:20260422T235806
CREATED:20180806T224510Z
LAST-MODIFIED:20180806T224510Z
UID:10052221-1541808000-1541894399@expositionpark.ca.gov
SUMMARY:USC Fan Fest - USC vs. California
DESCRIPTION:Christmas Tree Lane East and West \nLoad-In: TBD
URL:https://expositionpark.ca.gov/event/usc-fan-fest-usc-vs-california/
LOCATION:CA
END:VEVENT
BEGIN:VEVENT
DTSTART;VALUE=DATE:20181110
DTEND;VALUE=DATE:20181111
DTSTAMP:20260422T235806
CREATED:20180806T232617Z
LAST-MODIFIED:20180806T232617Z
UID:10052233-1541808000-1541894399@expositionpark.ca.gov
SUMMARY:TKE Tailgate - USC vs. California
DESCRIPTION:Expo Lawn East (West Half)
URL:https://expositionpark.ca.gov/event/tke-tailgate-usc-vs-california/
LOCATION:Expo Lawn East (West Half)\, CA\, United States
GEO:36.778261;-119.4179324
END:VEVENT
BEGIN:VEVENT
DTSTART;VALUE=DATE:20181110
DTEND;VALUE=DATE:20181111
DTSTAMP:20260422T235806
CREATED:20181001T211043Z
LAST-MODIFIED:20181001T211043Z
UID:10052363-1541808000-1541894399@expositionpark.ca.gov
SUMMARY:Private Event
DESCRIPTION:
URL:https://expositionpark.ca.gov/event/private-event-142/
LOCATION:Wallis Annenberg Building
END:VEVENT
END:VCALENDAR